BEGIN:VCALENDAR
VERSION:2.0
PRODID:-//auxpunks - ECPv6.15.11//NONSGML v1.0//EN
CALSCALE:GREGORIAN
METHOD:PUBLISH
X-ORIGINAL-URL:https://auxpunks.uber.space
X-WR-CALDESC:Veranstaltungen für auxpunks
REFRESH-INTERVAL;VALUE=DURATION:PT1H
X-Robots-Tag:noindex
X-PUBLISHED-TTL:PT1H
BEGIN:VTIMEZONE
TZID:Europe/Berlin
BEGIN:DAYLIGHT
TZOFFSETFROM:+0100
TZOFFSETTO:+0200
TZNAME:CEST
DTSTART:20280326T010000
END:DAYLIGHT
BEGIN:STANDARD
TZOFFSETFROM:+0200
TZOFFSETTO:+0100
TZNAME:CET
DTSTART:20281029T010000
END:STANDARD
BEGIN:DAYLIGHT
TZOFFSETFROM:+0100
TZOFFSETTO:+0200
TZNAME:CEST
DTSTART:20290325T010000
END:DAYLIGHT
BEGIN:STANDARD
TZOFFSETFROM:+0200
TZOFFSETTO:+0100
TZNAME:CET
DTSTART:20291028T010000
END:STANDARD
BEGIN:DAYLIGHT
TZOFFSETFROM:+0100
TZOFFSETTO:+0200
TZNAME:CEST
DTSTART:20300331T010000
END:DAYLIGHT
BEGIN:STANDARD
TZOFFSETFROM:+0200
TZOFFSETTO:+0100
TZNAME:CET
DTSTART:20301027T010000
END:STANDARD
BEGIN:DAYLIGHT
TZOFFSETFROM:+0100
TZOFFSETTO:+0200
TZNAME:CEST
DTSTART:20310330T010000
END:DAYLIGHT
BEGIN:STANDARD
TZOFFSETFROM:+0200
TZOFFSETTO:+0100
TZNAME:CET
DTSTART:20311026T010000
END:STANDARD
BEGIN:DAYLIGHT
TZOFFSETFROM:+0100
TZOFFSETTO:+0200
TZNAME:CEST
DTSTART:20320328T010000
END:DAYLIGHT
BEGIN:STANDARD
TZOFFSETFROM:+0200
TZOFFSETTO:+0100
TZNAME:CET
DTSTART:20321031T010000
END:STANDARD
END:VTIMEZONE
BEGIN:VEVENT
DTSTART;TZID=Europe/Berlin:20290908T123000
DTEND;TZID=Europe/Berlin:20290908T173000
DTSTAMP:20260420T223529
CREATED:20260312T142219Z
LAST-MODIFIED:20260312T142221Z
UID:10016676-1883565000-1883583000@auxpunks.uber.space
SUMMARY:PRÜF-Demos für Prüfung des AfD-Verbots
DESCRIPTION:Jeden Monat. Immer am zweiten Samstag allen Landeshauptstädten:\nin München jeweils um 14:00 Uhr am Geschwister-Scholl-Platz \nEs gibt eine gemeinsame Anreise aus Augsburg mit dem RE9 um 12:38 Uhr
URL:https://auxpunks.uber.space/event/pruef-demos-fuer-pruefung-des-afd-verbots/2029-09-08/
LOCATION:Augsburg Hauptbahnhof
CATEGORIES:Demos & Aktionen
ATTACH;FMTTYPE=image/jpeg:https://auxpunks.uber.space/wp-content/uploads/2026/03/PruefDemosMuenchen2026Sharepic.jpeg
END:VEVENT
BEGIN:VEVENT
DTSTART;TZID=Europe/Berlin:20291013T123000
DTEND;TZID=Europe/Berlin:20291013T173000
DTSTAMP:20260420T223529
CREATED:20260312T142219Z
LAST-MODIFIED:20260312T142221Z
UID:10016677-1886589000-1886607000@auxpunks.uber.space
SUMMARY:PRÜF-Demos für Prüfung des AfD-Verbots
DESCRIPTION:Jeden Monat. Immer am zweiten Samstag allen Landeshauptstädten:\nin München jeweils um 14:00 Uhr am Geschwister-Scholl-Platz \nEs gibt eine gemeinsame Anreise aus Augsburg mit dem RE9 um 12:38 Uhr
URL:https://auxpunks.uber.space/event/pruef-demos-fuer-pruefung-des-afd-verbots/2029-10-13/
LOCATION:Augsburg Hauptbahnhof
CATEGORIES:Demos & Aktionen
ATTACH;FMTTYPE=image/jpeg:https://auxpunks.uber.space/wp-content/uploads/2026/03/PruefDemosMuenchen2026Sharepic.jpeg
END:VEVENT
BEGIN:VEVENT
DTSTART;TZID=Europe/Berlin:20291110T123000
DTEND;TZID=Europe/Berlin:20291110T173000
DTSTAMP:20260420T223529
CREATED:20260312T142219Z
LAST-MODIFIED:20260312T142221Z
UID:10016678-1889008200-1889026200@auxpunks.uber.space
SUMMARY:PRÜF-Demos für Prüfung des AfD-Verbots
DESCRIPTION:Jeden Monat. Immer am zweiten Samstag allen Landeshauptstädten:\nin München jeweils um 14:00 Uhr am Geschwister-Scholl-Platz \nEs gibt eine gemeinsame Anreise aus Augsburg mit dem RE9 um 12:38 Uhr
URL:https://auxpunks.uber.space/event/pruef-demos-fuer-pruefung-des-afd-verbots/2029-11-10/
LOCATION:Augsburg Hauptbahnhof
CATEGORIES:Demos & Aktionen
ATTACH;FMTTYPE=image/jpeg:https://auxpunks.uber.space/wp-content/uploads/2026/03/PruefDemosMuenchen2026Sharepic.jpeg
END:VEVENT
BEGIN:VEVENT
DTSTART;TZID=Europe/Berlin:20291208T123000
DTEND;TZID=Europe/Berlin:20291208T173000
DTSTAMP:20260420T223529
CREATED:20260312T142219Z
LAST-MODIFIED:20260312T142221Z
UID:10016679-1891427400-1891445400@auxpunks.uber.space
SUMMARY:PRÜF-Demos für Prüfung des AfD-Verbots
DESCRIPTION:Jeden Monat. Immer am zweiten Samstag allen Landeshauptstädten:\nin München jeweils um 14:00 Uhr am Geschwister-Scholl-Platz \nEs gibt eine gemeinsame Anreise aus Augsburg mit dem RE9 um 12:38 Uhr
URL:https://auxpunks.uber.space/event/pruef-demos-fuer-pruefung-des-afd-verbots/2029-12-08/
LOCATION:Augsburg Hauptbahnhof
CATEGORIES:Demos & Aktionen
ATTACH;FMTTYPE=image/jpeg:https://auxpunks.uber.space/wp-content/uploads/2026/03/PruefDemosMuenchen2026Sharepic.jpeg
END:VEVENT
BEGIN:VEVENT
DTSTART;TZID=Europe/Berlin:20300112T123000
DTEND;TZID=Europe/Berlin:20300112T173000
DTSTAMP:20260420T223529
CREATED:20260312T142219Z
LAST-MODIFIED:20260312T142221Z
UID:10016680-1894451400-1894469400@auxpunks.uber.space
SUMMARY:PRÜF-Demos für Prüfung des AfD-Verbots
DESCRIPTION:Jeden Monat. Immer am zweiten Samstag allen Landeshauptstädten:\nin München jeweils um 14:00 Uhr am Geschwister-Scholl-Platz \nEs gibt eine gemeinsame Anreise aus Augsburg mit dem RE9 um 12:38 Uhr
URL:https://auxpunks.uber.space/event/pruef-demos-fuer-pruefung-des-afd-verbots/2030-01-12/
LOCATION:Augsburg Hauptbahnhof
CATEGORIES:Demos & Aktionen
ATTACH;FMTTYPE=image/jpeg:https://auxpunks.uber.space/wp-content/uploads/2026/03/PruefDemosMuenchen2026Sharepic.jpeg
END:VEVENT
BEGIN:VEVENT
DTSTART;TZID=Europe/Berlin:20300209T123000
DTEND;TZID=Europe/Berlin:20300209T173000
DTSTAMP:20260420T223529
CREATED:20260312T142219Z
LAST-MODIFIED:20260312T142221Z
UID:10016681-1896870600-1896888600@auxpunks.uber.space
SUMMARY:PRÜF-Demos für Prüfung des AfD-Verbots
DESCRIPTION:Jeden Monat. Immer am zweiten Samstag allen Landeshauptstädten:\nin München jeweils um 14:00 Uhr am Geschwister-Scholl-Platz \nEs gibt eine gemeinsame Anreise aus Augsburg mit dem RE9 um 12:38 Uhr
URL:https://auxpunks.uber.space/event/pruef-demos-fuer-pruefung-des-afd-verbots/2030-02-09/
LOCATION:Augsburg Hauptbahnhof
CATEGORIES:Demos & Aktionen
ATTACH;FMTTYPE=image/jpeg:https://auxpunks.uber.space/wp-content/uploads/2026/03/PruefDemosMuenchen2026Sharepic.jpeg
END:VEVENT
BEGIN:VEVENT
DTSTART;TZID=Europe/Berlin:20300309T123000
DTEND;TZID=Europe/Berlin:20300309T173000
DTSTAMP:20260420T223530
CREATED:20260312T142219Z
LAST-MODIFIED:20260312T142221Z
UID:10016682-1899289800-1899307800@auxpunks.uber.space
SUMMARY:PRÜF-Demos für Prüfung des AfD-Verbots
DESCRIPTION:Jeden Monat. Immer am zweiten Samstag allen Landeshauptstädten:\nin München jeweils um 14:00 Uhr am Geschwister-Scholl-Platz \nEs gibt eine gemeinsame Anreise aus Augsburg mit dem RE9 um 12:38 Uhr
URL:https://auxpunks.uber.space/event/pruef-demos-fuer-pruefung-des-afd-verbots/2030-03-09/
LOCATION:Augsburg Hauptbahnhof
CATEGORIES:Demos & Aktionen
ATTACH;FMTTYPE=image/jpeg:https://auxpunks.uber.space/wp-content/uploads/2026/03/PruefDemosMuenchen2026Sharepic.jpeg
END:VEVENT
BEGIN:VEVENT
DTSTART;TZID=Europe/Berlin:20300413T123000
DTEND;TZID=Europe/Berlin:20300413T173000
DTSTAMP:20260420T223530
CREATED:20260312T142219Z
LAST-MODIFIED:20260312T142221Z
UID:10016683-1902313800-1902331800@auxpunks.uber.space
SUMMARY:PRÜF-Demos für Prüfung des AfD-Verbots
DESCRIPTION:Jeden Monat. Immer am zweiten Samstag allen Landeshauptstädten:\nin München jeweils um 14:00 Uhr am Geschwister-Scholl-Platz \nEs gibt eine gemeinsame Anreise aus Augsburg mit dem RE9 um 12:38 Uhr
URL:https://auxpunks.uber.space/event/pruef-demos-fuer-pruefung-des-afd-verbots/2030-04-13/
LOCATION:Augsburg Hauptbahnhof
CATEGORIES:Demos & Aktionen
ATTACH;FMTTYPE=image/jpeg:https://auxpunks.uber.space/wp-content/uploads/2026/03/PruefDemosMuenchen2026Sharepic.jpeg
END:VEVENT
BEGIN:VEVENT
DTSTART;TZID=Europe/Berlin:20300511T123000
DTEND;TZID=Europe/Berlin:20300511T173000
DTSTAMP:20260420T223530
CREATED:20260312T142219Z
LAST-MODIFIED:20260312T142221Z
UID:10016684-1904733000-1904751000@auxpunks.uber.space
SUMMARY:PRÜF-Demos für Prüfung des AfD-Verbots
DESCRIPTION:Jeden Monat. Immer am zweiten Samstag allen Landeshauptstädten:\nin München jeweils um 14:00 Uhr am Geschwister-Scholl-Platz \nEs gibt eine gemeinsame Anreise aus Augsburg mit dem RE9 um 12:38 Uhr
URL:https://auxpunks.uber.space/event/pruef-demos-fuer-pruefung-des-afd-verbots/2030-05-11/
LOCATION:Augsburg Hauptbahnhof
CATEGORIES:Demos & Aktionen
ATTACH;FMTTYPE=image/jpeg:https://auxpunks.uber.space/wp-content/uploads/2026/03/PruefDemosMuenchen2026Sharepic.jpeg
END:VEVENT
BEGIN:VEVENT
DTSTART;TZID=Europe/Berlin:20300608T123000
DTEND;TZID=Europe/Berlin:20300608T173000
DTSTAMP:20260420T223530
CREATED:20260312T142219Z
LAST-MODIFIED:20260312T142221Z
UID:10016685-1907152200-1907170200@auxpunks.uber.space
SUMMARY:PRÜF-Demos für Prüfung des AfD-Verbots
DESCRIPTION:Jeden Monat. Immer am zweiten Samstag allen Landeshauptstädten:\nin München jeweils um 14:00 Uhr am Geschwister-Scholl-Platz \nEs gibt eine gemeinsame Anreise aus Augsburg mit dem RE9 um 12:38 Uhr
URL:https://auxpunks.uber.space/event/pruef-demos-fuer-pruefung-des-afd-verbots/2030-06-08/
LOCATION:Augsburg Hauptbahnhof
CATEGORIES:Demos & Aktionen
ATTACH;FMTTYPE=image/jpeg:https://auxpunks.uber.space/wp-content/uploads/2026/03/PruefDemosMuenchen2026Sharepic.jpeg
END:VEVENT
BEGIN:VEVENT
DTSTART;TZID=Europe/Berlin:20300713T123000
DTEND;TZID=Europe/Berlin:20300713T173000
DTSTAMP:20260420T223530
CREATED:20260312T142219Z
LAST-MODIFIED:20260312T142221Z
UID:10016686-1910176200-1910194200@auxpunks.uber.space
SUMMARY:PRÜF-Demos für Prüfung des AfD-Verbots
DESCRIPTION:Jeden Monat. Immer am zweiten Samstag allen Landeshauptstädten:\nin München jeweils um 14:00 Uhr am Geschwister-Scholl-Platz \nEs gibt eine gemeinsame Anreise aus Augsburg mit dem RE9 um 12:38 Uhr
URL:https://auxpunks.uber.space/event/pruef-demos-fuer-pruefung-des-afd-verbots/2030-07-13/
LOCATION:Augsburg Hauptbahnhof
CATEGORIES:Demos & Aktionen
ATTACH;FMTTYPE=image/jpeg:https://auxpunks.uber.space/wp-content/uploads/2026/03/PruefDemosMuenchen2026Sharepic.jpeg
END:VEVENT
BEGIN:VEVENT
DTSTART;TZID=Europe/Berlin:20300810T123000
DTEND;TZID=Europe/Berlin:20300810T173000
DTSTAMP:20260420T223530
CREATED:20260312T142219Z
LAST-MODIFIED:20260312T142221Z
UID:10016687-1912595400-1912613400@auxpunks.uber.space
SUMMARY:PRÜF-Demos für Prüfung des AfD-Verbots
DESCRIPTION:Jeden Monat. Immer am zweiten Samstag allen Landeshauptstädten:\nin München jeweils um 14:00 Uhr am Geschwister-Scholl-Platz \nEs gibt eine gemeinsame Anreise aus Augsburg mit dem RE9 um 12:38 Uhr
URL:https://auxpunks.uber.space/event/pruef-demos-fuer-pruefung-des-afd-verbots/2030-08-10/
LOCATION:Augsburg Hauptbahnhof
CATEGORIES:Demos & Aktionen
ATTACH;FMTTYPE=image/jpeg:https://auxpunks.uber.space/wp-content/uploads/2026/03/PruefDemosMuenchen2026Sharepic.jpeg
END:VEVENT
BEGIN:VEVENT
DTSTART;TZID=Europe/Berlin:20300914T123000
DTEND;TZID=Europe/Berlin:20300914T173000
DTSTAMP:20260420T223530
CREATED:20260312T142219Z
LAST-MODIFIED:20260312T142221Z
UID:10016688-1915619400-1915637400@auxpunks.uber.space
SUMMARY:PRÜF-Demos für Prüfung des AfD-Verbots
DESCRIPTION:Jeden Monat. Immer am zweiten Samstag allen Landeshauptstädten:\nin München jeweils um 14:00 Uhr am Geschwister-Scholl-Platz \nEs gibt eine gemeinsame Anreise aus Augsburg mit dem RE9 um 12:38 Uhr
URL:https://auxpunks.uber.space/event/pruef-demos-fuer-pruefung-des-afd-verbots/2030-09-14/
LOCATION:Augsburg Hauptbahnhof
CATEGORIES:Demos & Aktionen
ATTACH;FMTTYPE=image/jpeg:https://auxpunks.uber.space/wp-content/uploads/2026/03/PruefDemosMuenchen2026Sharepic.jpeg
END:VEVENT
BEGIN:VEVENT
DTSTART;TZID=Europe/Berlin:20301012T123000
DTEND;TZID=Europe/Berlin:20301012T173000
DTSTAMP:20260420T223530
CREATED:20260312T142219Z
LAST-MODIFIED:20260312T142221Z
UID:10016689-1918038600-1918056600@auxpunks.uber.space
SUMMARY:PRÜF-Demos für Prüfung des AfD-Verbots
DESCRIPTION:Jeden Monat. Immer am zweiten Samstag allen Landeshauptstädten:\nin München jeweils um 14:00 Uhr am Geschwister-Scholl-Platz \nEs gibt eine gemeinsame Anreise aus Augsburg mit dem RE9 um 12:38 Uhr
URL:https://auxpunks.uber.space/event/pruef-demos-fuer-pruefung-des-afd-verbots/2030-10-12/
LOCATION:Augsburg Hauptbahnhof
CATEGORIES:Demos & Aktionen
ATTACH;FMTTYPE=image/jpeg:https://auxpunks.uber.space/wp-content/uploads/2026/03/PruefDemosMuenchen2026Sharepic.jpeg
END:VEVENT
BEGIN:VEVENT
DTSTART;TZID=Europe/Berlin:20301109T123000
DTEND;TZID=Europe/Berlin:20301109T173000
DTSTAMP:20260420T223530
CREATED:20260312T142219Z
LAST-MODIFIED:20260312T142221Z
UID:10016690-1920457800-1920475800@auxpunks.uber.space
SUMMARY:PRÜF-Demos für Prüfung des AfD-Verbots
DESCRIPTION:Jeden Monat. Immer am zweiten Samstag allen Landeshauptstädten:\nin München jeweils um 14:00 Uhr am Geschwister-Scholl-Platz \nEs gibt eine gemeinsame Anreise aus Augsburg mit dem RE9 um 12:38 Uhr
URL:https://auxpunks.uber.space/event/pruef-demos-fuer-pruefung-des-afd-verbots/2030-11-09/
LOCATION:Augsburg Hauptbahnhof
CATEGORIES:Demos & Aktionen
ATTACH;FMTTYPE=image/jpeg:https://auxpunks.uber.space/wp-content/uploads/2026/03/PruefDemosMuenchen2026Sharepic.jpeg
END:VEVENT
BEGIN:VEVENT
DTSTART;TZID=Europe/Berlin:20301214T123000
DTEND;TZID=Europe/Berlin:20301214T173000
DTSTAMP:20260420T223530
CREATED:20260312T142219Z
LAST-MODIFIED:20260312T142221Z
UID:10016691-1923481800-1923499800@auxpunks.uber.space
SUMMARY:PRÜF-Demos für Prüfung des AfD-Verbots
DESCRIPTION:Jeden Monat. Immer am zweiten Samstag allen Landeshauptstädten:\nin München jeweils um 14:00 Uhr am Geschwister-Scholl-Platz \nEs gibt eine gemeinsame Anreise aus Augsburg mit dem RE9 um 12:38 Uhr
URL:https://auxpunks.uber.space/event/pruef-demos-fuer-pruefung-des-afd-verbots/2030-12-14/
LOCATION:Augsburg Hauptbahnhof
CATEGORIES:Demos & Aktionen
ATTACH;FMTTYPE=image/jpeg:https://auxpunks.uber.space/wp-content/uploads/2026/03/PruefDemosMuenchen2026Sharepic.jpeg
END:VEVENT
BEGIN:VEVENT
DTSTART;TZID=Europe/Berlin:20310111T123000
DTEND;TZID=Europe/Berlin:20310111T173000
DTSTAMP:20260420T223530
CREATED:20260312T142219Z
LAST-MODIFIED:20260312T142221Z
UID:10016692-1925901000-1925919000@auxpunks.uber.space
SUMMARY:PRÜF-Demos für Prüfung des AfD-Verbots
DESCRIPTION:Jeden Monat. Immer am zweiten Samstag allen Landeshauptstädten:\nin München jeweils um 14:00 Uhr am Geschwister-Scholl-Platz \nEs gibt eine gemeinsame Anreise aus Augsburg mit dem RE9 um 12:38 Uhr
URL:https://auxpunks.uber.space/event/pruef-demos-fuer-pruefung-des-afd-verbots/2031-01-11/
LOCATION:Augsburg Hauptbahnhof
CATEGORIES:Demos & Aktionen
ATTACH;FMTTYPE=image/jpeg:https://auxpunks.uber.space/wp-content/uploads/2026/03/PruefDemosMuenchen2026Sharepic.jpeg
END:VEVENT
BEGIN:VEVENT
DTSTART;TZID=Europe/Berlin:20310208T123000
DTEND;TZID=Europe/Berlin:20310208T173000
DTSTAMP:20260420T223530
CREATED:20260312T142219Z
LAST-MODIFIED:20260312T142221Z
UID:10016693-1928320200-1928338200@auxpunks.uber.space
SUMMARY:PRÜF-Demos für Prüfung des AfD-Verbots
DESCRIPTION:Jeden Monat. Immer am zweiten Samstag allen Landeshauptstädten:\nin München jeweils um 14:00 Uhr am Geschwister-Scholl-Platz \nEs gibt eine gemeinsame Anreise aus Augsburg mit dem RE9 um 12:38 Uhr
URL:https://auxpunks.uber.space/event/pruef-demos-fuer-pruefung-des-afd-verbots/2031-02-08/
LOCATION:Augsburg Hauptbahnhof
CATEGORIES:Demos & Aktionen
ATTACH;FMTTYPE=image/jpeg:https://auxpunks.uber.space/wp-content/uploads/2026/03/PruefDemosMuenchen2026Sharepic.jpeg
END:VEVENT
BEGIN:VEVENT
DTSTART;TZID=Europe/Berlin:20310308T123000
DTEND;TZID=Europe/Berlin:20310308T173000
DTSTAMP:20260420T223530
CREATED:20260312T142219Z
LAST-MODIFIED:20260312T142221Z
UID:10016694-1930739400-1930757400@auxpunks.uber.space
SUMMARY:PRÜF-Demos für Prüfung des AfD-Verbots
DESCRIPTION:Jeden Monat. Immer am zweiten Samstag allen Landeshauptstädten:\nin München jeweils um 14:00 Uhr am Geschwister-Scholl-Platz \nEs gibt eine gemeinsame Anreise aus Augsburg mit dem RE9 um 12:38 Uhr
URL:https://auxpunks.uber.space/event/pruef-demos-fuer-pruefung-des-afd-verbots/2031-03-08/
LOCATION:Augsburg Hauptbahnhof
CATEGORIES:Demos & Aktionen
ATTACH;FMTTYPE=image/jpeg:https://auxpunks.uber.space/wp-content/uploads/2026/03/PruefDemosMuenchen2026Sharepic.jpeg
END:VEVENT
END:VCALENDAR