BEGIN:VCALENDAR
VERSION:2.0
PRODID:-//auxpunks - ECPv6.15.11//NONSGML v1.0//EN
CALSCALE:GREGORIAN
METHOD:PUBLISH
X-ORIGINAL-URL:https://auxpunks.uber.space
X-WR-CALDESC:Veranstaltungen für auxpunks
REFRESH-INTERVAL;VALUE=DURATION:PT1H
X-Robots-Tag:noindex
X-PUBLISHED-TTL:PT1H
BEGIN:VTIMEZONE
TZID:Europe/Berlin
BEGIN:DAYLIGHT
TZOFFSETFROM:+0100
TZOFFSETTO:+0200
TZNAME:CEST
DTSTART:20250330T010000
END:DAYLIGHT
BEGIN:STANDARD
TZOFFSETFROM:+0200
TZOFFSETTO:+0100
TZNAME:CET
DTSTART:20251026T010000
END:STANDARD
BEGIN:DAYLIGHT
TZOFFSETFROM:+0100
TZOFFSETTO:+0200
TZNAME:CEST
DTSTART:20260329T010000
END:DAYLIGHT
BEGIN:STANDARD
TZOFFSETFROM:+0200
TZOFFSETTO:+0100
TZNAME:CET
DTSTART:20261025T010000
END:STANDARD
BEGIN:DAYLIGHT
TZOFFSETFROM:+0100
TZOFFSETTO:+0200
TZNAME:CEST
DTSTART:20270328T010000
END:DAYLIGHT
BEGIN:STANDARD
TZOFFSETFROM:+0200
TZOFFSETTO:+0100
TZNAME:CET
DTSTART:20271031T010000
END:STANDARD
END:VTIMEZONE
BEGIN:VEVENT
DTSTART;TZID=Europe/Berlin:20260228T100000
DTEND;TZID=Europe/Berlin:20260228T180000
DTSTAMP:20260423T125545
CREATED:20260123T190507Z
LAST-MODIFIED:20260123T190510Z
UID:10016069-1772272800-1772301600@auxpunks.uber.space
SUMMARY:Offene Werkstatt im Habitat
DESCRIPTION:Offene Werkstatt in Augsburg \n\n\n\nWährend der offenen Werkstatt kannst du an deinen eigenen Projekten in unseren Werkstätten arbeiten. Mehr Infos hier: https://das-habitat.de/offene-werkstatt/so-gehts
URL:https://auxpunks.uber.space/event/offene-werkstatt-im-habitat/2026-02-28/
LOCATION:Das Habitat\, Beim Glaspalast 5\, Augsburg\, Germany
END:VEVENT
BEGIN:VEVENT
DTSTART;TZID=Europe/Berlin:20260228T130000
DTEND;TZID=Europe/Berlin:20260228T180000
DTSTAMP:20260423T125545
CREATED:20260209T141238Z
LAST-MODIFIED:20260209T141239Z
UID:10016341-1772283600-1772301600@auxpunks.uber.space
SUMMARY:Aktionstag zum Feministischen Kampftag
DESCRIPTION:KEIN BOCK AUF EURE GEWALT\nFeministisch\, queer und laut. Gegen Rassismus und Militarismus.\n[English below]\n\n28. Februar: Aktionstag\nWir teilen Wissen und üben kollektive Praxis. Wir vernetzen uns und übersetzen Wut in Handlungsfähigkeit.\n\nWir haben keinen Bock mehr. Auf patriarchale\, rassistische und militarisierte Verhältnisse\, die Gewalt verharmlosen und Ungleichheit festschreiben. Auf ein System\, das Selbstbestimmung infrage stellt\, Ausgrenzung normalisiert und Menschen nach Verwertbarkeit sortiert. Feminismus heißt für uns: Befreiung gemeinsam zu denken. Feminismus ist für alle da\, ein Versprechen auf Würde\, Sicherheit und Gerechtigkeit für alle. Unsere Wut war nie still. Wir tragen sie auf die Straße. Sie setzt uns in Bewegung.\n\nFühlst du dich wütend\, müde oder ohnmächtig? Einfluss beginnt nicht da oben. Geschichte wird von Menschen gemacht\, die sich zusammentun. Kollektives Handeln ist mächtig. Lasst uns gemeinsam wirksam werden und unsere Geschichten selbst schreiben. Wir lassen uns nicht vereinzeln. Wir bleiben. Wir machen sichtbar\, dass wir den bestehenden Zustand nicht akzeptieren und übernehmen wieder gewaltfrei die Kontrolle über das\, was sagbar und machbar ist.\n\nKomm auch zur Demo am 8. März zum Feministischen Kampftag!\nWir gehen auf die Straße. Laut\, sichtbar und gemeinsam tragen wir unsere Wut durch die Stadt. Wir zeigen Solidarität\, bauen demokratischen Druck auf und nehmen uns Raum.\n\nDu bist nicht allein. Misch dich ein. Komm mit in Bewegung.\nIn harten Zeiten ist Zusammenkommen kein Luxus\, sondern notwendig. Veränderung beginnt dort\, wo Menschen den einen extra Schritt gehen.\n\nWir gehen zusammen.\n\n______________________________________________\nWE ARE FED UP WITH YOUR VIOLENCE\nFeminist\, queer\, and loud. Against racism and militarism.\n\nFebruary 28: Day of Action\nWe share knowledge and practice collective action. We network and translate anger into the ability to act.\n\nWe are fed up. Fed up with patriarchal\, racist\, and militarized conditions that trivialize violence and perpetuate inequality. Fed up with a system that questions self-determination\, normalizes exclusion\, and sorts people according to their usefulness. For us\, feminism means thinking about liberation together. Feminism is for everyone\, a promise of dignity\, safety\, and justice for all. Our anger has never been silent. We take it to the streets. It sets us in motion.\nDo you feel angry\, tired\, or powerless? Influence doesn’t start at the top. History is made by people who come together. Collective action is powerful. Let’s work together to make a difference and write our own stories. We will not be divided. We’re here to stay. We will make it clear that we do not accept the status quo and will peacefully take back control over what can be said and done.\n\nJoin the Demonstration on March 8\, the Feminist Day of Struggle as well!\nWe take to the streets. Loud\, visible\, and together\, we carry our anger through the city. We show solidarity\, build democratic pressure\, and take up space.\n\nYou are not alone. Get involved. Join the movement.\nIn difficult times\, coming together is not a luxury\, but a necessity. Change begins when people take that extra step.\n\nWe walk together.\n\nFor further translations visit our instagram: @queerfem.buendnis_aux
URL:https://auxpunks.uber.space/event/aktionstag-zum-feministischen-kampftag/
LOCATION:Rathausplatz (Augsburg)
CATEGORIES:Demos & Aktionen
ATTACH;FMTTYPE=image/png:https://auxpunks.uber.space/wp-content/uploads/2026/02/8M2026-Insta-Post-1-scaled.png
ORGANIZER;CN="Queerfeministisches B%C3%BCndnis Augsburg":MAILTO:queerfem_buendnis@tutamail.com
END:VEVENT
BEGIN:VEVENT
DTSTART;TZID=Europe/Berlin:20260228T140000
DTEND;TZID=Europe/Berlin:20260228T170000
DTSTAMP:20260423T125545
CREATED:20260105T145120Z
LAST-MODIFIED:20260105T145154Z
UID:10016033-1772287200-1772298000@auxpunks.uber.space
SUMMARY:Roller Derby Heimspiel
DESCRIPTION:Augsburg Rolling Thunder\, das Roller Derby Team des TVA\, spielt am 28. Februar gegen die Stonehearts aus Erfurt. Beim Roller Derby bekommen die Jammer*innen der gegnerischen Teams Punkte für jede gegnerische Blocker*in\, die sie überholen. Die Blocker*innen verhindern das durch Bodychecks. Und das alles auf Rollschuhen! Hört sich krass an? Schau vorbei!Eintritt gegen Spende
URL:https://auxpunks.uber.space/event/roller-derby-heimspiel/
LOCATION:TVA Skate Arena\, Gabelsberger Str. 64\, Augsburg\, 86199\, Germany
ORGANIZER;CN="Augsburg Rolling Thunder":MAILTO:kontakt@rollerderby-augsburg.de
END:VEVENT
BEGIN:VEVENT
DTSTART;TZID=Europe/Berlin:20260228T200000
DTEND;TZID=Europe/Berlin:20260301T010000
DTSTAMP:20260423T125545
CREATED:20260217T214541Z
LAST-MODIFIED:20260217T214543Z
UID:10016350-1772308800-1772326800@auxpunks.uber.space
SUMMARY:All Gas – No Brakes Punk Night
DESCRIPTION:Garage\, Punk-Rock und Rock’n’roll mit: \n\nCrash Crew \n\nCrash Crew (Augsburg) stehen für erdigen\, dreckigen\, rauen Rock ’n’ Roll.\nSie rasen mit Vollgas vom Garage Rock der 60er über Blues und Pub Rock der 70er bis hin zum Punk der Gegenwart.\nKeep on rollin’!\n\nThe Sink – Mosh Pit Rioters of Suburbia (Augsburg)\n\nThe Sink präsentieren ausgesuchte Punkrock-Klassiker und laden zum Tanzen ein.\nDie fünf Jungs freuen sich auf euch.\n\nEintritt frei / Auf Spende\n\nVeranstaltungsort\n\n    Ballonfabrik\n    Austraße 27\n    Augsburg\, Germany
URL:https://auxpunks.uber.space/event/all-gas-no-brakes-punk-night/
LOCATION:Ballonfabrik Augsburg – Fabrik Unique\, Austr. 27\, Augsburg\, Bayern\, Deutschland
CATEGORIES:Konzerte & Feiern
ATTACH;FMTTYPE=image/jpeg:https://auxpunks.uber.space/wp-content/uploads/2026/02/photo_5235898127393428782_y.jpg
END:VEVENT
END:VCALENDAR