BEGIN:VCALENDAR
VERSION:2.0
PRODID:-//auxpunks - ECPv6.15.11//NONSGML v1.0//EN
CALSCALE:GREGORIAN
METHOD:PUBLISH
X-ORIGINAL-URL:https://auxpunks.uber.space
X-WR-CALDESC:Veranstaltungen für auxpunks
REFRESH-INTERVAL;VALUE=DURATION:PT1H
X-Robots-Tag:noindex
X-PUBLISHED-TTL:PT1H
BEGIN:VTIMEZONE
TZID:Europe/Berlin
BEGIN:DAYLIGHT
TZOFFSETFROM:+0100
TZOFFSETTO:+0200
TZNAME:CEST
DTSTART:20250330T010000
END:DAYLIGHT
BEGIN:STANDARD
TZOFFSETFROM:+0200
TZOFFSETTO:+0100
TZNAME:CET
DTSTART:20251026T010000
END:STANDARD
BEGIN:DAYLIGHT
TZOFFSETFROM:+0100
TZOFFSETTO:+0200
TZNAME:CEST
DTSTART:20260329T010000
END:DAYLIGHT
BEGIN:STANDARD
TZOFFSETFROM:+0200
TZOFFSETTO:+0100
TZNAME:CET
DTSTART:20261025T010000
END:STANDARD
BEGIN:DAYLIGHT
TZOFFSETFROM:+0100
TZOFFSETTO:+0200
TZNAME:CEST
DTSTART:20270328T010000
END:DAYLIGHT
BEGIN:STANDARD
TZOFFSETFROM:+0200
TZOFFSETTO:+0100
TZNAME:CET
DTSTART:20271031T010000
END:STANDARD
END:VTIMEZONE
BEGIN:VEVENT
DTSTART;TZID=Europe/Berlin:20260305T090000
DTEND;TZID=Europe/Berlin:20260305T110000
DTSTAMP:20260423T124225
CREATED:20260301T164923Z
LAST-MODIFIED:20260301T164924Z
UID:10016358-1772701200-1772708400@auxpunks.uber.space
SUMMARY:Schulstreik gegen Militarisierung
DESCRIPTION:Am 5. März |9:00 Uhr |KönigsplatzGemeinsam streiken für unsere Zukunft!Kein Bock auf Krieg\, Militarisierung und Aufrüstung. Kommt mit uns auf die Straße! Alle zusammen gegen die Wehrpflicht und jeden Zwangsdienst!Die Reichen wollen Krieg\,  die Jugend eine Zukunft! 🚩
URL:https://auxpunks.uber.space/event/schulstreik-gegen-militarisierung/
LOCATION:Augsburg Königsplatz
CATEGORIES:Demos & Aktionen
ATTACH;FMTTYPE=image/png:https://auxpunks.uber.space/wp-content/uploads/2026/03/Screenshot-2026-03-01-at-17-42-28-9-Instagram.png
END:VEVENT
BEGIN:VEVENT
DTSTART;TZID=Europe/Berlin:20260305T180000
DTEND;TZID=Europe/Berlin:20260305T200000
DTSTAMP:20260423T124225
CREATED:20250729T115421Z
LAST-MODIFIED:20251003T193249Z
UID:10015513-1772733600-1772740800@auxpunks.uber.space
SUMMARY:Bikekitchen: Gemeinsam Räder reparieren
DESCRIPTION:Gemeinsam Fahrräder reparieren in unserer Selbsthilfewerkstatt \n\n\n\nDie Bikekitchen Augsburg ist ein offenes\, gemeinnütziges Angebot für Selbsthilfe-Fahrrad-Reparaturen. \n\n\n\nJeder kann bei uns sein Fahrrad reparieren. Wir bieten dafür einen gut ausgestatteten Werkstattraum\, die gängigsten Ersatzteile und die meisten Verschleißteile. Die Aktiven helfen bei der Reparatur\, aber in erster Linie reparierst du dein Rad selbst. Jeden Donnerstag ab 18 Uhr und jeden ersten Freitag im Monat ab 16 Uhr wird geschraubt und repariert. Manchmal gibt es nach der Werkstatt-Session eine gemeinsame Brotzeit\, selbstverständlich zusammen mit den Gästen der Werkstatt. \n\n\n\nDie Nutzung der Bikekitchen ist kostenlos. Wir verdienen damit kein Geld. Ein paar Euro brauchen wir allerdings für den Betrieb. Deshalb freuen wir uns über jede Spende der Bikekitchen-Gäste – wenn’s geschmeckt hat und das Fahrrad wieder läuft. Wir versuchen die Kosten so gering wie möglich zu halten. Recycling\, selbst machen und Lernen – kreative Lösungen. \n\n\n\nBitte beachte: Für die ausgeführten Arbeiten bist du selbst verantwortlich. Der ADFC haftet nicht für Schäden an Fahrrädern durch leichte oder einfache Fahrlässigkeit von ADFC-Aktiven. \n\n\n\nÖffnungszeiten: \n\n\n\n\nJede Woche Donnerstag 18-20 Uhr\n\n\n\nJeden ersten Freitag im Monat 16-20 Uhr\n\n\n\nAlle Termine findet ihr immer aktuell in unserem Kalender\n\n\n\n\nOrt: Heilig-Kreuz-Straße 30\, 86152 Augsburg \n\n\n\nIhr findet uns auch auf Instagram: https://www.instagram.com/bikekitchen_augsburg/ \n\n\n\nWeitere Informationen gibt es per E-Mail an bikekitchen [at] adfc-augsburg.de. \n\n\n\n— \n\n\n\nAngebote für zugewanderte Menschen \n\n\n\nDie Bikekitchen nimmt am Projekt Aux der Stadt Augsburg teil\, in dem zugewanderte Menschen die Stadt Augsburg und ihre Vereine kennen lernen können. Im Rahmen dieses Projektes bietet die Bikekitchen Termine für Fahrrad-Checks und Hilfe bei der Rad-Reparatur an.
URL:https://auxpunks.uber.space/event/bikekitchen-gemeinsam-raeder-reparieren/2026-03-05/
LOCATION:Bikekitchen
CATEGORIES:Vorträge, Filme & Workshops
ATTACH;FMTTYPE=image/jpeg:https://auxpunks.uber.space/wp-content/uploads/2025/07/bikekitchen.jpg
END:VEVENT
BEGIN:VEVENT
DTSTART;TZID=Europe/Berlin:20260305T190000
DTEND;TZID=Europe/Berlin:20260305T230000
DTSTAMP:20260423T124225
CREATED:20260124T181443Z
LAST-MODIFIED:20260124T181444Z
UID:10016062-1772737200-1772751600@auxpunks.uber.space
SUMMARY:Konzert: Junokill + Ninef
DESCRIPTION:Am 05.03. kommen zwei queer-feministische Künstler*innen ins Krätzwerk. Junokill aus Hamburg mit Astropunk\, einem schillernden\, fließenden Kosmos-Gebilde\, in dem sie der modernen Gesellschaft durch eine queer-feministische Linse begegnen.  In der Ekstase des Furors lädt JUNOKILL dazu ein\, zwischen Realitäten und Traumwelten zu tanzen. Ninef aus Augsburg singt mal auf Englisch\, Deutsch\, Spanisch oder Swahili. Mit ihren Liedern möchte sie Menschen ins Fühlen bringen\, Wachrütteln und zum Nachdenken bringen. Als Feministin\, Abenteuerliebhaberin und Mutter ist es ihr zudem ein Anliegen\, auf der Bühne und durch ihre Musik gesellschaftliche Themen anzusprechen.\n\nFür Vereinsmitglieder und Interessierte (Beitritt vor Ort möglich)
URL:https://auxpunks.uber.space/event/konzert-junokill-ninef/
LOCATION:Kraetzwerk e.V.\, Schertlinstraße 10a\, Augsburg\, 86159
CATEGORIES:Konzerte & Feiern
ATTACH;FMTTYPE=image/jpeg:https://auxpunks.uber.space/wp-content/uploads/2026/01/junokill-ninef.jpeg
END:VEVENT
BEGIN:VEVENT
DTSTART;TZID=Europe/Berlin:20260305T200000
DTEND;TZID=Europe/Berlin:20260305T233000
DTSTAMP:20260423T124225
CREATED:20250925T113632Z
LAST-MODIFIED:20251007T102305Z
UID:10014953-1772740800-1772753400@auxpunks.uber.space
SUMMARY:Die Ganze Bäckerei Thekenabend
DESCRIPTION:Wir treffen uns ab 20 Uhr zum netten Beisammensein und Austauschen. Ab und zu mit Essen. Getränke gibt es immer auf Spendenbasis.  \n\n\n\n \n\n\n\n(*für Vereinsmitglieder und Interessierte)
URL:https://auxpunks.uber.space/event/die-ganze-baeckerei-thekenabend/2026-03-05/
LOCATION:Die Ganze Bäckerei\, Frauentorstraße 34\, Augsburg\, 86152
CATEGORIES:Konzerte & Feiern
ATTACH;FMTTYPE=image/png:https://auxpunks.uber.space/wp-content/uploads/2025/04/ThekenabendSharepic-2.png
END:VEVENT
END:VCALENDAR