BEGIN:VCALENDAR
VERSION:2.0
PRODID:-//auxpunks - ECPv6.15.11//NONSGML v1.0//EN
CALSCALE:GREGORIAN
METHOD:PUBLISH
X-WR-CALNAME:auxpunks
X-ORIGINAL-URL:https://auxpunks.uber.space
X-WR-CALDESC:Veranstaltungen für auxpunks
REFRESH-INTERVAL;VALUE=DURATION:PT1H
X-Robots-Tag:noindex
X-PUBLISHED-TTL:PT1H
BEGIN:VTIMEZONE
TZID:Europe/Berlin
BEGIN:DAYLIGHT
TZOFFSETFROM:+0100
TZOFFSETTO:+0200
TZNAME:CEST
DTSTART:20250330T010000
END:DAYLIGHT
BEGIN:STANDARD
TZOFFSETFROM:+0200
TZOFFSETTO:+0100
TZNAME:CET
DTSTART:20251026T010000
END:STANDARD
BEGIN:DAYLIGHT
TZOFFSETFROM:+0100
TZOFFSETTO:+0200
TZNAME:CEST
DTSTART:20260329T010000
END:DAYLIGHT
BEGIN:STANDARD
TZOFFSETFROM:+0200
TZOFFSETTO:+0100
TZNAME:CET
DTSTART:20261025T010000
END:STANDARD
BEGIN:DAYLIGHT
TZOFFSETFROM:+0100
TZOFFSETTO:+0200
TZNAME:CEST
DTSTART:20270328T010000
END:DAYLIGHT
BEGIN:STANDARD
TZOFFSETFROM:+0200
TZOFFSETTO:+0100
TZNAME:CET
DTSTART:20271031T010000
END:STANDARD
END:VTIMEZONE
BEGIN:VEVENT
DTSTART;TZID=Europe/Berlin:20260312T180000
DTEND;TZID=Europe/Berlin:20260312T200000
DTSTAMP:20260423T124137
CREATED:20250729T115421Z
LAST-MODIFIED:20251003T193249Z
UID:10015514-1773338400-1773345600@auxpunks.uber.space
SUMMARY:Bikekitchen: Gemeinsam Räder reparieren
DESCRIPTION:Gemeinsam Fahrräder reparieren in unserer Selbsthilfewerkstatt \n\n\n\nDie Bikekitchen Augsburg ist ein offenes\, gemeinnütziges Angebot für Selbsthilfe-Fahrrad-Reparaturen. \n\n\n\nJeder kann bei uns sein Fahrrad reparieren. Wir bieten dafür einen gut ausgestatteten Werkstattraum\, die gängigsten Ersatzteile und die meisten Verschleißteile. Die Aktiven helfen bei der Reparatur\, aber in erster Linie reparierst du dein Rad selbst. Jeden Donnerstag ab 18 Uhr und jeden ersten Freitag im Monat ab 16 Uhr wird geschraubt und repariert. Manchmal gibt es nach der Werkstatt-Session eine gemeinsame Brotzeit\, selbstverständlich zusammen mit den Gästen der Werkstatt. \n\n\n\nDie Nutzung der Bikekitchen ist kostenlos. Wir verdienen damit kein Geld. Ein paar Euro brauchen wir allerdings für den Betrieb. Deshalb freuen wir uns über jede Spende der Bikekitchen-Gäste – wenn’s geschmeckt hat und das Fahrrad wieder läuft. Wir versuchen die Kosten so gering wie möglich zu halten. Recycling\, selbst machen und Lernen – kreative Lösungen. \n\n\n\nBitte beachte: Für die ausgeführten Arbeiten bist du selbst verantwortlich. Der ADFC haftet nicht für Schäden an Fahrrädern durch leichte oder einfache Fahrlässigkeit von ADFC-Aktiven. \n\n\n\nÖffnungszeiten: \n\n\n\n\nJede Woche Donnerstag 18-20 Uhr\n\n\n\nJeden ersten Freitag im Monat 16-20 Uhr\n\n\n\nAlle Termine findet ihr immer aktuell in unserem Kalender\n\n\n\n\nOrt: Heilig-Kreuz-Straße 30\, 86152 Augsburg \n\n\n\nIhr findet uns auch auf Instagram: https://www.instagram.com/bikekitchen_augsburg/ \n\n\n\nWeitere Informationen gibt es per E-Mail an bikekitchen [at] adfc-augsburg.de. \n\n\n\n— \n\n\n\nAngebote für zugewanderte Menschen \n\n\n\nDie Bikekitchen nimmt am Projekt Aux der Stadt Augsburg teil\, in dem zugewanderte Menschen die Stadt Augsburg und ihre Vereine kennen lernen können. Im Rahmen dieses Projektes bietet die Bikekitchen Termine für Fahrrad-Checks und Hilfe bei der Rad-Reparatur an.
URL:https://auxpunks.uber.space/event/bikekitchen-gemeinsam-raeder-reparieren/2026-03-12/
LOCATION:Bikekitchen
CATEGORIES:Vorträge, Filme & Workshops
ATTACH;FMTTYPE=image/jpeg:https://auxpunks.uber.space/wp-content/uploads/2025/07/bikekitchen.jpg
END:VEVENT
BEGIN:VEVENT
DTSTART;TZID=Europe/Berlin:20260312T190000
DTEND;TZID=Europe/Berlin:20260312T230000
DTSTAMP:20260423T124137
CREATED:20260306T092534Z
LAST-MODIFIED:20260306T092536Z
UID:10016365-1773342000-1773356400@auxpunks.uber.space
SUMMARY:CC LIVE SESSION – OPEN STAGE FLINTA* ONLY
DESCRIPTION:CC LIVE SESSION – OPEN STAGEFLINTA* ONLYWir laden euch ein am Samstag unsere open stage zu nutzen\, performt allein oder mit Bandkolleg*innen!FREE ENTRY ab 19:00 Uhr\, Beginn um 19:30jede Band / Künstler*in darf max. 3 Stücke oder 15 Minuten performen\, vor Ort könnt ihr euch in eine Liste eintragen!Für diese open stage wollen wir einen Space für FLINTA* bieten\, weswegen die Bühne\, so wie das Publikum FLINTA* only ist.Danke für euren Support\, das möglich zu machen!Wir freuen uns euch zu hören\, Bussi & BG 😘
URL:https://auxpunks.uber.space/event/cc-live-session-open-stage-flinta-only/
LOCATION:City Club Augsburg
CATEGORIES:Konzerte & Feiern
ATTACH;FMTTYPE=image/png:https://auxpunks.uber.space/wp-content/uploads/2026/03/Screenshot-2026-03-06-at-10-23-12-Instagram.png
END:VEVENT
BEGIN:VEVENT
DTSTART;TZID=Europe/Berlin:20260312T200000
DTEND;TZID=Europe/Berlin:20260312T230000
DTSTAMP:20260423T124137
CREATED:20260312T151336Z
LAST-MODIFIED:20260312T151337Z
UID:10016630-1773345600-1773356400@auxpunks.uber.space
SUMMARY:Prosfygika-Soli Abend
DESCRIPTION:Wir wollen am Donnerstag Abend auf den Angriff der besetzten Gemeinschaft Prosfygika durch die Regierung der Region Attika in Athen aufmerksam machen.\nLasst uns gemeinsam Essen und über die aktuelle Situation in Prosfygika reden.\nEs wird Infomaterialien und Merch (Feuerzeuge\, Shirts\, Pullis ….) geben.\nUm 21 Uhr möchten wir ein Soli-Foto für unsere Freund*innen und Genoss*innen in Prosfygika machen.\nNicht nur weil das Projekt Prosfygika als größte Besetzung Europas eine reale Alternative zu Kapitalismus\, Autorität und Unterdrückung lebt\, sondern auch weil es starke persönliche Beziehungen von Augsburg nach Prosfygika gibt ist es dringend unsere Solidarität zum Ausdruck zu bringen!\nSolidarity will break all chains!\n\n————————————————–\nIm Sommer 2025 leitete die Region Attika heimlich einen Plan zur Repression der besetzten Gemeinschaft \nProsfygika an der Alexandras-Avenue in Athen ein. Dieser sieht die gewaltsame Räumung von Prosfygika innerhalb der \nnächsten sechs Monate sowie ein großes Festmahl der Verschwendung öffentlicher Gelder in Höhe von 15 \nMillionen Euro vor.\n\nProsfygika ist eine Gemeinschaft von über 400 Menschen – Griech*innen\, Geflüchteten und Migrant*innen –\, \ndarunter 50 Kinder sowie besonders verletzliche soziale Gruppen: Menschen mit schweren psychischen \nErkrankungen\, Krebspatient*innen\, ältere Menschen usw.\n\nInformiert euch am Donnerstag Abend wie ihr euch solidarisieren könnt!\n\nDie Gemeinde ist entschlossen Prosfygika bis zum Ende zu verteidigen!\nDer Genosse Aristoteles C. befindet sich seit über einem Monat im Hungerstreik!
URL:https://auxpunks.uber.space/event/prosfygika-soli-abend/
LOCATION:“ Ganze Bäckerei “ Augsburg  Frauentorstr.34
CATEGORIES:Vorträge, Filme & Workshops
ATTACH;FMTTYPE=image/jpeg:https://auxpunks.uber.space/wp-content/uploads/2026/03/signal-2026-03-10-172704.jpeg
END:VEVENT
BEGIN:VEVENT
DTSTART;TZID=Europe/Berlin:20260312T200000
DTEND;TZID=Europe/Berlin:20260312T233000
DTSTAMP:20260423T124137
CREATED:20250925T113632Z
LAST-MODIFIED:20251007T102305Z
UID:10014954-1773345600-1773358200@auxpunks.uber.space
SUMMARY:Die Ganze Bäckerei Thekenabend
DESCRIPTION:Wir treffen uns ab 20 Uhr zum netten Beisammensein und Austauschen. Ab und zu mit Essen. Getränke gibt es immer auf Spendenbasis.  \n\n\n\n \n\n\n\n(*für Vereinsmitglieder und Interessierte)
URL:https://auxpunks.uber.space/event/die-ganze-baeckerei-thekenabend/2026-03-12/
LOCATION:Die Ganze Bäckerei\, Frauentorstraße 34\, Augsburg\, 86152
CATEGORIES:Konzerte & Feiern
ATTACH;FMTTYPE=image/png:https://auxpunks.uber.space/wp-content/uploads/2025/04/ThekenabendSharepic-2.png
END:VEVENT
END:VCALENDAR