BEGIN:VCALENDAR
VERSION:2.0
PRODID:-//auxpunks - ECPv6.15.11//NONSGML v1.0//EN
CALSCALE:GREGORIAN
METHOD:PUBLISH
X-ORIGINAL-URL:https://auxpunks.uber.space
X-WR-CALDESC:Veranstaltungen für auxpunks
REFRESH-INTERVAL;VALUE=DURATION:PT1H
X-Robots-Tag:noindex
X-PUBLISHED-TTL:PT1H
BEGIN:VTIMEZONE
TZID:Europe/Berlin
BEGIN:DAYLIGHT
TZOFFSETFROM:+0100
TZOFFSETTO:+0200
TZNAME:CEST
DTSTART:20250330T010000
END:DAYLIGHT
BEGIN:STANDARD
TZOFFSETFROM:+0200
TZOFFSETTO:+0100
TZNAME:CET
DTSTART:20251026T010000
END:STANDARD
BEGIN:DAYLIGHT
TZOFFSETFROM:+0100
TZOFFSETTO:+0200
TZNAME:CEST
DTSTART:20260329T010000
END:DAYLIGHT
BEGIN:STANDARD
TZOFFSETFROM:+0200
TZOFFSETTO:+0100
TZNAME:CET
DTSTART:20261025T010000
END:STANDARD
BEGIN:DAYLIGHT
TZOFFSETFROM:+0100
TZOFFSETTO:+0200
TZNAME:CEST
DTSTART:20270328T010000
END:DAYLIGHT
BEGIN:STANDARD
TZOFFSETFROM:+0200
TZOFFSETTO:+0100
TZNAME:CET
DTSTART:20271031T010000
END:STANDARD
END:VTIMEZONE
BEGIN:VEVENT
DTSTART;TZID=Europe/Berlin:20260316T152000
DTEND;TZID=Europe/Berlin:20260316T180000
DTSTAMP:20260423T124224
CREATED:20260313T145012Z
LAST-MODIFIED:20260314T164032Z
UID:10016695-1773674400-1773684000@auxpunks.uber.space
SUMMARY:Gemeinsame Anfahrt zur Demo gegen das Abschiebeterminal MUC
DESCRIPTION:Die Autonome Bande Auxburg und die Freiwilligengruppe Augsburg von SOS Humanity laden zur gemeinsamen Anreise zur Demo „Abschiebeterminal Muc verhindern“ ein. Für die Anreise aus Augsburg treffen wir uns um 15.20Uhr am Haupteingang des Augsburger Hauptbahnhofs (Abfahrt 15.38Uhr).\n\nDie Bundespolizei plant am Münchner Flughafen ein eigenes Abschiebeterminal. Mit diesem Terminal soll es ab Ende 2028 möglich sein\, bis zu 100 Personen an einem Tag über den Flughafen München abzuschieben. Die Stadt München hält 23 % an der Flughafen München GmbH (FMG) und stimmt in den kommenden Aufsichtsratssitzungen mit über das Vorhaben ab. Doch statt ein klares Signal gegen die weitere Eskalation der Abschiebepolitik zu setzen\, hat sich der OB zuletzt öffentlich für den Bau ausgesprochen.\n\nDer Bau des Abschiebeterminals stellt eine weitere Verschärfung einer menschenfeindlichen Migrationspolitik dar. Das möchte die Kampagne „Abschiebeterminal MUC verhindern“ nicht unwidersprochen hinnehmen und organisiert Protest – gegen das geplante Terminal und gegen eine Politik\, die Abschiebungen als alternativlos verkauft und sie gleichzeitig der öffentlichen Kontrolle entzieht. Wir wollen am 16.03. ein klares Zeichen für eine offene und solidarische Stadtgesellschaft setzen und fordern die Politik auf\, sich vehement gegen das Abschiebeterminal einzusetzen.\nMenschenrecht müssen auch unter Druck verteidigt werden!\nMünchen darf nicht Abschiebehauptstadt werden!
URL:https://auxpunks.uber.space/event/gemeinsame-anfahrt-zur-demo-gegen-das-abschiebeterminal-muc/
CATEGORIES:Demos & Aktionen
ATTACH;FMTTYPE=image/jpeg:https://auxpunks.uber.space/wp-content/uploads/2026/03/signal-2026-03-13-114436_002.jpeg
END:VEVENT
END:VCALENDAR