BEGIN:VCALENDAR
VERSION:2.0
PRODID:-//auxpunks - ECPv6.15.11//NONSGML v1.0//EN
CALSCALE:GREGORIAN
METHOD:PUBLISH
X-WR-CALNAME:auxpunks
X-ORIGINAL-URL:https://auxpunks.uber.space
X-WR-CALDESC:Veranstaltungen für auxpunks
REFRESH-INTERVAL;VALUE=DURATION:PT1H
X-Robots-Tag:noindex
X-PUBLISHED-TTL:PT1H
BEGIN:VTIMEZONE
TZID:Europe/Berlin
BEGIN:DAYLIGHT
TZOFFSETFROM:+0100
TZOFFSETTO:+0200
TZNAME:CEST
DTSTART:20250330T010000
END:DAYLIGHT
BEGIN:STANDARD
TZOFFSETFROM:+0200
TZOFFSETTO:+0100
TZNAME:CET
DTSTART:20251026T010000
END:STANDARD
BEGIN:DAYLIGHT
TZOFFSETFROM:+0100
TZOFFSETTO:+0200
TZNAME:CEST
DTSTART:20260329T010000
END:DAYLIGHT
BEGIN:STANDARD
TZOFFSETFROM:+0200
TZOFFSETTO:+0100
TZNAME:CET
DTSTART:20261025T010000
END:STANDARD
BEGIN:DAYLIGHT
TZOFFSETFROM:+0100
TZOFFSETTO:+0200
TZNAME:CEST
DTSTART:20270328T010000
END:DAYLIGHT
BEGIN:STANDARD
TZOFFSETFROM:+0200
TZOFFSETTO:+0100
TZNAME:CET
DTSTART:20271031T010000
END:STANDARD
END:VTIMEZONE
BEGIN:VEVENT
DTSTART;TZID=Europe/Berlin:20260317T180000
DTEND;TZID=Europe/Berlin:20260317T190000
DTSTAMP:20260423T124140
CREATED:20260323T123532Z
LAST-MODIFIED:20260323T123533Z
UID:10016704-1773770400-1773774000@auxpunks.uber.space
SUMMARY:Offene Sprechstunde Rote Hilfe Augsburg
DESCRIPTION:Alle 4 Wochen bietet die Rote Hilfe Augsburg eine offene Sprechstunde an für alle Betroffenen von politischer Repression. Immer von 18 bis 19 Uhr. Anstehende Termine für 2026: 24.11.\, 22.12.\n\nE-Mail: augsburg@rote-hilfe.de\n\nAnschrift:\nRote Hilfe e.V. Ortsgruppe Augsburg\nFrauentorstraße 34\n86152 Augsburg
URL:https://auxpunks.uber.space/event/offene-sprechstunde-rote-hilfe-augsburg-8/
LOCATION:“ Ganze Bäckerei “ Augsburg  Frauentorstr.34
ATTACH;FMTTYPE=image/jpeg:https://auxpunks.uber.space/wp-content/uploads/2026/03/RHbunt-8.jpg
END:VEVENT
END:VCALENDAR