BEGIN:VCALENDAR
VERSION:2.0
PRODID:-//auxpunks - ECPv6.15.11//NONSGML v1.0//EN
CALSCALE:GREGORIAN
METHOD:PUBLISH
X-ORIGINAL-URL:https://auxpunks.uber.space
X-WR-CALDESC:Veranstaltungen für auxpunks
REFRESH-INTERVAL;VALUE=DURATION:PT1H
X-Robots-Tag:noindex
X-PUBLISHED-TTL:PT1H
BEGIN:VTIMEZONE
TZID:Europe/Berlin
BEGIN:DAYLIGHT
TZOFFSETFROM:+0100
TZOFFSETTO:+0200
TZNAME:CEST
DTSTART:20250330T010000
END:DAYLIGHT
BEGIN:STANDARD
TZOFFSETFROM:+0200
TZOFFSETTO:+0100
TZNAME:CET
DTSTART:20251026T010000
END:STANDARD
BEGIN:DAYLIGHT
TZOFFSETFROM:+0100
TZOFFSETTO:+0200
TZNAME:CEST
DTSTART:20260329T010000
END:DAYLIGHT
BEGIN:STANDARD
TZOFFSETFROM:+0200
TZOFFSETTO:+0100
TZNAME:CET
DTSTART:20261025T010000
END:STANDARD
BEGIN:DAYLIGHT
TZOFFSETFROM:+0100
TZOFFSETTO:+0200
TZNAME:CEST
DTSTART:20270328T010000
END:DAYLIGHT
BEGIN:STANDARD
TZOFFSETFROM:+0200
TZOFFSETTO:+0100
TZNAME:CET
DTSTART:20271031T010000
END:STANDARD
END:VTIMEZONE
BEGIN:VEVENT
DTSTART;TZID=Europe/Berlin:20260320T130000
DTEND;TZID=Europe/Berlin:20260320T180000
DTSTAMP:20260423T124131
CREATED:20250530T132903Z
LAST-MODIFIED:20251007T102747Z
UID:10014639-1774011600-1774029600@auxpunks.uber.space
SUMMARY:Mitmachwerkstatt - Offene Werkstatt
DESCRIPTION:Jeden Freitag (13 – 18 Uhr) könnt ihr mit euren Projekten und Vorhaben in die Grandhotel MitMachWerkstatt kommen. Macht es euch mehrSpass beim kreativen Arbeiten nicht allein zu sein? Braucht ihr dafür bestimmte Materialien oder habt ihr einfachnicht genug Platz zuhause? Ihr habt Angefangenes zu Hause und kriegt es nicht alleine fertig? Dann kommt in dieoffene Werkstatt und nutzt den schönen Raum. Falls ihr die (Näh)- oder andere Maschinen nutzen möchtet\, someldet euch bei mir\, und wir machen einen Termin für eine Einweisung bzw. einen Nähmaschinen-Führerschein aus. \n\n\n\n\n\n\n\nEVERY ON FRIDAY OPEN WORKSHOP – FROM 1 – 6 PM \n\n\n\nEvery Friday you can come to the MitMachWerkstatt with your projects and plans. Would you enjoy being aroundothers in a creative atmosphere? Do you need certain materials? Or do you simply not have enough space at home?Have you started something at home and can’t finish it on your own? Then come to the open workshop and makeuse of the beautiful space. If you would like to use the (sewing) or other machines\, please contact me and we willmake an appointment for an introduction or a sewing machine „drivers“ licence.
URL:https://auxpunks.uber.space/event/mitmachwerkstatt-offene-werkstatt/2026-03-20/
ATTACH;FMTTYPE=image/png:https://auxpunks.uber.space/wp-content/uploads/2025/05/Screenshot-2025-10-07-at-12-27-30-Mitmachwerkstatt_Banner.png-PNG-Grafik-1200-×-400-Pixel.png
END:VEVENT
BEGIN:VEVENT
DTSTART;TZID=Europe/Berlin:20260320T180000
DTEND;TZID=Europe/Berlin:20260320T203000
DTSTAMP:20260423T124131
CREATED:20260309T150457Z
LAST-MODIFIED:20260309T150458Z
UID:10016627-1774029600-1774038600@auxpunks.uber.space
SUMMARY:Der neue Tech-Faschismus: Vortrag mit offener Diskussion
DESCRIPTION:In einem kurzen Vortrag stellen wir die Transformation zum autokratisch-faschistoiden ‚Fortschrittsprojekt‘ des Neuen Tech-Faschismus dar: \nWie Tech-Feudalisten zusammen mit Autokratie-Anhängern und Faschisten Macht und Zukunft formen.\n\nIm Anschluss wollen wir mit euch in einen offenen Austausch gehen: Wie ernst nehmen wir diese Entwicklungen? Sehen wir ähnliche Kritikpunkte und Gefahren? Was sollten wir tun?\n\n\n\n*Dieser Abend wird nicht über Social Media beworben\, sagt also gern euren Freund*innen Bescheid!
URL:https://auxpunks.uber.space/event/der-neue-tech-faschismus-vortrag-mit-offener-diskussion/
LOCATION:“ Ganze Bäckerei “ Augsburg  Frauentorstr.34
CATEGORIES:Vorträge, Filme & Workshops
ATTACH;FMTTYPE=image/png:https://auxpunks.uber.space/wp-content/uploads/2026/03/VortragFlyer01.png
END:VEVENT
BEGIN:VEVENT
DTSTART;TZID=Europe/Berlin:20260320T190000
DTEND;TZID=Europe/Berlin:20260320T230000
DTSTAMP:20260423T124131
CREATED:20260221T122147Z
LAST-MODIFIED:20260221T122148Z
UID:10016353-1774033200-1774047600@auxpunks.uber.space
SUMMARY:Konzert: The Violent Youth + Kiyo + Rosa Rost
DESCRIPTION:The Violent Youth (New Wave\, Post Punk / Minsk\, Augsburg) sind mit neuem Album zurück! „tsvety“ („flowers“) setzt die Erkundung modernen New Waves und Post-Punks durch das in Augsburg lebende Duo fort und verortet ihren Sound innerhalb des Darkwave- und Synth-Pop-Revivals\, das durch Bands wie Molchat Doma populär wurde. In Anlehnung an die dunklere Ausrichtung ihrer früheren Werke ist „tsvety“ eine Mischung aus tanzbaren Rhythmen und verletzlichen\, emotionalen Texten\, die universelle Themen wie Distanz\, Verlust und Hoffnung behandeln\, während gleichzeitig die für die Band charakteristische\, von den 80er Jahren inspirierte synthetische Atmosphäre und der fesselnde Gesang beibehalten werden.\n\nMit dabei:\nKiyo (Synthwave\, Leipzig) beehrt uns ein zweites mal im City Club. Vor einigen Jahren kaufte sie sich einen analogen Synthesizer und begab sich auf eine Erkundung verborgener Gefühle. Die daraus entstehende Katharsis ist zugleich antreibend und kontemplativ\, inspiriert von Post-Punk\, Dream-Pop und Psychedelia\, während sie ein reiches Gewebe der Melancholie spinnt.\n\nMit Rosa Rost (Gazepunk\, München) debütiert eine der spannendsten Newcomer Bands der Landeshauptstadt bei uns. Die Zuhörerinnenschaft kann sich von den Musikerinnen in düstere\, zerrissene und flächige Welten führen lassen oder sich auch ein bisschen im Tanzen versuchen. Die Songs\, welche mit Ernsthaftigkeit\, Witz oder Ironie Themen verhandeln\, sind geprägt von Unzufriedenheiten und Wut gegenüber einigen gesellschaftlichen Verhältnissen! Seid gespannt auf eine Fusion aus Post Punk\, Shoegaze und Wave!!
URL:https://auxpunks.uber.space/event/konzert-the-violent-youth-kiyo-rosa-rost/
LOCATION:City Club Augsburg
CATEGORIES:Konzerte & Feiern
ATTACH;FMTTYPE=image/png:https://auxpunks.uber.space/wp-content/uploads/2026/02/0320-share-tvy-cc-white.png
END:VEVENT
END:VCALENDAR