BEGIN:VCALENDAR
VERSION:2.0
PRODID:-//auxpunks - ECPv6.15.11//NONSGML v1.0//EN
CALSCALE:GREGORIAN
METHOD:PUBLISH
X-ORIGINAL-URL:https://auxpunks.uber.space
X-WR-CALDESC:Veranstaltungen für auxpunks
REFRESH-INTERVAL;VALUE=DURATION:PT1H
X-Robots-Tag:noindex
X-PUBLISHED-TTL:PT1H
BEGIN:VTIMEZONE
TZID:Europe/Berlin
BEGIN:DAYLIGHT
TZOFFSETFROM:+0100
TZOFFSETTO:+0200
TZNAME:CEST
DTSTART:20250330T010000
END:DAYLIGHT
BEGIN:STANDARD
TZOFFSETFROM:+0200
TZOFFSETTO:+0100
TZNAME:CET
DTSTART:20251026T010000
END:STANDARD
BEGIN:DAYLIGHT
TZOFFSETFROM:+0100
TZOFFSETTO:+0200
TZNAME:CEST
DTSTART:20260329T010000
END:DAYLIGHT
BEGIN:STANDARD
TZOFFSETFROM:+0200
TZOFFSETTO:+0100
TZNAME:CET
DTSTART:20261025T010000
END:STANDARD
BEGIN:DAYLIGHT
TZOFFSETFROM:+0100
TZOFFSETTO:+0200
TZNAME:CEST
DTSTART:20270328T010000
END:DAYLIGHT
BEGIN:STANDARD
TZOFFSETFROM:+0200
TZOFFSETTO:+0100
TZNAME:CET
DTSTART:20271031T010000
END:STANDARD
END:VTIMEZONE
BEGIN:VEVENT
DTSTART;TZID=Europe/Berlin:20260323T000000
DTEND;TZID=Europe/Berlin:20260329T235959
DTSTAMP:20260423T124224
CREATED:20260127T154647Z
LAST-MODIFIED:20260130T111118Z
UID:10016327-1774224000-1774828799@auxpunks.uber.space
SUMMARY:Save the date: Housing Action Days 2026
DESCRIPTION:Auch dieses Jahr ruft die „European Action Coalition for the right to housing and the city“ wieder zu den Housing Action Days auf.\nDieser soll erneut auch in Augsburg stattfinden.\n\nGemeinsam gegen den Ausverkauf der Städte und unserer Lebensräume! Schluss mit Vonovia\, Patrizia und co! Wohnen ist Grundrecht! Die Stadt gehört uns allen!
URL:https://auxpunks.uber.space/event/save-the-date-housing-action-days-2026/
CATEGORIES:Demos & Aktionen,Vorträge, Filme & Workshops
ATTACH;FMTTYPE=image/jpeg:https://auxpunks.uber.space/wp-content/uploads/2026/01/HOUSING-FOR-PEOPLE-NOT-FOR-PROFIT.jpg
END:VEVENT
BEGIN:VEVENT
DTSTART;TZID=Europe/Berlin:20260325T180000
DTEND;TZID=Europe/Berlin:20260325T193000
DTSTAMP:20260423T124224
CREATED:20260307T101353Z
LAST-MODIFIED:20260307T101354Z
UID:10016368-1774461600-1774467000@auxpunks.uber.space
SUMMARY:Bezahlkarten-Gutschein-Tausch
DESCRIPTION:Du bist gegen rechtspopulistische Symbolpolitik und willst ihr mit deiner praktischen Solidarität etwas entgegensetzen? Das geht ganz einfach: Du kommst in unsere Wechselstube und tauscht dein Bargeld gegen einen Gutschein. Den Gutschein hat eine Person mit ihrer Bezahlkarte gekauft und dafür von uns Bargeld erhalten. \n\n\n\nWeitere Infos: Instagram: fluechtlingsrat.augsburg https://augsburgerfluechtlingsrat.blogspot.com/2024/12/tauschaktion-bezahlkarte-payment-card.html
URL:https://auxpunks.uber.space/event/bezahlkarten-gutschein-tausch-10/2026-03-25/
LOCATION:Grandhotel Cosmopolis\, SPRINGERGÄSSCHEN 5\, Augsburg\, 86152\, Deutschland
CATEGORIES:Demos & Aktionen
ATTACH;FMTTYPE=image/jpeg:https://auxpunks.uber.space/wp-content/uploads/2025/06/Kartentausch-e1765875844626.jpg
END:VEVENT
END:VCALENDAR