BEGIN:VCALENDAR
VERSION:2.0
PRODID:-//auxpunks - ECPv6.15.11//NONSGML v1.0//EN
CALSCALE:GREGORIAN
METHOD:PUBLISH
X-WR-CALNAME:auxpunks
X-ORIGINAL-URL:https://auxpunks.uber.space
X-WR-CALDESC:Veranstaltungen für auxpunks
REFRESH-INTERVAL;VALUE=DURATION:PT1H
X-Robots-Tag:noindex
X-PUBLISHED-TTL:PT1H
BEGIN:VTIMEZONE
TZID:Europe/Berlin
BEGIN:DAYLIGHT
TZOFFSETFROM:+0100
TZOFFSETTO:+0200
TZNAME:CEST
DTSTART:20250330T010000
END:DAYLIGHT
BEGIN:STANDARD
TZOFFSETFROM:+0200
TZOFFSETTO:+0100
TZNAME:CET
DTSTART:20251026T010000
END:STANDARD
BEGIN:DAYLIGHT
TZOFFSETFROM:+0100
TZOFFSETTO:+0200
TZNAME:CEST
DTSTART:20260329T010000
END:DAYLIGHT
BEGIN:STANDARD
TZOFFSETFROM:+0200
TZOFFSETTO:+0100
TZNAME:CET
DTSTART:20261025T010000
END:STANDARD
BEGIN:DAYLIGHT
TZOFFSETFROM:+0100
TZOFFSETTO:+0200
TZNAME:CEST
DTSTART:20270328T010000
END:DAYLIGHT
BEGIN:STANDARD
TZOFFSETFROM:+0200
TZOFFSETTO:+0100
TZNAME:CET
DTSTART:20271031T010000
END:STANDARD
END:VTIMEZONE
BEGIN:VEVENT
DTSTART;TZID=Europe/Berlin:20260323T000000
DTEND;TZID=Europe/Berlin:20260329T235959
DTSTAMP:20260423T125545
CREATED:20260127T154647Z
LAST-MODIFIED:20260130T111118Z
UID:10016327-1774224000-1774828799@auxpunks.uber.space
SUMMARY:Save the date: Housing Action Days 2026
DESCRIPTION:Auch dieses Jahr ruft die „European Action Coalition for the right to housing and the city“ wieder zu den Housing Action Days auf.\nDieser soll erneut auch in Augsburg stattfinden.\n\nGemeinsam gegen den Ausverkauf der Städte und unserer Lebensräume! Schluss mit Vonovia\, Patrizia und co! Wohnen ist Grundrecht! Die Stadt gehört uns allen!
URL:https://auxpunks.uber.space/event/save-the-date-housing-action-days-2026/
CATEGORIES:Demos & Aktionen,Vorträge, Filme & Workshops
ATTACH;FMTTYPE=image/jpeg:https://auxpunks.uber.space/wp-content/uploads/2026/01/HOUSING-FOR-PEOPLE-NOT-FOR-PROFIT.jpg
END:VEVENT
BEGIN:VEVENT
DTSTART;TZID=Europe/Berlin:20260327T130000
DTEND;TZID=Europe/Berlin:20260327T180000
DTSTAMP:20260423T125545
CREATED:20250530T132903Z
LAST-MODIFIED:20251007T102747Z
UID:10014640-1774616400-1774634400@auxpunks.uber.space
SUMMARY:Mitmachwerkstatt - Offene Werkstatt
DESCRIPTION:Jeden Freitag (13 – 18 Uhr) könnt ihr mit euren Projekten und Vorhaben in die Grandhotel MitMachWerkstatt kommen. Macht es euch mehrSpass beim kreativen Arbeiten nicht allein zu sein? Braucht ihr dafür bestimmte Materialien oder habt ihr einfachnicht genug Platz zuhause? Ihr habt Angefangenes zu Hause und kriegt es nicht alleine fertig? Dann kommt in dieoffene Werkstatt und nutzt den schönen Raum. Falls ihr die (Näh)- oder andere Maschinen nutzen möchtet\, someldet euch bei mir\, und wir machen einen Termin für eine Einweisung bzw. einen Nähmaschinen-Führerschein aus. \n\n\n\n\n\n\n\nEVERY ON FRIDAY OPEN WORKSHOP – FROM 1 – 6 PM \n\n\n\nEvery Friday you can come to the MitMachWerkstatt with your projects and plans. Would you enjoy being aroundothers in a creative atmosphere? Do you need certain materials? Or do you simply not have enough space at home?Have you started something at home and can’t finish it on your own? Then come to the open workshop and makeuse of the beautiful space. If you would like to use the (sewing) or other machines\, please contact me and we willmake an appointment for an introduction or a sewing machine „drivers“ licence.
URL:https://auxpunks.uber.space/event/mitmachwerkstatt-offene-werkstatt/2026-03-27/
ATTACH;FMTTYPE=image/png:https://auxpunks.uber.space/wp-content/uploads/2025/05/Screenshot-2025-10-07-at-12-27-30-Mitmachwerkstatt_Banner.png-PNG-Grafik-1200-×-400-Pixel.png
END:VEVENT
BEGIN:VEVENT
DTSTART;TZID=Europe/Berlin:20260327T180000
DTEND;TZID=Europe/Berlin:20260327T200000
DTSTAMP:20260423T125545
CREATED:20250530T133319Z
LAST-MODIFIED:20250530T133320Z
UID:10014868-1774634400-1774641600@auxpunks.uber.space
SUMMARY:Critical Mass
DESCRIPTION:Jeden letzten Freitag im Monat 18:00 Uhr am Rathausplatz. \n\n\n\nCritical Mass (CM\, = kritische Masse) ist eine weltweite Rad-Veranstaltung\, bei der sich mehrere Fahrradfahrer scheinbar zufällig treffen\, um auf ihre Gleichberechtigung gegenüber dem motorisierten Verkehr aufmerksam zu machen. Sie ist antihierarchisch und hat keine Verantwortlichen. Alle können mitradeln. \n\n\n\nDie Teilnehmer treffen sich jeden letzten Freitag im Monat um 18 Uhr am Rathausplatz und fahren gemeinsam um ca. 18:30 Uhr los. \n\n\n\nInstagram: @critical_mass_augsburg \n\n\n\nDie CM ist selbstbestimmt und unorganisiert\, aber das macht den Spaß aus. Es sind all eure Freunde\, ausgefallene Fahrräder und was sonst dabei sein soll erwünscht. \n\n\n\nManche Teilnehmenden nutzen die Critical Maps App um ihren Standort für Nachzügler*innen zu teilen. https://criticalmaps.net/
URL:https://auxpunks.uber.space/event/critical-mass/2026-03-27/
LOCATION:Rathausplatz\, 86150 Augsburg\, Deutschland
CATEGORIES:Demos & Aktionen
END:VEVENT
END:VCALENDAR