BEGIN:VCALENDAR
VERSION:2.0
PRODID:-//auxpunks - ECPv6.15.11//NONSGML v1.0//EN
CALSCALE:GREGORIAN
METHOD:PUBLISH
X-WR-CALNAME:auxpunks
X-ORIGINAL-URL:https://auxpunks.uber.space
X-WR-CALDESC:Veranstaltungen für auxpunks
REFRESH-INTERVAL;VALUE=DURATION:PT1H
X-Robots-Tag:noindex
X-PUBLISHED-TTL:PT1H
BEGIN:VTIMEZONE
TZID:Europe/Berlin
BEGIN:DAYLIGHT
TZOFFSETFROM:+0100
TZOFFSETTO:+0200
TZNAME:CEST
DTSTART:20250330T010000
END:DAYLIGHT
BEGIN:STANDARD
TZOFFSETFROM:+0200
TZOFFSETTO:+0100
TZNAME:CET
DTSTART:20251026T010000
END:STANDARD
BEGIN:DAYLIGHT
TZOFFSETFROM:+0100
TZOFFSETTO:+0200
TZNAME:CEST
DTSTART:20260329T010000
END:DAYLIGHT
BEGIN:STANDARD
TZOFFSETFROM:+0200
TZOFFSETTO:+0100
TZNAME:CET
DTSTART:20261025T010000
END:STANDARD
BEGIN:DAYLIGHT
TZOFFSETFROM:+0100
TZOFFSETTO:+0200
TZNAME:CEST
DTSTART:20270328T010000
END:DAYLIGHT
BEGIN:STANDARD
TZOFFSETFROM:+0200
TZOFFSETTO:+0100
TZNAME:CET
DTSTART:20271031T010000
END:STANDARD
END:VTIMEZONE
BEGIN:VEVENT
DTSTART;TZID=Europe/Berlin:20260417T130000
DTEND;TZID=Europe/Berlin:20260417T180000
DTSTAMP:20260423T113018
CREATED:20250530T132903Z
LAST-MODIFIED:20251007T102747Z
UID:10014643-1776430800-1776448800@auxpunks.uber.space
SUMMARY:Mitmachwerkstatt - Offene Werkstatt
DESCRIPTION:Jeden Freitag (13 – 18 Uhr) könnt ihr mit euren Projekten und Vorhaben in die Grandhotel MitMachWerkstatt kommen. Macht es euch mehrSpass beim kreativen Arbeiten nicht allein zu sein? Braucht ihr dafür bestimmte Materialien oder habt ihr einfachnicht genug Platz zuhause? Ihr habt Angefangenes zu Hause und kriegt es nicht alleine fertig? Dann kommt in dieoffene Werkstatt und nutzt den schönen Raum. Falls ihr die (Näh)- oder andere Maschinen nutzen möchtet\, someldet euch bei mir\, und wir machen einen Termin für eine Einweisung bzw. einen Nähmaschinen-Führerschein aus. \n\n\n\n\n\n\n\nEVERY ON FRIDAY OPEN WORKSHOP – FROM 1 – 6 PM \n\n\n\nEvery Friday you can come to the MitMachWerkstatt with your projects and plans. Would you enjoy being aroundothers in a creative atmosphere? Do you need certain materials? Or do you simply not have enough space at home?Have you started something at home and can’t finish it on your own? Then come to the open workshop and makeuse of the beautiful space. If you would like to use the (sewing) or other machines\, please contact me and we willmake an appointment for an introduction or a sewing machine „drivers“ licence.
URL:https://auxpunks.uber.space/event/mitmachwerkstatt-offene-werkstatt/2026-04-17/
ATTACH;FMTTYPE=image/png:https://auxpunks.uber.space/wp-content/uploads/2025/05/Screenshot-2025-10-07-at-12-27-30-Mitmachwerkstatt_Banner.png-PNG-Grafik-1200-×-400-Pixel.png
END:VEVENT
BEGIN:VEVENT
DTSTART;TZID=Europe/Berlin:20260417T200000
DTEND;TZID=Europe/Berlin:20260417T233000
DTSTAMP:20260423T113018
CREATED:20260328T171720Z
LAST-MODIFIED:20260328T171722Z
UID:10016707-1776456000-1776468600@auxpunks.uber.space
SUMMARY:Punkmusi von Dahoam
DESCRIPTION:Die Römer:\n\nDie Friedberger Combo Die Römer gibt es seit 1998. Musikalisch gibt es seitdem Punkrock mit deutschen und englischen Texten auf die Ohren. Auf der Bühne treiben Bolle\, Breze und Mätty mitunter gerne Unfug und nehmen sich selbst nicht allzu ernst. Spaß garantiert!\n\nhttps://www.facebook.com/dieroemer\n\nAndreas Kalb:\n\nLiedermacher\, Kabarettist\, Anti-Held Dieser Mann aus der Nähe von Augsburg ist eine einzigartige Mischung aus klassischem Singer Songwriter\, scharfzüngigem Comedian und dem wohl „ohne superlativsten Liedermacher Deutschlands“ – wie er sich selbst gerne nennt.\n\nDie Persona: Zwischen Wirtshaus und Weltuntergang Andreas Kalb verkörpert den Anti-Helden des deutschen Kabaretts. Er ist fernab von polierter Perfektion; seine Musik und seine Texte sind wie ein spontaner Kneipenabend mit dem lustigsten\, aber auch zynischsten Typen an der Bar.\n\n• „Wirtshauslyrik“: Sein Stil wird oft als „Wirtshauslyrik“ beschrieben. Er holt die großen und kleinen Dramen des Alltags auf den Tisch: von absurden Dating-Erlebnissen über gesellschaftliche Tendenzen bis hin zum Wetterbericht.\n\n• Humor und Zynismus: Sein Humor ist oft tiefschwarz\, gnadenlos und politisch unkorrekt\, aber immer mit einer charmanten\, bayerischen Selbstironie gewürzt. Er nimmt nichts und niemanden – sich selbst am wenigsten – ernst.\n\n• Das Credo: Seine Haltung ist klar und schnörkellos: Er macht sein Ding\, ob es den Leuten gefällt oder nicht.\n\n  Der Sound: Akustik trifft Rock-Attitüde Obwohl Kalb oft solo mit der Akustikgitarre auftritt\, hat sein Sound eine deutliche Rock-Attitüde.\n\n• Multiinstrumentalist: Kalb ist ein Multiinstrumentalist\, der seine Songs – von denen es gerne mal viel zu viele pro Album gibt – in Eigenregie komponiert und aufnimmt.\n\n• Musikalische Bandbreite: Seine Musik reicht von eingängigem Liedermacher-Pop bis hin zu Tracks mit verstärkten Gitarren\, die seine Wurzeln in früheren Punk- und Rockbands durchscheinen lassen.\n\nFazit: Eine ehrliche Stimme Andreas Kalb ist mehr als nur ein Musiker oder ein Comedian. Er ist eine ehrliche\, ungeschminkte Stimme in der deutschsprachigen Szene\, die genau dort hinschaut\, wo es wehtut\, aber immer einen Witz auf Lager hat. Er füllt die Lücke zwischen Liedermacher-Tradition und modernem\, zynischem Stand-up-Kabarett.\n\nFacebook: https://www.facebook.com/andreas.kalb.wirtshauslyrik\n\nInstagram: https://www.instagram.com/bernd_alaska?igsh=MTRjdjk3dzBicTAxeA==\n\nDie traurige Ballade von Robert dem roten Presssack: https://m.youtube.com/watch?v=J9VI6hyCIfQ\n\nBilder sagen mehr als Worte\, daher hier ein aussagekräftiges Video: https://m.youtube.com/watch?v=d0wBb1YygYo&pp=ygUMw5zDtsOkw7zDtsOk\n\nOder hier\, was für Senioren und Kinder: https://youtu.be/slqtXlQzMZ8?si=XZGlSfj7-0nUZix5\n\nHier fast alle Lieder:\n\nhttps://andreaskalb.bandcamp.com/ oder\n\n\n\nJohn Doe & the Black Birds\n\n– eine „Schweinerock Band“\n\nSchweine Rock heißt für uns: Eine von Schwedenrock inspirierte Punkrockband\, die das Beste von Turbonegro\, The Hellacopters\, The Offspring und Pennywise mischt und daraus einen Sound kreiert\, der das Publikum zum Springen\, Abgehen und Mitsingen bringt!\n\nUnsere beliebtesten Tracks „Thick Blood“\, „Get Up“ und „Don’t Wait“ sind ein Beweis für unsere Hingabe zu energiegeladenem\, rockigem Sound\, der den Beat des Herzschlags und jeden zum Mitsingen antreibt. Ganz sicher! Die Songs kann man auf unserem Spotify-Account zusammen mit dem Rest unserer Diskographie anhören.\n\nWir sind nicht nur eine Band\, sondern nach über 15 Jahren Bestehen so etwas wie eine Familie\, die weiß\, wie man eine Show abzieht. Wenn wir auf der Bühne stehen\, geht es uns nur um die Musik\, die Leidenschaft und die Verbindung zum Publikum. Wir bringen pure\, unverfälschte Freude am Abgehen mit unserem Schweine-Rock’n’Roll auf jede große oder kleine Bühne! Also\, was meint ihr? Habt ihr Bock\, John Doe & the Black Birds die loszulassen und die Bude abzfackeln?\n\nJohn Doe & the Black Birds – Thick Blood (Youtube):\n\n\nJohn Doe – Spotify\nhttps://open.spotify.com/intl-de/artist/5GUnwafM7WwLQWEnsJqLTu?si=LxelPs5ZrRe7aV-qdXCOhg\n\nIG:\nhttps://www.instagram.com/john_doe_and_the_black_birds/\n\nFB:\nhttps://www.facebook.com/JDandTB/\n\nhttps://jdbb.de/\n\nBloody Pressack:\n\nBloody Pressack steht für vorzügliche Live-Musik made in Bavaria. Die 9-köpfige Band\, beheimatet im idyllischen Kirchdorf bei Bad Wörishofen\, bietet unkonventionelle “Auf die Fresse“-Muke\, die auf keine Kuhhaut passt.\n\nWie beim guten\, hausgemachten Pressack wird alles in einen Topf geworfen und immer wieder ein paar neue musikalische Zutaten verändert\, um es bei der Live-Performance mit einer exquisit unterhaltsamen Bühnenshow zu garnieren.\n\nEine fette Brass-Section\, feine bis brachiale Rhythmen und unbekümmerte Texte sorgen für ein garantiert kochend heißes Publikum. Die schmackhafte Musik dieser Band hat ihr mittlerweile eine treue Fangemeinde eingebracht.\n\nWer einmal von Bloody Pressack gekostet hat\, kommt nicht mehr davon los.\n\nSieh dir das Profil von @bloody.pressack auf Instagram an: https://www.instagram.com/bloody.pressack/?utm_source=ig_web_button_share_sheet
URL:https://auxpunks.uber.space/event/punkmusi-von-dahoam/
LOCATION:Ballonfabrik Augsburg – Fabrik Unique\, Austr. 27\, Augsburg\, Bayern\, Deutschland
CATEGORIES:Konzerte & Feiern
ATTACH;FMTTYPE=image/jpeg:https://auxpunks.uber.space/wp-content/uploads/2026/03/signal-2026-03-26-101536_002.jpeg
END:VEVENT
BEGIN:VEVENT
DTSTART;TZID=Europe/Berlin:20260417T200000
DTEND;TZID=Europe/Berlin:20260418T010000
DTSTAMP:20260423T113018
CREATED:20260412T094513Z
LAST-MODIFIED:20260412T094515Z
UID:10016719-1776456000-1776474000@auxpunks.uber.space
SUMMARY:PUNKMUSI VON DAHOAM
DESCRIPTION:Die Römer:\nDie Friedberger Combo Die Römer gibt es seit 1998. Musikalisch gibt es seitdem Punkrock mit deutschen und englischen Texten auf die Ohren. Auf der Bühne treiben Bolle\, Breze und Mätty mitunter gerne Unfug und nehmen sich selbst nicht allzu ernst. Spaß garantiert!\n\nhttps://www.facebook.com/dieroemer\n\nAndreas Kalb:\nLiedermacher\, Kabarettist\, Anti-Held Dieser Mann aus der Nähe von Augsburg ist eine einzigartige Mischung aus klassischem Singer Songwriter\, scharfzüngigem Comedian und dem wohl „ohne superlativsten Liedermacher Deutschlands“ – wie er sich selbst gerne nennt.\n\nDie Persona: Zwischen Wirtshaus und Weltuntergang Andreas Kalb verkörpert den Anti-Helden des deutschen Kabaretts. Er ist fernab von polierter Perfektion; seine Musik und seine Texte sind wie ein spontaner Kneipenabend mit dem lustigsten\, aber auch zynischsten Typen an der Bar.\n\n• „Wirtshauslyrik“: Sein Stil wird oft als „Wirtshauslyrik“ beschrieben. Er holt die großen und kleinen Dramen des Alltags auf den Tisch: von absurden Dating-Erlebnissen über gesellschaftliche Tendenzen bis hin zum Wetterbericht.\n\n• Humor und Zynismus: Sein Humor ist oft tiefschwarz\, gnadenlos und politisch unkorrekt\, aber immer mit einer charmanten\, bayerischen Selbstironie gewürzt. Er nimmt nichts und niemanden – sich selbst am wenigsten – ernst.\n\n• Das Credo: Seine Haltung ist klar und schnörkellos: Er macht sein Ding\, ob es den Leuten gefällt oder nicht.\n\n  Der Sound: Akustik trifft Rock-Attitüde Obwohl Kalb oft solo mit der Akustikgitarre auftritt\, hat sein Sound eine deutliche Rock-Attitüde.\n\n• Multiinstrumentalist: Kalb ist ein Multiinstrumentalist\, der seine Songs – von denen es gerne mal viel zu viele pro Album gibt – in Eigenregie komponiert und aufnimmt.\n\n• Musikalische Bandbreite: Seine Musik reicht von eingängigem Liedermacher-Pop bis hin zu Tracks mit verstärkten Gitarren\, die seine Wurzeln in früheren Punk- und Rockbands durchscheinen lassen.\n\nFazit: Eine ehrliche Stimme Andreas Kalb ist mehr als nur ein Musiker oder ein Comedian. Er ist eine ehrliche\, ungeschminkte Stimme in der deutschsprachigen Szene\, die genau dort hinschaut\, wo es wehtut\, aber immer einen Witz auf Lager hat. Er füllt die Lücke zwischen Liedermacher-Tradition und modernem\, zynischem Stand-up-Kabarett.\n\nFacebook: https://www.facebook.com/andreas.kalb.wirtshauslyrik\n\nInstagram: https://www.instagram.com/bernd_alaska?igsh=MTRjdjk3dzBicTAxeA==\n\nDie traurige Ballade von Robert dem roten Presssack: https://m.youtube.com/watch?v=J9VI6hyCIfQ\n\nBilder sagen mehr als Worte\, daher hier ein aussagekräftiges Video: https://m.youtube.com/watch?v=d0wBb1YygYo&pp=ygUMw5zDtsOkw7zDtsOk\n\nOder hier\, was für Senioren und Kinder: https://youtu.be/slqtXlQzMZ8?si=XZGlSfj7-0nUZix5\n\nHier fast alle Lieder:\n\nhttps://andreaskalb.bandcamp.com/ oder\n\n\n\nJohn Doe & the Black Birds\n– eine „Schweinerock Band“\n\nSchweine Rock heißt für uns: Eine von Schwedenrock inspirierte Punkrockband\, die das Beste von Turbonegro\, The Hellacopters\, The Offspring und Pennywise mischt und daraus einen Sound kreiert\, der das Publikum zum Springen\, Abgehen und Mitsingen bringt!\n\nUnsere beliebtesten Tracks „Thick Blood“\, „Get Up“ und „Don’t Wait“ sind ein Beweis für unsere Hingabe zu energiegeladenem\, rockigem Sound\, der den Beat des Herzschlags und jeden zum Mitsingen antreibt. Ganz sicher! Die Songs kann man auf unserem Spotify-Account zusammen mit dem Rest unserer Diskographie anhören.\n\nWir sind nicht nur eine Band\, sondern nach über 15 Jahren Bestehen so etwas wie eine Familie\, die weiß\, wie man eine Show abzieht. Wenn wir auf der Bühne stehen\, geht es uns nur um die Musik\, die Leidenschaft und die Verbindung zum Publikum. Wir bringen pure\, unverfälschte Freude am Abgehen mit unserem Schweine-Rock’n’Roll auf jede große oder kleine Bühne! Also\, was meint ihr? Habt ihr Bock\, John Doe & the Black Birds die loszulassen und die Bude abzfackeln?\n\nJohn Doe & the Black Birds – Thick Blood (Youtube):\n\n\nJohn Doe – Spotify\nhttps://open.spotify.com/intl-de/artist/5GUnwafM7WwLQWEnsJqLTu?si=LxelPs5ZrRe7aV-qdXCOhg\n\nIG:\nhttps://www.instagram.com/john_doe_and_the_black_birds/\n\nFB:\nhttps://www.facebook.com/JDandTB/\n\nhttps://jdbb.de/\n\nBloody Pressack:\nBloody Pressack steht für vorzügliche Live-Musik made in Bavaria. Die 9-köpfige Band\, beheimatet im idyllischen Kirchdorf bei Bad Wörishofen\, bietet unkonventionelle “Auf die Fresse“-Muke\, die auf keine Kuhhaut passt.\n\nWie beim guten\, hausgemachten Pressack wird alles in einen Topf geworfen und immer wieder ein paar neue musikalische Zutaten verändert\, um es bei der Live-Performance mit einer exquisit unterhaltsamen Bühnenshow zu garnieren.\n\nEine fette Brass-Section\, feine bis brachiale Rhythmen und unbekümmerte Texte sorgen für ein garantiert kochend heißes Publikum. Die schmackhafte Musik dieser Band hat ihr mittlerweile eine treue Fangemeinde eingebracht.\n\nWer einmal von Bloody Pressack gekostet hat\, kommt nicht mehr davon los.\n\nSieh dir das Profil von @bloody.pressack auf Instagram an: https://www.instagram.com/bloody.pressack/?utm_source=ig_web_button_share_sheet
URL:https://auxpunks.uber.space/event/punkmusi-von-dahoam-2/
LOCATION:Ballonfabrik Augsburg – Fabrik Unique\, Austr. 27\, Augsburg\, Bayern\, Deutschland
CATEGORIES:Konzerte & Feiern
ATTACH;FMTTYPE=image/jpeg:https://auxpunks.uber.space/wp-content/uploads/2026/04/signal-2026-03-09-21-34-29-960-1.jpg
END:VEVENT
END:VCALENDAR