BEGIN:VCALENDAR
VERSION:2.0
PRODID:-//auxpunks - ECPv6.15.11//NONSGML v1.0//EN
CALSCALE:GREGORIAN
METHOD:PUBLISH
X-WR-CALNAME:auxpunks
X-ORIGINAL-URL:https://auxpunks.uber.space
X-WR-CALDESC:Veranstaltungen für auxpunks
REFRESH-INTERVAL;VALUE=DURATION:PT1H
X-Robots-Tag:noindex
X-PUBLISHED-TTL:PT1H
BEGIN:VTIMEZONE
TZID:Europe/Berlin
BEGIN:DAYLIGHT
TZOFFSETFROM:+0100
TZOFFSETTO:+0200
TZNAME:CEST
DTSTART:20250330T010000
END:DAYLIGHT
BEGIN:STANDARD
TZOFFSETFROM:+0200
TZOFFSETTO:+0100
TZNAME:CET
DTSTART:20251026T010000
END:STANDARD
BEGIN:DAYLIGHT
TZOFFSETFROM:+0100
TZOFFSETTO:+0200
TZNAME:CEST
DTSTART:20260329T010000
END:DAYLIGHT
BEGIN:STANDARD
TZOFFSETFROM:+0200
TZOFFSETTO:+0100
TZNAME:CET
DTSTART:20261025T010000
END:STANDARD
BEGIN:DAYLIGHT
TZOFFSETFROM:+0100
TZOFFSETTO:+0200
TZNAME:CEST
DTSTART:20270328T010000
END:DAYLIGHT
BEGIN:STANDARD
TZOFFSETFROM:+0200
TZOFFSETTO:+0100
TZNAME:CET
DTSTART:20271031T010000
END:STANDARD
END:VTIMEZONE
BEGIN:VEVENT
DTSTART;TZID=Europe/Berlin:20260508T130000
DTEND;TZID=Europe/Berlin:20260508T180000
DTSTAMP:20260423T172037
CREATED:20250530T132903Z
LAST-MODIFIED:20251007T102747Z
UID:10014646-1778245200-1778263200@auxpunks.uber.space
SUMMARY:Mitmachwerkstatt - Offene Werkstatt
DESCRIPTION:Jeden Freitag (13 – 18 Uhr) könnt ihr mit euren Projekten und Vorhaben in die Grandhotel MitMachWerkstatt kommen. Macht es euch mehrSpass beim kreativen Arbeiten nicht allein zu sein? Braucht ihr dafür bestimmte Materialien oder habt ihr einfachnicht genug Platz zuhause? Ihr habt Angefangenes zu Hause und kriegt es nicht alleine fertig? Dann kommt in dieoffene Werkstatt und nutzt den schönen Raum. Falls ihr die (Näh)- oder andere Maschinen nutzen möchtet\, someldet euch bei mir\, und wir machen einen Termin für eine Einweisung bzw. einen Nähmaschinen-Führerschein aus. \n\n\n\n\n\n\n\nEVERY ON FRIDAY OPEN WORKSHOP – FROM 1 – 6 PM \n\n\n\nEvery Friday you can come to the MitMachWerkstatt with your projects and plans. Would you enjoy being aroundothers in a creative atmosphere? Do you need certain materials? Or do you simply not have enough space at home?Have you started something at home and can’t finish it on your own? Then come to the open workshop and makeuse of the beautiful space. If you would like to use the (sewing) or other machines\, please contact me and we willmake an appointment for an introduction or a sewing machine „drivers“ licence.
URL:https://auxpunks.uber.space/event/mitmachwerkstatt-offene-werkstatt/2026-05-08/
ATTACH;FMTTYPE=image/png:https://auxpunks.uber.space/wp-content/uploads/2025/05/Screenshot-2025-10-07-at-12-27-30-Mitmachwerkstatt_Banner.png-PNG-Grafik-1200-×-400-Pixel.png
END:VEVENT
BEGIN:VEVENT
DTSTART;TZID=Europe/Berlin:20260508T170000
DTEND;TZID=Europe/Berlin:20260508T180000
DTSTAMP:20260423T172037
CREATED:20260419T210741Z
LAST-MODIFIED:20260419T210742Z
UID:10016723-1778259600-1778263200@auxpunks.uber.space
SUMMARY:Kundgebung zum Tag der Befreiung vom Faschismus
DESCRIPTION:Der 8. Mai – ein Tag der Mahnung und Erinnerung \n81. Jahrestag – 8. Mai 1945\nDas Ende des Krieges in Europa\nDer 8. Mai muss gesetzlicher Feiertag werden.\n● Wir gedenken aller Opfer und danken all jenen\, die im Kampf gegen\nFaschismus und Krieg ihr Leben riskiert haben!\n● „Nie wieder Faschismus – nie wieder Krieg!“ heißt heute: Leistet\nWiderstand! Verteidigen wir demokratische und soziale Rechte\, Menschenwürde und Frieden!\n● Die rassistische Ausgrenzung von Flüchtlingen an den Grenzen\nmuss beendet werden. Schluss mit einer europäischen Abschottungspolitik!\n● Kampf dem rechten\, menschenfeindlichen und faschistischen\nGedankengut. Schluss mit Krieg und Militarismus!
URL:https://auxpunks.uber.space/event/kundgebung-zum-tag-der-befreiung-vom-faschismus/
LOCATION:Rathausplatz\, 86150 Augsburg\, Deutschland
CATEGORIES:Demos & Aktionen
ATTACH;FMTTYPE=image/jpeg:https://auxpunks.uber.space/wp-content/uploads/2026/04/8Mai.jpg
END:VEVENT
END:VCALENDAR