BEGIN:VCALENDAR
VERSION:2.0
PRODID:-//auxpunks - ECPv6.15.11//NONSGML v1.0//EN
CALSCALE:GREGORIAN
METHOD:PUBLISH
X-WR-CALNAME:auxpunks
X-ORIGINAL-URL:https://auxpunks.uber.space
X-WR-CALDESC:Veranstaltungen für auxpunks
REFRESH-INTERVAL;VALUE=DURATION:PT1H
X-Robots-Tag:noindex
X-PUBLISHED-TTL:PT1H
BEGIN:VTIMEZONE
TZID:Europe/Berlin
BEGIN:DAYLIGHT
TZOFFSETFROM:+0100
TZOFFSETTO:+0200
TZNAME:CEST
DTSTART:20230326T010000
END:DAYLIGHT
BEGIN:STANDARD
TZOFFSETFROM:+0200
TZOFFSETTO:+0100
TZNAME:CET
DTSTART:20231029T010000
END:STANDARD
BEGIN:DAYLIGHT
TZOFFSETFROM:+0100
TZOFFSETTO:+0200
TZNAME:CEST
DTSTART:20240331T010000
END:DAYLIGHT
BEGIN:STANDARD
TZOFFSETFROM:+0200
TZOFFSETTO:+0100
TZNAME:CET
DTSTART:20241027T010000
END:STANDARD
BEGIN:DAYLIGHT
TZOFFSETFROM:+0100
TZOFFSETTO:+0200
TZNAME:CEST
DTSTART:20250330T010000
END:DAYLIGHT
BEGIN:STANDARD
TZOFFSETFROM:+0200
TZOFFSETTO:+0100
TZNAME:CET
DTSTART:20251026T010000
END:STANDARD
BEGIN:DAYLIGHT
TZOFFSETFROM:+0100
TZOFFSETTO:+0200
TZNAME:CEST
DTSTART:20260329T010000
END:DAYLIGHT
BEGIN:STANDARD
TZOFFSETFROM:+0200
TZOFFSETTO:+0100
TZNAME:CET
DTSTART:20261025T010000
END:STANDARD
END:VTIMEZONE
BEGIN:VEVENT
DTSTART;TZID=Europe/Berlin:20251121T180000
DTEND;TZID=Europe/Berlin:20251121T210000
DTSTAMP:20260421T003908
CREATED:20251115T120814Z
LAST-MODIFIED:20251119T205144Z
UID:10015974-1763748000-1763758800@auxpunks.uber.space
SUMMARY:Austausch und Vortrag über Internationalismus am Beispiel von Prosfygika
DESCRIPTION:Vor zwei Wochen war eine Delegation aus Prosfygika in Griechenland mit der #SAVEPROSFYGIKA Kampagne in Augsburg zu Besuch und hat ihren Struggle geteilt. Die acht Häuserblocks im Zentrum Athens\, welche Anfang der 2000er besetzt wurden und seit 15 Jahren die organisierte Gemeinschaft SY.KA.PRO  beherbergen\, bilden die größte Hausbesetzung Griechenlands. Inspiriert von dem Austausch mit den Genoss*innen laden wir am Freitag den 21.11. um 18:00 in die Ganze Bäckerei ein\, um uns am Beispiel von Prosfygika weiter zu Internationalismus auszutauschen. Die Gemeinschaft des Besetzten Prosfygika steht für Kämpfe um Autonomie und zeigt konkrete Vorschläge zum Organisieren von Internationalismus auf. Wir wollen einen tieferen Einblick aus unserer eigenen Erfahrung teilen und eine Diskussion über internationalistische Organisierung in unseren Zusammenhängen öffnen.
URL:https://auxpunks.uber.space/event/austausch-und-vortrag-ueber-internationalismus-am-beispiel-von-prosfygika/
LOCATION:“ Ganze Bäckerei “ Augsburg  Frauentorstr.34
CATEGORIES:Linke Einführungswochen 2025,Vorträge, Filme & Workshops
ATTACH;FMTTYPE=image/jpeg:https://auxpunks.uber.space/wp-content/uploads/2025/11/signal-2025-11-08-181804_002.jpeg
END:VEVENT
BEGIN:VEVENT
DTSTART;TZID=Europe/Berlin:20251031T200000
DTEND;TZID=Europe/Berlin:20251031T235900
DTSTAMP:20260421T003908
CREATED:20251027T131014Z
LAST-MODIFIED:20251027T131016Z
UID:10015947-1761940800-1761955140@auxpunks.uber.space
SUMMARY:ABA Halloween Party
DESCRIPTION:Kommt auch dieses Jahr wieder zu der alljährlichen ABA-Halloween Party!\n\nDie Gruselei startet am 31.10. um 20:00 in Der Ganzen Bäckerei.\n– DJs legen auf\n– Kostümwettbewerb\n– Soli Getränkespecials\n\nDie Party ist nur eine von vielen Veranstaltungen die im Rahmen der Linken Einführungswochen 2025 stattfinden.
URL:https://auxpunks.uber.space/event/aba-halloween-party/
LOCATION:“ Ganze Bäckerei “ Augsburg  Frauentorstr.34
CATEGORIES:Konzerte & Feiern,Linke Einführungswochen 2025
ATTACH;FMTTYPE=image/jpeg:https://auxpunks.uber.space/wp-content/uploads/2025/10/halloween_liwo.jpeg
END:VEVENT
BEGIN:VEVENT
DTSTART;TZID=Europe/Berlin:20241130T160000
DTEND;TZID=Europe/Berlin:20241130T200000
DTSTAMP:20260421T003908
CREATED:20241126T201612Z
LAST-MODIFIED:20241126T201612Z
UID:10014370-1732982400-1732996800@auxpunks.uber.space
SUMMARY:Vortrag: "Rechte Strukturen in Augsburg"
DESCRIPTION:Kommt zu unserem Vortrag über Rechte Strukturen in Augsburg!\n\nDer Rechtsruck zeigt sich auch in Augsburg und im Umland\, rechte Strukturen treten wieder vermehrt in Erscheinung und wachsen. Wir wollen einen Überblick über diese Gruppen geben\, um besser gegen sie zu kämpfen.\n\nUm sich die Nazis besser zu merken\, gibt es im Anschluss ein Nazi-Bingo mit tollen Preisen und was zu essen.\n\nKommt vorbei!\nSamstag 30.11 – 16 Uhr\nDie Ganze Bäckerei
URL:https://auxpunks.uber.space/event/vortrag-rechte-strukturen-in-augsburg/
LOCATION:“ Ganze Bäckerei “ Augsburg  Frauentorstr.34
CATEGORIES:Vorträge, Filme & Workshops,🎃 Linke Einführungswochen
END:VEVENT
BEGIN:VEVENT
DTSTART;TZID=Europe/Berlin:20241129T180000
DTEND;TZID=Europe/Berlin:20241129T210000
DTSTAMP:20260421T003908
CREATED:20241027T073938Z
LAST-MODIFIED:20241027T073938Z
UID:10014309-1732903200-1732914000@auxpunks.uber.space
SUMMARY:Filmabend "Niemals allein\, immer zusammen" im Linksbüro
DESCRIPTION:Zum Abschluss der Einführungswochen zeigen wir den Film „Niemals allein\, immer zusammen“. Danach lassen wir den Abend locker in einer Bar ausklingen. \n\nKomm vorbei\, schau mit uns den Film und stoß‘ auf den Abschluss der Einführungswochen an!\n\nWir sehen uns um 18 Uhr im Linksbüro am Mauerberg 31! 🙂
URL:https://auxpunks.uber.space/event/filmabend-niemals-allein-immer-zusammen-im-linksbuero/
LOCATION:Mauerberg 31\, 86152 Augsburg\, Deutschland
CATEGORIES:🎃 Linke Einführungswochen
END:VEVENT
BEGIN:VEVENT
DTSTART;TZID=Europe/Berlin:20241127T180000
DTEND;TZID=Europe/Berlin:20241127T200000
DTSTAMP:20260421T003908
CREATED:20241018T103619Z
LAST-MODIFIED:20241018T105630Z
UID:10014283-1732730400-1732737600@auxpunks.uber.space
SUMMARY:Subtiler Sexismus & Empowerment (LiWo)
DESCRIPTION:FLINTA*s begegnen Sexismus jeden Tag. Ob auf der Straße\, in der Arbeit oder im Studium oder sogar in den eigenen vier Wänden. Trotzdem kann er oft klar benannt werden. Zurück bleiben nur der bittere Beigeschmack und ein seltsames Gefühl.\nDer Workshop „Subtiler Sexismus & Empowerment“ will sich genau damit beschäftigen und verschiedene Strukturen von Alltagssexismus benennen und der Frage nachgehen wie dieser sich immer wieder reproduzieren. Aber im theoretischen wollen wir nicht bleiben und deswegen wird sich die zweite Hälfte des Workshops konkrete Handlungsweisen widmen. Wie können FLINTA*s sich gegenseitig empowern und wie sollten Männer ihren Teil zum Kampf gegen strukturellen Sexismus beitragen? Auf diese zwei Fragen wollen wir gemeinsam Antworten finden!
URL:https://auxpunks.uber.space/event/subtiler-sexismus-empowerment-liwo/
LOCATION:Linksbüro\, Mauerberg 31\, Augsburg\, 86152\, Germany
CATEGORIES:Vorträge, Filme & Workshops,🎃 Linke Einführungswochen
END:VEVENT
BEGIN:VEVENT
DTSTART;TZID=Europe/Berlin:20241126T190000
DTEND;TZID=Europe/Berlin:20241126T213000
DTSTAMP:20260421T003908
CREATED:20241121T125515Z
LAST-MODIFIED:20241121T125515Z
UID:10014362-1732647600-1732656600@auxpunks.uber.space
SUMMARY:Auseinandersetzung mit Männlichkeit\, Gesprächsrunde
DESCRIPTION:Die neue Gruppe trifft sich zum Gespräch über Männlichkeit\, über Profeminismus\, über patriarchale Gesellschaftsstrukturen und deren negativen Auswirkungen. Über Möglichkeiten der Veränderung. Der Einstieg in die Gruppe ist jederzeit möglich: neuer Input\, Erfahrungen\, Perspektiven und Ideen für Veränderungen sind sehr willkommen.\nAll genders welcome.
URL:https://auxpunks.uber.space/event/auseinandersetzung-mit-maennlichkeit-gespraechsrunde-4/
LOCATION:Grandhotel Cosmopolis\, SPRINGERGÄSSCHEN 5\, Augsburg\, 86152\, Deutschland
CATEGORIES:Plena, Treffen & Lesekreise
END:VEVENT
BEGIN:VEVENT
DTSTART;TZID=Europe/Berlin:20241123T180000
DTEND;TZID=Europe/Berlin:20241123T200000
DTSTAMP:20260421T003908
CREATED:20241121T125436Z
LAST-MODIFIED:20241121T125436Z
UID:10014361-1732384800-1732392000@auxpunks.uber.space
SUMMARY:WorkAround6 - Monatliches Treffen - gute Einstiegsmöglichkeit
DESCRIPTION:Wir von WorkAround6 treffen uns am Samstag um 18 Uhr im Grandhotel.\nDieses mal ist es mehr ein Planungstreffen für weitere Themen und mögliche Aktionen. Kommt vorbei und bringt Ideen mit 🙂
URL:https://auxpunks.uber.space/event/workaround6-monatliches-treffen-gute-einstiegsmoeglichkeit/
LOCATION:Grandhotel Cosmopolis\, SPRINGERGÄSSCHEN 5\, Augsburg\, 86152\, Deutschland
CATEGORIES:Plena, Treffen & Lesekreise
END:VEVENT
BEGIN:VEVENT
DTSTART;TZID=Europe/Berlin:20241123T160000
DTEND;TZID=Europe/Berlin:20241123T190000
DTSTAMP:20260421T003908
CREATED:20241027T074017Z
LAST-MODIFIED:20241027T074017Z
UID:10014310-1732377600-1732388400@auxpunks.uber.space
SUMMARY:FLINTA*-Sprayen im Uni-Viertel
DESCRIPTION:Kreativer Protest auf der „Schwabenwand“! \n\nZusammen gestalten wir die Wand im Univiertel – egal\, ob du schon mal gesprüht hast oder nicht\, jede FLINTA*-Person ist willkommen\, um sich künstlerisch auszudrücken. Spraydosen stehen bereit. \nDanach geht’s (für alle\, die Lust haben) gemeinsam zum FLINTA*-Rave im City Club. \n\nWir freuen uns auf dich! \n\n(Treffpunkt an der Haltestelle „Beim dürren Ast“\, Linie 2)
URL:https://auxpunks.uber.space/event/flinta-sprayen-im-uni-viertel/
LOCATION:Am dürren Ast\, 86159 Augsburg
CATEGORIES:🎃 Linke Einführungswochen
END:VEVENT
BEGIN:VEVENT
DTSTART;TZID=Europe/Berlin:20241121T180000
DTEND;TZID=Europe/Berlin:20241121T213000
DTSTAMP:20260421T003908
CREATED:20241030T084641Z
LAST-MODIFIED:20241116T133057Z
UID:10014316-1732212000-1732224600@auxpunks.uber.space
SUMMARY:Linke Abendtour (LiWo)
DESCRIPTION:Du bist neu in Augsburg? Oder schon immer in Augsburg? Und willst alternative Orte in Augsburg kennen lernen oder wieder mal besuchen? Dann komm mit auf die linke Abendtour. Es gibt Getränke gegen Spende und auch in den Lokalitäten\, die wir besuchen.Wir geben kleine In-Puts und am Ende der Tour gibt es was warmes zu Essen – auch gegen Spende. \nTreffpunkt: 18 Uhr vorm CC.
URL:https://auxpunks.uber.space/event/linke-abendtour-liwo-2/
CATEGORIES:🎃 Linke Einführungswochen
END:VEVENT
BEGIN:VEVENT
DTSTART;TZID=Europe/Berlin:20241118T190000
DTEND;TZID=Europe/Berlin:20241118T210000
DTSTAMP:20260421T003908
CREATED:20241030T141634Z
LAST-MODIFIED:20241030T141634Z
UID:10014318-1731956400-1731963600@auxpunks.uber.space
SUMMARY:Offenes Plenum der Linksjugend inkl. Impulsvortrag im Linksbüro
DESCRIPTION:„Wohnen – Warum wir uns einmischen müssen“\n\nKomm zum offenen Plenum der Linksjugend und lerne uns kennen! Wir starten mit einem Impulsvortrag zum Thema Wohnen – eines der zentralen Themen im Leitantrag und aktuell ein starkes Anliegen der Linken Augsburg. Danach ist Raum für Fragen\, Diskussionen und Ideen. Ob du neugierig auf politische Aktionen bist oder eigene Ideen für den Wandel hast – jede*r ist willkommen!\n\nWir sehen uns um 19 Uhr im Linksbüro am Mauerberg 31!
URL:https://auxpunks.uber.space/event/offenes-plenum-der-linksjugend-inkl-impulsvortrag-im-linksbuero/
LOCATION:Mauerberg 31\, 86152 Augsburg\, Deutschland
CATEGORIES:Plena, Treffen & Lesekreise,🎃 Linke Einführungswochen
END:VEVENT
BEGIN:VEVENT
DTSTART;TZID=Europe/Berlin:20241115T173000
DTEND;TZID=Europe/Berlin:20241115T220000
DTSTAMP:20260421T003908
CREATED:20241022T172432Z
LAST-MODIFIED:20241022T172432Z
UID:10014292-1731691800-1731708000@auxpunks.uber.space
SUMMARY:Let's talk about Anarchism
DESCRIPTION:ABA lädt im Rahmen der Linken Einführungswochen zu einem Diskussionsabend über Anarchismus am 15.11. ab 17:30 in Der Ganzen Bäckerei ein.\nDie Veranstaltung richtet sich an alle\, die Interesse an Gesprächen über Anarchismus haben. Wir schaffen auch Raum für Einstiegsfragen.\n\nUnser Themenvorschlag für dieses Mal: „Anarchistisch leben im kapitalistischen System“\nWir lassen den Abend anschließend gemütlich mit ein paar Getränken ausklingen und tauschen uns dabei gern weiter aus.
URL:https://auxpunks.uber.space/event/lets-talk-about-anarchism/
LOCATION:“ Ganze Bäckerei “ Augsburg  Frauentorstr.34
CATEGORIES:Vorträge, Filme & Workshops,🎃 Linke Einführungswochen
END:VEVENT
BEGIN:VEVENT
DTSTART;TZID=Europe/Berlin:20241114T180000
DTEND;TZID=Europe/Berlin:20241114T200000
DTSTAMP:20260421T003908
CREATED:20241104T134924Z
LAST-MODIFIED:20241104T134925Z
UID:10014323-1731607200-1731614400@auxpunks.uber.space
SUMMARY:Marx für alle!
DESCRIPTION:Überholt\, von vorgestern\, zu kompliziert!? Karl Marx Werk wurde immer wieder abgeschrieben und seine Vertreter*innen belächelt. Doch seit der Finanzkrise 2008\, der immer weiter auseinander gehenden Schere zwischen arm und reich\, sowie einer Klimakrise die man einfach nicht in den Griff zu bekommen scheint\, stellen sich viele wieder die Frage: Hatte Karl Marx doch recht?In unserem Workshop werden wir einen spielerischen und lebensnahen Einstieg in sein Werk geben und aufzeigen wie sich mit seiner Theorie aktuelle wirtschaftliche Prozesse erklären lassen.Bei Snacks und Getränken auf Spendenbasis freuen wir uns auf euch und einen interessanten Austausch.
URL:https://auxpunks.uber.space/event/marx-fuer-alle/
LOCATION:Mauerberg 31\, 86152 Augsburg\, Deutschland
CATEGORIES:Vorträge, Filme & Workshops,🎃 Linke Einführungswochen
END:VEVENT
BEGIN:VEVENT
DTSTART;TZID=Europe/Berlin:20241113T190000
DTEND;TZID=Europe/Berlin:20241113T210000
DTSTAMP:20260421T003908
CREATED:20241027T073855Z
LAST-MODIFIED:20241027T073855Z
UID:10014308-1731524400-1731531600@auxpunks.uber.space
SUMMARY:Workshop: Klimalügen widerlegen
DESCRIPTION:Bald ist Weihnachten und du hast keine Lust auf die leidigen Falschaussagen bei Familientreffen? Wir helfen dir\, gängige Klimalügen zu widerlegen!\n\nIn einem Workshop wollen wir gemeinsam Argumente erarbeiten\, die Klimalügen widerlegen und zu zukunftsorientiertem Handeln motivieren. Dazu treffen wir uns am 13.11 2024 um 19 Uhr in der Villa des SJR.
URL:https://auxpunks.uber.space/event/workshop-klimaluegen-widerlegen/
LOCATION:Stadtjugendzentrum Villa\, Kanalstraße 15\, 86153 Augsburg
CATEGORIES:Klimagerechtigkeit,Vorträge, Filme & Workshops
END:VEVENT
BEGIN:VEVENT
DTSTART;TZID=Europe/Berlin:20241112T190000
DTEND;TZID=Europe/Berlin:20241112T210000
DTSTAMP:20260421T003908
CREATED:20241107T111352Z
LAST-MODIFIED:20241108T113817Z
UID:10014330-1731438000-1731445200@auxpunks.uber.space
SUMMARY:Auseinandersetzung mit Männlichkeit
DESCRIPTION:Gesprächsrunde \nWas passiert da eigentlich an den Abenden? \nWir sind eine recht neue\, gemischte Gruppe aus cis Männern und FLINTA. Wir möchten am Anfang uns gegen seitig und neue Teilnehmende kennenlernen: welche Motivation besteht für die Teilnahme und welche Vorerfahrungen haben die einzelnen Menschen. Wir sprechen über unsere Erfahrungen mit Männlichkeit aus den unterschiedlichen Blickwinkeln. Wir sprechen über Alltagserfahrungen\, beantworten uns gegenseitig Fragen und diskutieren einzelne Aspekte aus Patriarchat\, Feminismus und intersektionalen Themen. Damit bilden wir einen Raum\, in dem wir uns wohlfühlen\, gegenseitig stärken und Mut machen. Wir lernen voneinander durch Zuhören\, wir sprechen Gedanken aus und bekommen Resonanz und Feedback\, mit dem wir unsere Positionen bewerten und ggf. anpassen können. Die Gespräche entwickeln sich frei\, ohne inhaltliche Vorgaben\, mit hoher Achtsamkeit dafür\, dass alle gehört und gesehen werden. Wir teilen in einer Signal-Gruppe Anregungen für Weiterbildung (Podcasts usw.). Wir möchten außerdem auf feministischen Veranstaltungen als Gruppe aktiv beitragen\, durch einen Infostand oder praktische Arbeit\, z.B. Care oder Repro.  \nWir bieten diesen Raum für interessierte\, neugierige\, fragende\, erfahrene und unerfahrene\, belesene und aktivistische Menschen\, mit dem Gedanken\, dass wir gut voneinander lernen können. Wir wollen flexibel sein und gemeinsam uns entwickeln „auf einer Reise“.
URL:https://auxpunks.uber.space/event/auseinandersetzung-mit-maennlichkeit/
LOCATION:krätzwerk\, Schertlinstr. 10A\, Augsburg\, 86159
CATEGORIES:Plena, Treffen & Lesekreise
END:VEVENT
BEGIN:VEVENT
DTSTART;TZID=Europe/Berlin:20241111T183000
DTEND;TZID=Europe/Berlin:20241111T203000
DTSTAMP:20260421T003908
CREATED:20241107T111335Z
LAST-MODIFIED:20241107T111337Z
UID:10014328-1731349800-1731357000@auxpunks.uber.space
SUMMARY:Workshop (Was jede*r über Schwangerschaftsabbrüche wissen sollte)
DESCRIPTION:Nach einem kurzen Crashkurs über die Anatomie von Uterus\, Vulva\, Vagina\, etc. geben wir euch einen Überblick über den Schwangerschaftsabbruch – von der rechtlichen Lage\, über den konkreten Ablauf mit medizinischem Hintergrund bis hin zur Versorgungsproblematik.\nWir möchten damit allen Teilnehmenden das vermitteln\, was unserer Meinung nach jede*r über den Schwangerschaftsabbruch wissen sollte\negal ob man selbst (ungewollt) schwanger werden kann oder nicht.
URL:https://auxpunks.uber.space/event/workshop-was-jeder-ueber-schwangerschaftsabbrueche-wissen-sollte/
LOCATION:Qualle Quartier für Alle e.V.\, Wiesenstraße 5\, Augsburg\, 86153
CATEGORIES:🎃 Linke Einführungswochen
END:VEVENT
BEGIN:VEVENT
DTSTART;TZID=Europe/Berlin:20241110T160000
DTEND;TZID=Europe/Berlin:20241110T180000
DTSTAMP:20260421T003908
CREATED:20241030T141701Z
LAST-MODIFIED:20241030T141701Z
UID:10014319-1731254400-1731261600@auxpunks.uber.space
SUMMARY:Offene Trommelprobe Rhythms of Resistance Augsburg
DESCRIPTION:im Rahmen der Linken Einführungswochen laden wir zur offenen Trommelprobe. Keine Vorkenntnisse oder Talent nötig. Instrumente sind vor Ort. \n\nWir proben im Kraetzwerk\, Schertlinstraße 10a. Informiere dich über uns unter https://roraux.wordpress.com/
URL:https://auxpunks.uber.space/event/offene-trommelprobe-rhythms-of-resistance-augsburg/
LOCATION:Kraetzwerk e.V.\, Schertlinstraße 10a\, Augsburg\, 86159
CATEGORIES:Vorträge, Filme & Workshops,🎃 Linke Einführungswochen
ORGANIZER;CN="rhythms of resistance Augsburg":MAILTO:roraux@riseup.net
END:VEVENT
BEGIN:VEVENT
DTSTART;TZID=Europe/Berlin:20241110T140000
DTEND;TZID=Europe/Berlin:20241110T160000
DTSTAMP:20260421T003908
CREATED:20241022T080740Z
LAST-MODIFIED:20241022T080741Z
UID:10014289-1731247200-1731254400@auxpunks.uber.space
SUMMARY:Tag der offenen Baustelle beim Hausprojekt Pa*radieschen (LiWo)
DESCRIPTION:Die Häuser denen die drin wohnen! Keine Profite mit der Miete!\nDer Augsburger Verein Pa*radieschen e.V. hat sich zum Ziel gesetzt\, in einem Hausprojekt langfristig bezahlbaren\, selbstverwalteten und gemeinschaftlichen Wohnraum sowie öffentliche Begegnungsorte für die Nachbarschaft zu schaffen. Dafür haben wir im Oktober 2023 ein Mehrfamilienhaus in Pfersee gekauft\, das wir aktuell sanieren. \nBeim Tag der offenen Baustelle hast du die Möglichkeit\, unsere Vision\, das Haus und die Gruppe dahinter in entspannter Atmosphäre bei Kaffee & Kuchen kennenzulernen. Komm vorbei!
URL:https://auxpunks.uber.space/event/tag-der-offenen-baustelle-beim-hausprojekt-paradieschen-liwo/
LOCATION:Weißenburger Straße 32
CATEGORIES:🎃 Linke Einführungswochen
END:VEVENT
BEGIN:VEVENT
DTSTART;TZID=Europe/Berlin:20241106T200000
DTEND;TZID=Europe/Berlin:20241106T220000
DTSTAMP:20260421T003908
CREATED:20241102T090044Z
LAST-MODIFIED:20241102T090044Z
UID:10014322-1730923200-1730930400@auxpunks.uber.space
SUMMARY:Klimaaktivistischer Stadtrundgang
DESCRIPTION:Wir besuchen die Orte der Augsburger Innenstadt\, an denen die Klimagerechtigkeitsbewegung seit 2019 besonders aktiv war. Aktivisti erzählen von geglückten wie misslungenen Aktionen.\n\nDas Event findet als Teil der linken Einführungswochen statt.
URL:https://auxpunks.uber.space/event/klimaaktivistischer-stadtrundgang/
LOCATION:Klimacamp Augsburg am Fischmarkt neben dem Rathaus\, Fischmarkt\, Augsburg\, 86150
CATEGORIES:Klimagerechtigkeit,Vorträge, Filme & Workshops,🎃 Linke Einführungswochen
END:VEVENT
BEGIN:VEVENT
DTSTART;TZID=Europe/Berlin:20241031T200000
DTEND;TZID=Europe/Berlin:20241101T020000
DTSTAMP:20260421T003908
CREATED:20241022T172524Z
LAST-MODIFIED:20241029T160029Z
UID:10014293-1730404800-1730426400@auxpunks.uber.space
SUMMARY:Halloweenparty
DESCRIPTION:ABA läd zur Ganzen Gruselei🖤🎃🖤🎃 \nAm 31.10. steigt ab 20:00 Uhr die alljährliche Halloweenparty in der Ganzen Bäckerei.Für wahnsinnige Mukke sorgen unsere genialen DJs🦖.Wir sorgen für ne teuflisch gute Soli-Bowle\, leckere Snacks und gruftiges Ambiente! \nLegt euch ins Zeug mit euren Verkleidungen: wer besonders schrecklich aussieht\, hat Chancen einen tollen Preis beim Kostümwettbewerb zu gewinnen!Um 02:00 Uhr ist (auch Dank wirklich schauriger Tanzverbotstradition ausm Mittelalter) der Ganze Spuk wieder vorbei 🐷 \nWenn sowieso alles einfach nur noch gruselig ist\, können wir da einen Tag im Jahr auch mitmachen 👻 \nKommt also alle vorbei! 👹💀👽
URL:https://auxpunks.uber.space/event/halloweenparty/
LOCATION:“ Ganze Bäckerei “ Augsburg  Frauentorstr.34
CATEGORIES:Konzerte & Feiern,🎃 Linke Einführungswochen
ATTACH;FMTTYPE=image/jpeg:https://auxpunks.uber.space/wp-content/uploads/2024/10/signal-2024-10-29-163725_002.jpeg
END:VEVENT
END:VCALENDAR