BEGIN:VCALENDAR
VERSION:2.0
PRODID:-//auxpunks - ECPv6.15.11//NONSGML v1.0//EN
CALSCALE:GREGORIAN
METHOD:PUBLISH
X-WR-CALNAME:auxpunks
X-ORIGINAL-URL:https://auxpunks.uber.space
X-WR-CALDESC:Veranstaltungen für auxpunks
REFRESH-INTERVAL;VALUE=DURATION:PT1H
X-Robots-Tag:noindex
X-PUBLISHED-TTL:PT1H
BEGIN:VTIMEZONE
TZID:Europe/Berlin
BEGIN:DAYLIGHT
TZOFFSETFROM:+0100
TZOFFSETTO:+0200
TZNAME:CEST
DTSTART:20230326T010000
END:DAYLIGHT
BEGIN:STANDARD
TZOFFSETFROM:+0200
TZOFFSETTO:+0100
TZNAME:CET
DTSTART:20231029T010000
END:STANDARD
BEGIN:DAYLIGHT
TZOFFSETFROM:+0100
TZOFFSETTO:+0200
TZNAME:CEST
DTSTART:20240331T010000
END:DAYLIGHT
BEGIN:STANDARD
TZOFFSETFROM:+0200
TZOFFSETTO:+0100
TZNAME:CET
DTSTART:20241027T010000
END:STANDARD
BEGIN:DAYLIGHT
TZOFFSETFROM:+0100
TZOFFSETTO:+0200
TZNAME:CEST
DTSTART:20250330T010000
END:DAYLIGHT
BEGIN:STANDARD
TZOFFSETFROM:+0200
TZOFFSETTO:+0100
TZNAME:CET
DTSTART:20251026T010000
END:STANDARD
END:VTIMEZONE
BEGIN:VEVENT
DTSTART;TZID=Europe/Berlin:20240711T200000
DTEND;TZID=Europe/Berlin:20240711T233000
DTSTAMP:20260423T215655
CREATED:20240709T173156Z
LAST-MODIFIED:20240709T173157Z
UID:10014175-1720728000-1720740600@auxpunks.uber.space
SUMMARY:SOLIKONZERT für DIE GANZE BÄCKEREI
DESCRIPTION:SOLIKONZERT für DIE GANZE BÄCKEREI\n11.07. – 20 Uhr – BALLONFABRIK\n\n\nGemeint sind wir alle!\n\nDer Angriff auf Die Ganze Bäckerei ist ein Angriff auf uns alle.\nAls zentraler linker Freiraum ist die Bäckerei ein Ort zur politischen Agitation gegen Faschismus jeder Art\, gegen den nationalistischen\, sexistischen und kapitalistischen Normalzustand – kurzum ein Ort der Organisierung gegen die herrschenden Verhältnisse und für eine Welt\, in der alle Menschen ein besseres und schöneres Leben führen können.\n\nDer Angriff des immer weiter nach rechts rückenden Staates gegen solche Orte ist nicht verwunderlich\, aber dennoch vehement zu verurteilen.\nGenau wie die Auslieferung von Maja T. nach Ungarn vor wenigen Tagen\, die Razzia des OAT-Plenums in Augsburg vor einem Jahr oder die massive Polizeigewalt bei der Demo gegen Polizeigewalt in Augsburg vor zwei Jahren\, ist dieser Angriff als eine weitere gezielte Aktion des Staates gegen den Antifaschismus zu werten!\n\nDoch unsere Solidarität ist stärker als ihre Repression.\nSie werden den Antifaschismus nicht los\, egal wieviele Orte sie stürmen\, wieviele Menschen sie ausliefern\, wieviele Demonstrationen sie angreifen.\nJeder weitere Angriff stärkt nur unsere Solidarität und Vernetzung.\nDer Kampf geht weiter\, bis der Faschismus mit all seinen Wurzeln Geschichte ist und die Herrschaft des Menschen über den Menschen einer solidarischen Gesellschaft gewichen ist.\n\n\nWir laden ein zum Solikonzert in der Ballonfabrik\, kommt vorbei und feiert mit uns die Unzerstörbarkeit des Antifaschismus!\n\n\nLos geht’s um 20 Uhr\, es gibt Krawallbrause und Küfa!\n\nLineup:\n– Die Augsburger Zeckenkiste\n– Fluchtversuch\n– Ach & Krach\n– Wollstiefel\n\n\n\nSiamo tutti antifascisti!
URL:https://auxpunks.uber.space/event/solikonzert-fuer-die-ganze-baeckerei/
LOCATION:Ballonfabrik Augsburg – Fabrik Unique\, Austr. 27\, Augsburg\, Bayern\, Deutschland
CATEGORIES:Highlights,Konzerte & Feiern
END:VEVENT
BEGIN:VEVENT
DTSTART;TZID=Europe/Berlin:20240721T150000
DTEND;TZID=Europe/Berlin:20240721T190000
DTSTAMP:20260423T215655
CREATED:20240716T092008Z
LAST-MODIFIED:20240716T092010Z
UID:10014177-1721574000-1721588400@auxpunks.uber.space
SUMMARY:Demo gegen Repression
DESCRIPTION:Unsere Solidarität gegen ihre Repression!\n\n\nAm 2. Juli 2024 brachen Kriminalpolizist*innen in den politischen Infoladen „Die Ganze Bäckerei“ ein\, um dort nach verfassungsfeindlichen Symbolen zu suchen – gefunden wurde nichts. Dieser Vorfall war kein Einzelfall:\nVor einem Jahr stürmte die Polizei das öffentliche Plenum des Offenen Antifatreffens Augsburg\, dieser Vorgang wurde im Nachhinein als rechtswidrig eingestuft \nIm selben Monat kam es in Augsburg zu Hausdurchsuchungen gegen Klimaaktivist*innen der Letzten Generation.\n2022 kam es zur Hausdurchsuchung gegen einen Klimaaktivisten\, wegen der Verlinkung eines Zeitungsartikels unter einem Facebook-Post.\n2020 ließ der Staatsschutz das Kinderzimmer einer 15-jährigen durchsuchen – wegen konsumkritischer Kreidemalereien.\n\nSo gut wie jede feministische\, klimaaktivistische\, antifaschistische oder antirassistische Demonstration der letzten Jahre wurde mit überzogenen Auflagen drangsaliert (wie beispielsweise die Demonstrationen des Feministischen Streiks) und von massiver Polizeipräsenz begleitet (wie beispielsweise die Demonstrationen gegen das Vergessen des rassistischen Attentats von Hanau).\nTeilweise wurden Versammlungen von der Polizei sogar tätlich angegriffen (wie beispielsweise die Demonstration gegen Polizeigewalt am 13.12.2022).\n\nMenschen\, die sich in Augsburg für Feminismus\, für Klimaschutz\, für demokratische Teilhabe\, für eine bessere Stadtgesellschaft oder gegen Faschismus und Unterdrückung einsetzen haben mit massiver Repression des Staates zu kämpfen.\n\nIn unsere kollektiven Räume und in unsere Wohnungen wird eingedrungen\, auf Versammlungen werden wir körperlich bedroht oder angegangen\, vor Gericht werden wir mit unverhältnismäßig hohen Strafen überzogen – all das sind gescheiterte Versuche des Staates\, linke und antifaschistische Politik zu bekämpfen und handlungsunfähig zu machen.\n\nUnsere Solidarität ist stärker als ihre Repression!\n\nJeder weitere Angriff macht nur die Notwendigkeit deutlich\, gemeinsam gegen den staatlichen Rechtsruck aktiv zu werden\, sich zu vernetzen und solidarisch eine demokratischere Zukunft zu gestalten!\n\nLasst uns deshalb gemeinsam am 21.07. auf die Straße gehen und klar und deutlich machen:\n\nAktivismus und zivilgesellschaftliches Engagement lassen sich nicht verbieten!
URL:https://auxpunks.uber.space/event/demo-gegen-repression/
LOCATION:Augsburg Königsplatz
CATEGORIES:Demos & Aktionen
END:VEVENT
END:VCALENDAR