BEGIN:VCALENDAR
VERSION:2.0
PRODID:-//auxpunks - ECPv6.15.11//NONSGML v1.0//EN
CALSCALE:GREGORIAN
METHOD:PUBLISH
X-ORIGINAL-URL:https://auxpunks.uber.space
X-WR-CALDESC:Veranstaltungen für auxpunks
REFRESH-INTERVAL;VALUE=DURATION:PT1H
X-Robots-Tag:noindex
X-PUBLISHED-TTL:PT1H
BEGIN:VTIMEZONE
TZID:Europe/Berlin
BEGIN:DAYLIGHT
TZOFFSETFROM:+0100
TZOFFSETTO:+0200
TZNAME:CEST
DTSTART:20240331T010000
END:DAYLIGHT
BEGIN:STANDARD
TZOFFSETFROM:+0200
TZOFFSETTO:+0100
TZNAME:CET
DTSTART:20241027T010000
END:STANDARD
BEGIN:DAYLIGHT
TZOFFSETFROM:+0100
TZOFFSETTO:+0200
TZNAME:CEST
DTSTART:20250330T010000
END:DAYLIGHT
BEGIN:STANDARD
TZOFFSETFROM:+0200
TZOFFSETTO:+0100
TZNAME:CET
DTSTART:20251026T010000
END:STANDARD
BEGIN:DAYLIGHT
TZOFFSETFROM:+0100
TZOFFSETTO:+0200
TZNAME:CEST
DTSTART:20260329T010000
END:DAYLIGHT
BEGIN:STANDARD
TZOFFSETFROM:+0200
TZOFFSETTO:+0100
TZNAME:CET
DTSTART:20261025T010000
END:STANDARD
END:VTIMEZONE
BEGIN:VEVENT
DTSTART;TZID=Europe/Berlin:20251102T140000
DTEND;TZID=Europe/Berlin:20251102T170000
DTSTAMP:20260421T044747
CREATED:20251012T111307Z
LAST-MODIFIED:20251012T111308Z
UID:10015890-1762092000-1762102800@auxpunks.uber.space
SUMMARY:Kein Land für Niemand - Abschottung eines Einwanderungslandes
DESCRIPTION:Filmvorführung mit anschließendem Gespräch\n\nDeutschland steht an einem historischen Wendepunkt: Erstmals seit 1945 wird im Jahr 2025 ein migrationspolitischer Entschließungsantrag im Bundestag angenommen – mit Unterstützung der AfD\, die vom Verfassungsschutz wegen rechtsextremer Bestrebungen beobachtet wird. Die Erklärung zur Begrenzung der Zuwanderung sieht unter anderem eine vollständige Schließung der deutschen Grenzen vor. Ein Paradigmenwechsel kündigt sich an: weg vom Schutz von Geflüchteten\, hin zu Abschottung und Abschreckung.
URL:https://auxpunks.uber.space/event/kein-land-fuer-niemand-abschottung-eines-einwanderungslandes/
LOCATION:Liliom Kino Augsburg
CATEGORIES:Linke Einführungswochen 2025
ATTACH;FMTTYPE=image/jpeg:https://auxpunks.uber.space/wp-content/uploads/2025/10/signal-2025-10-10-162229_002.jpeg
END:VEVENT
END:VCALENDAR