BEGIN:VCALENDAR
VERSION:2.0
PRODID:-//auxpunks - ECPv6.15.11//NONSGML v1.0//EN
CALSCALE:GREGORIAN
METHOD:PUBLISH
X-WR-CALNAME:auxpunks
X-ORIGINAL-URL:https://auxpunks.uber.space
X-WR-CALDESC:Veranstaltungen für auxpunks
REFRESH-INTERVAL;VALUE=DURATION:PT1H
X-Robots-Tag:noindex
X-PUBLISHED-TTL:PT1H
BEGIN:VTIMEZONE
TZID:Europe/Berlin
BEGIN:DAYLIGHT
TZOFFSETFROM:+0100
TZOFFSETTO:+0200
TZNAME:CEST
DTSTART:20250330T010000
END:DAYLIGHT
BEGIN:STANDARD
TZOFFSETFROM:+0200
TZOFFSETTO:+0100
TZNAME:CET
DTSTART:20251026T010000
END:STANDARD
BEGIN:DAYLIGHT
TZOFFSETFROM:+0100
TZOFFSETTO:+0200
TZNAME:CEST
DTSTART:20260329T010000
END:DAYLIGHT
BEGIN:STANDARD
TZOFFSETFROM:+0200
TZOFFSETTO:+0100
TZNAME:CET
DTSTART:20261025T010000
END:STANDARD
BEGIN:DAYLIGHT
TZOFFSETFROM:+0100
TZOFFSETTO:+0200
TZNAME:CEST
DTSTART:20270328T010000
END:DAYLIGHT
BEGIN:STANDARD
TZOFFSETFROM:+0200
TZOFFSETTO:+0100
TZNAME:CET
DTSTART:20271031T010000
END:STANDARD
END:VTIMEZONE
BEGIN:VEVENT
DTSTART;TZID=Europe/Berlin:20260222T080000
DTEND;TZID=Europe/Berlin:20260222T170000
DTSTAMP:20260420T231521
CREATED:20260120T191213Z
LAST-MODIFIED:20260120T191214Z
UID:10016058-1771747200-1771779600@auxpunks.uber.space
SUMMARY:A New Horizon
DESCRIPTION:Es gibt Momente\, in denen Kunst und Wirklichkeit einander so nahekommen\, dass ein besonderer Abend entsteht – ein Abend\, der berührt\, verbindet und den Blick öffnet.\nAus diesem Wunsch heraus lädt Roman Singh zu einem Charity-Abend zugunsten des SOS Humanity e.V. ein\, der bewegende Einblicke\, Musik und Szene zu einem eindrucksvollen Erlebnis verbindet.\nIm Mittelpunkt des Abends steht der Vortrag von Sarabi\, die den SOS Humanity e.V. an diesem Abend vertritt und selbst mehrfach auf den Rettungsschiffen im Einsatz war. Mit eindrucksvollem Bild- und Videomaterial gewährt sie unmittelbare Einblicke in die Realität der Seenotrettung – in Nächte\, die auf offener See zu Prüfungen werden\, in Begegnungen voller Mut und Zerbrechlichkeit\, in Entscheidungen\, die Menschenleben verändern. Dieser dokumentarische Beitrag bildet den Kern des Abends: respektvoll\, eindringlich und tief bewegend.
URL:https://auxpunks.uber.space/event/a-new-horizon/2026-02-22/1/
LOCATION:N8Stallung\, Johannes-Haag-Straße 36\, Augsburg\, 86153
CATEGORIES:Theater, Austellungen & Lesungen
ATTACH;FMTTYPE=image/jpeg:https://auxpunks.uber.space/wp-content/uploads/2026/01/IMG_7575-2.jpg
ORGANIZER;CN="Roman Singh":MAILTO:info@romansingh.de
END:VEVENT
BEGIN:VEVENT
DTSTART;TZID=Europe/Berlin:20260222T180000
DTEND;TZID=Europe/Berlin:20260222T210000
DTSTAMP:20260420T231521
CREATED:20260120T191213Z
LAST-MODIFIED:20260120T191214Z
UID:10016059-1771783200-1771794000@auxpunks.uber.space
SUMMARY:A New Horizon
DESCRIPTION:Es gibt Momente\, in denen Kunst und Wirklichkeit einander so nahekommen\, dass ein besonderer Abend entsteht – ein Abend\, der berührt\, verbindet und den Blick öffnet.\nAus diesem Wunsch heraus lädt Roman Singh zu einem Charity-Abend zugunsten des SOS Humanity e.V. ein\, der bewegende Einblicke\, Musik und Szene zu einem eindrucksvollen Erlebnis verbindet.\nIm Mittelpunkt des Abends steht der Vortrag von Sarabi\, die den SOS Humanity e.V. an diesem Abend vertritt und selbst mehrfach auf den Rettungsschiffen im Einsatz war. Mit eindrucksvollem Bild- und Videomaterial gewährt sie unmittelbare Einblicke in die Realität der Seenotrettung – in Nächte\, die auf offener See zu Prüfungen werden\, in Begegnungen voller Mut und Zerbrechlichkeit\, in Entscheidungen\, die Menschenleben verändern. Dieser dokumentarische Beitrag bildet den Kern des Abends: respektvoll\, eindringlich und tief bewegend.
URL:https://auxpunks.uber.space/event/a-new-horizon/2026-02-22/2/
LOCATION:N8Stallung\, Johannes-Haag-Straße 36\, Augsburg\, 86153
CATEGORIES:Theater, Austellungen & Lesungen
ATTACH;FMTTYPE=image/jpeg:https://auxpunks.uber.space/wp-content/uploads/2026/01/IMG_7575-2.jpg
ORGANIZER;CN="Roman Singh":MAILTO:info@romansingh.de
END:VEVENT
BEGIN:VEVENT
DTSTART;TZID=Europe/Berlin:20260301T150000
DTEND;TZID=Europe/Berlin:20260301T180000
DTSTAMP:20260420T231521
CREATED:20260223T172749Z
LAST-MODIFIED:20260223T172750Z
UID:10016355-1772377200-1772388000@auxpunks.uber.space
SUMMARY:Racial Profiling und Criminal Profiling - Theorie und Praxisworkshop
DESCRIPTION:In dem Workshop wollen wir uns mit der Enstehung der Polizei und ihrer Funktion als Exekutive Gewalt im Staat auseienandersetzen. Welche Gruppen und Handlungen werden von Justiz und Polizei (überproportional) kriminalisiert und wieso? Wir werfen einen Blick auf tödliche Formen polizeilicher Gewalt und stellen uns die Frage wie wir uns bei Polizeikontrollen im öffentlichen Raum als Betroffene und Zeug*innen verhalten können.\n\nMit vorheriger Anmeldung unter Koordination@zam-ev.com
URL:https://auxpunks.uber.space/event/racial-profiling-und-criminal-profiling-theorie-und-praxisworkshop/
LOCATION:City Club Augsburg
CATEGORIES:Vorträge, Filme & Workshops
ATTACH;FMTTYPE=image/jpeg:https://auxpunks.uber.space/wp-content/uploads/2026/02/7F86BF17-6423-4E1F-9F11-319BE027BA52.jpeg
ORGANIZER;CN="IBRA - Initiative zr Bek%C3%A4mpfung von Rassismus Augsburg":MAILTO:koordination@zam-ev.com
END:VEVENT
BEGIN:VEVENT
DTSTART;TZID=Europe/Berlin:20260310T190000
DTEND;TZID=Europe/Berlin:20260310T210000
DTSTAMP:20260420T231521
CREATED:20260306T084347Z
LAST-MODIFIED:20260306T084349Z
UID:10016362-1773169200-1773176400@auxpunks.uber.space
SUMMARY:Was darf (das) Polizeiaufgabengesetz
DESCRIPTION:Was darf Polizei wo bleibt dabei deine Würde?\n \nUnter dem Mantel des Polizeiaufgabengesetz (PAG) führte die Polizei eine Razzia im City Club durch. Gäste mussten sich teilweise komplett entkleiden oder wurden am Boden fixiert. Wie soll das Gerechtfertigt sein? Und was ist mit deiner Würde\, deinen Grundrechten? Und was soll überhaupt ein „gefährlicher Ort“ sein? Und am wichtigsten: Wie können wir uns gegen solche entwürdigenden Maßnahmen wehren?\nDarüber möchte ich gemeinsam mit Horst Arnold\, der seit mehreren Jahren gegen das PAG klagt\, informieren und mit dir diskutieren.\n\nAnmeldung: https://forms.office.com/e/wYhbAdAVW1
URL:https://auxpunks.uber.space/event/was-darf-das-polizeiaufgabengesetz/
LOCATION:Online
CATEGORIES:Vorträge, Filme & Workshops
ATTACH;FMTTYPE=image/jpeg:https://auxpunks.uber.space/wp-content/uploads/2026/03/KERAMIK-BEMALEN.jpg
ORGANIZER;CN="Anna Rasehorn%2C MdL":MAILTO:anna.rasehorn.sk@bayernspd-landtag.de
END:VEVENT
BEGIN:VEVENT
DTSTART;TZID=Europe/Berlin:20260310T190000
DTEND;TZID=Europe/Berlin:20260310T220000
DTSTAMP:20260420T231521
CREATED:20260302T130604Z
LAST-MODIFIED:20260302T130606Z
UID:10016359-1773169200-1773180000@auxpunks.uber.space
SUMMARY:WORT KNEIPE PROVINO - Vortrag zu Ableismus in der deutschen Sprache von Juli Faber
DESCRIPTION:Worthalde statt Wortschatz – Ableismus in der deutschen Sprache\n\nVerrückt\, irre\, Psycho. Wer von uns hat nicht schon mindestens eins dieser Wörter benutzt und sich nichts dabei gedacht? Das Patriarchat hat weit mehr Spuren in unserer Sprache hinterlassen als das generische Maskulinum. Unser Vokabular ist durchzogen von Sexismen und Ableismen\, die wir im Alltag ohne es zu merken reproduzieren. Aber funktioniert die deutsche Sprache überhaupt ohne Gewalt?\nDer Vortrag geht der Frage nach\, wie Sprache unser Verhalten beeinflusst\, wie wir sie nutzen können\, um gesellschaftliche Diskurse positiv zu beeinflussen und wo ihre strukturellen Grenzen liegen.
URL:https://auxpunks.uber.space/event/wort-kneipe-provino-vortrag-zu-ableismus-in-der-deutschen-sprache-von-juli-faber/
LOCATION:Provinostraße 35\, 86153 Augsburg\, Deutschland
CATEGORIES:Vorträge, Filme & Workshops
END:VEVENT
BEGIN:VEVENT
DTSTART;TZID=Europe/Berlin:20260414T193000
DTEND;TZID=Europe/Berlin:20260414T220000
DTSTAMP:20260420T231521
CREATED:20260406T202004Z
LAST-MODIFIED:20260406T202005Z
UID:10016713-1776195000-1776204000@auxpunks.uber.space
SUMMARY:WORTKNEIPE - Eine schrecklich reaktionäre Familie
DESCRIPTION:DIE WORTKNEIPE PRÄSENTIERT:\nEine schrecklich reaktionäre Familie \nDer Kulturkampf organisierter AbtreibungsgegnerInnen und ihre antifeministischen Allianzen  \n\nAntifeminismus im Allgemeinen und damit auch das Thema Schwangerschaftsabbrüche ermöglichen den Schulterschluss zwischen religiösen Hardlinern\, konservativen und (extrem) rechten AkteurInnen sowie Parteien. Bei Demonstrationen wie den „Märschen für das Leben“ oder Kampagnen wie denen gegen die Staatsrechtlerin Frauke Brosius-Gersdorf zeigt sich\, mit welchen Milieus sich die Anti-Choice-Bewegung zusammentut\, um ihre Ziele zu erreichen. Im Vortrag spricht Lina Dahm über zentrale AkteurInnen\, Ideologien und Strategien der organisierten AbtreibungsgegnerInnen zeigt\, wie sie heute mobilisiert und wie feministische Gegenstrategien aussehen können. \n\nLina Dahm ist freie Journalistin und Podcasterin und arbeitet seit einigen Jahren zu Antifeminismus\, insbesondere zu organisierten AbtreibungsgegnerInnen. 2024 erschien ihr achtteiliger Podcast „Antifeministische Allianzen“ für den sie ihre Recherchen zu AntifeministInnen aktualisiert und neu aufbereitet hat.
URL:https://auxpunks.uber.space/event/wortkneipe-eine-schrecklich-reaktionaere-familie/
LOCATION:Provino Club
CATEGORIES:Vorträge, Filme & Workshops
ATTACH;FMTTYPE=image/jpeg:https://auxpunks.uber.space/wp-content/uploads/2026/04/IMG_9305.jpeg
END:VEVENT
BEGIN:VEVENT
DTSTART;TZID=Europe/Berlin:20260502T093000
DTEND;TZID=Europe/Berlin:20260502T170000
DTSTAMP:20260420T231521
CREATED:20260419T210747Z
LAST-MODIFIED:20260419T210748Z
UID:10016722-1777714200-1777741200@auxpunks.uber.space
SUMMARY:22. Augsburger Linux-Infotag
DESCRIPTION:Vorträge und Informationsstände rund um Linux\, Open-Source und kreative Anwendungen von Technik\, Wissenschaft und Bildung.\n\nLinux ist eine Alternative zu Microsoft Windows und Apple macOS\, hinter der keine einzelne Firma\, sondern in erster Linie freiwillige Entwickler:innen auf der ganzen Welt stehen.\n\nEin wichtiges Augenmerk liegt bei Linux auf Schnelligkeit\, Stabilität und Sicherheit: Linux läuft auch auf älteren Computern und Laptops noch flott\, und Viren und Würmer sind für Linux eine akademische Kuriosität. Anders als das als „Datenkrake“ in Verruf geratene Windows 11 schützt Linux die Privatsphäre seiner Anwender:innen.\n\nLinux ist kostenlos\, frei verteilbar und kommt mit einer umfangreichen Sammlung ebenfalls freier Programme für Internet\, Büro\, Multimedia und Bildung.
URL:https://auxpunks.uber.space/event/22-augsburger-linux-infotag/
LOCATION:Technische Hochschule Augsburg\, Friedberger Straße 2\, Augsburg\, 86161
CATEGORIES:Vorträge, Filme & Workshops
ATTACH;FMTTYPE=image/jpeg:https://auxpunks.uber.space/wp-content/uploads/2026/04/LIT2026.jpg
END:VEVENT
END:VCALENDAR