BEGIN:VCALENDAR
VERSION:2.0
PRODID:-//auxpunks - ECPv6.15.11//NONSGML v1.0//EN
CALSCALE:GREGORIAN
METHOD:PUBLISH
X-ORIGINAL-URL:https://auxpunks.uber.space
X-WR-CALDESC:Veranstaltungen für auxpunks
REFRESH-INTERVAL;VALUE=DURATION:PT1H
X-Robots-Tag:noindex
X-PUBLISHED-TTL:PT1H
BEGIN:VTIMEZONE
TZID:Europe/Berlin
BEGIN:DAYLIGHT
TZOFFSETFROM:+0100
TZOFFSETTO:+0200
TZNAME:CEST
DTSTART:20230326T010000
END:DAYLIGHT
BEGIN:STANDARD
TZOFFSETFROM:+0200
TZOFFSETTO:+0100
TZNAME:CET
DTSTART:20231029T010000
END:STANDARD
BEGIN:DAYLIGHT
TZOFFSETFROM:+0100
TZOFFSETTO:+0200
TZNAME:CEST
DTSTART:20240331T010000
END:DAYLIGHT
BEGIN:STANDARD
TZOFFSETFROM:+0200
TZOFFSETTO:+0100
TZNAME:CET
DTSTART:20241027T010000
END:STANDARD
BEGIN:DAYLIGHT
TZOFFSETFROM:+0100
TZOFFSETTO:+0200
TZNAME:CEST
DTSTART:20250330T010000
END:DAYLIGHT
BEGIN:STANDARD
TZOFFSETFROM:+0200
TZOFFSETTO:+0100
TZNAME:CET
DTSTART:20251026T010000
END:STANDARD
END:VTIMEZONE
BEGIN:VEVENT
DTSTART;TZID=Europe/Berlin:20241030T190000
DTEND;TZID=Europe/Berlin:20241030T210000
DTSTAMP:20260420T231522
CREATED:20241024T135625Z
LAST-MODIFIED:20241024T135625Z
UID:10014296-1730314800-1730322000@auxpunks.uber.space
SUMMARY:CryptoParty Augsburg
DESCRIPTION:asswörter sind das Rückgrat zur Sicherung von persönlichen Informationen und Online-Accounts. Zahlreiche Vorfälle zeigen\, dass unsichere Passwörter weit verbreitet sind. Hier wollen wir Abhilfe schaffen\, indem wir klären: Was macht Passwörter sicher? Wie kann man sich sicher Passwörter trotzdem merken? Wieso sollte man verschiedene Passwörter benutzen? Welche Programme können bei der Verwaltung helfen? Was hat es mit der neuen Zwei-Faktor-Authentisierung (2FA) auf sich?\n\nTermin: Mittwoch\, 31. Januar 2024\, 19 Uhr\nOrt: OpenLab\, Bäckergasse 32\, 86150 Augsburg\nLink: https://cryptoparty.in/augsburg\nMitbringen: Laptop\, Smartphone\, Fragen\, FreundInnen\nDer Eintritt ist frei.\n\nDas neu erworbene Wissen kann im Praxisteil gemeinsam auf den eigenen Geräten ausprobiert werden. Deshalb ist es sinnvoll das eigene Notebook und/oder Smartphone mitzubringen. Es sind keine Vorkenntnisse\nerforderlich.
URL:https://auxpunks.uber.space/event/cryptoparty-augsburg-3/
LOCATION:OpenLab Augsburg
CATEGORIES:Vorträge, Filme & Workshops
END:VEVENT
BEGIN:VEVENT
DTSTART;TZID=Europe/Berlin:20241004T180000
DTEND;TZID=Europe/Berlin:20241004T200000
DTSTAMP:20260420T231522
CREATED:20240930T184037Z
LAST-MODIFIED:20240930T184037Z
UID:10014259-1728064800-1728072000@auxpunks.uber.space
SUMMARY:Solidarität mit dem besetzten Prosfygika!
DESCRIPTION:[English below!]\n\nSolidaritätsveranstaltung am 04.10.24\n\nProsfygika\, die größte Besetzung Griechenlands mit circa 400 Bewohnenden\, steht unter Angriff. \n\nDie besetzte Nachbarschaft lebt seit 14 Jahren ein widerständiges\, selbsorganisiertes Leben im Zentrum von Athen und erschafft Lösungsansätze für eine Gesellschaft jenseits von Staat\, Macht und Gewalt. Die Bewohnenden organisieren und versorgen sich selbst und sind ein fundamentaler Bestandteil der anarchistischen Bewegung in Griechenland. Prosfygika ist ein Beispiel für gelebten Internationalismus und praktische Solidarität mit Geflüchteten.\n\nÜber unser Erleben in dieser Gemeinschaft\, die generelle Bedeutung von Internationalismus und das mörderische europäische Grenzregime werden wir in unserem Vortrag sprechen und anschließend die Diskussion eröffnen. \n\nVortrag und Diskussion sind auf Englisch\, es gibt Möglichkeit zur Übersetzung in Deutsch und Spanisch. \n\nIm Juni diesen Jahres wurde Prosfygika über mehrere Tage hinweg immer wieder von den Cops angegriffen. Dagegen wurde natürlich Widerstand geleistet und wir haben den Kampf gewonnen. Mehrere Genoss*innen wurden dabei aber festgenommen\, unter anderem ein 15-jähriger Genosse\, der nun ohne Grund mit Terrorgesetzgebung verfolgt werden soll.\n\nFür die Anwaltskosten und die generelle die Aufrechterhaltung des Widerstandes und die Fähigkeit der Nachbarschaft\, sich weiter zu verteidigen und in der Bewegung zu organisieren\, benötigt es finanzielle Unterstützung.\n\nPer Crowdfunding sollen 3000€ gesammelt werden – spende jetzt für die Community des besetzten Prosfygika! ✊ (momentan nur in bar\, Website geht bald online.):\n\nENGLISH VERSION\n\nSolidarity event on 04.10.24\n\nProsfygika\, the largest squat in Greece with around 400 residents\, is under attack.\n \nThe occupied neighborhood has lived a resistant\, self-organized life in the center of Athens for 14 years and develops proposals for a society beyond state\, power and violence. The residents organize and provide for themselves and are a fundamental part of the anarchist movement in Greece. \n\nProsfygika is an example of lived internationalism and practical solidarity with refugees. \n\nWe will talk about our experience in this community\, the general significance of internationalism and the murderous European border regime in our presentation and then open the discussion.\n\npresentation and discussion are in English\, there is the possibility of translation into German and Spanish.\n\nThis June\, Prosfygika was repeatedly attacked by the cops several days in a row. Of course\, resistance was given and we won the fight\, yet several comrades were arrested\, including a 15-year-old comrade who is now to be persecuted with no reason with terrorist legislation.\n\nFinancial support is required for legal fees and the general maintenance of resistance and the ability of the neighborhood to continue to defend and organize in the movement. 3000€ should be collected via crowdfunding –  donate to the Community of Squatted Prosfygika! ✊ (only in cash at the moment\, website will be online soon.):
URL:https://auxpunks.uber.space/event/solidaritaet-mit-dem-besetzten-prosfygika/
LOCATION:Grandhotel Cosmopolis\, SPRINGERGÄSSCHEN 5\, Augsburg\, 86152\, Deutschland
CATEGORIES:Vorträge, Filme & Workshops
END:VEVENT
BEGIN:VEVENT
DTSTART;TZID=Europe/Berlin:20240925T190000
DTEND;TZID=Europe/Berlin:20240925T210000
DTSTAMP:20260420T231522
CREATED:20240917T093713Z
LAST-MODIFIED:20240917T093714Z
UID:10014248-1727290800-1727298000@auxpunks.uber.space
SUMMARY:Mobile Sicherheit mit dem Smartphone
DESCRIPTION:Hallo\,\n\ndie CryptoParty-Gruppe Augsburg lädt ein zum Workshop für digitale\nSelbstverteidigung:\n\nWie gelingt der sichere Umgang mit Handy und Apps? Woran erkenne ich\nwelche Apps vertrauenswürdig sind? Welche Einstellungen sind zum\nbesseren Datenschutz sinnvoll?\n\nDiese und weitere Fragen beantworten wir auf einer Cryptoparty am\nMittwoch\, 25. September im OpenLab Augsburg.\n\nWann?       25. September 2024\, 19 Uhr\nWo?         OpenLab\, Bäckergasse 32\, 86150 Augsburg\nMitbringen: Handy\, Tablet\, Fragen\, FreundInnen\,…\n\nDer Eintritt ist frei.\n\nDas neu erworbene Wissen kann im Praxisteil sofort auf den eigenen\nGeräten ausprobiert werden. Deshalb ist es sinnvoll das eigene Handy\nund/oder Tablet mitzubringen. Es sind keine Vorkenntnisse erforderlich.\n\nDiese Veranstaltung ist Teil einer Veranstaltungsreihe. Geplante weitere\nThemen für Folgeveranstaltungen sind:\nFestplattenverschüsselung\, sichere und benutzbare Passwörter und Backups;\n\nLink zur Veranstaltung:\nhttps://www.cryptoparty.in/augsburg\n\nWir freuen uns auf Euch!\nEure CryptoParty-Gruppe Augsburg
URL:https://auxpunks.uber.space/event/mobile-sicherheit-mit-dem-smartphone/
LOCATION:OpenLab Augsburg
CATEGORIES:Vorträge, Filme & Workshops
END:VEVENT
BEGIN:VEVENT
DTSTART;TZID=Europe/Berlin:20240908T095500
DTEND;TZID=Europe/Berlin:20240908T170000
DTSTAMP:20260420T231522
CREATED:20240813T123004Z
LAST-MODIFIED:20240813T123004Z
UID:10014202-1725789300-1725814800@auxpunks.uber.space
SUMMARY:Führung in der Gedenkstätte des KZ Dachau
DESCRIPTION:Nach einer ersten Bearbeitung des Themas „Frauen und sexuelle Zwangsarbeit“ im Rahmen des Aktionstages „Ein Platz für feministische Kämpfe“ möchten wir uns mit dem Thema noch eingehender beschäftigen.\nGemeinsam wollen wir uns vor Ort die Fragen stellen\, wie der Alltag von Frauen/FLINTA* in KZs war\, welchen Gewaltformen sie ausgesetzt waren und wie sie sich möglicherweise verbündet haben.\nDie Führung wurd durch die Gedenkstätte KZ Dachau betreut.\n\nWir werden gemeinsam mit der Deutschen Bahn anreisen. Hierfür treffen wir uns am Sonntag\, 8. September um 9:55 vor dem DB Container am „alten Eingang“ des Bahnhofes\, Abfahrt ist dann 10:08 Uhr. Wir werden ausschließlich mit dem Regionalverkehr reisen.\nDie Führung ist auf 30 Plätze begrenzt und dauert ca 2 Stunden (exkl. Fahrtzeit).\n\nAnmeldung über https://www.instagram.com/workaround6_aux/p/C-c9iX8oO5W/\n\nDenkt an Trinken\, Snacks und ggf. Sonnenschutz.
URL:https://auxpunks.uber.space/event/fuehrung-in-der-gedenkstaette-des-kz-dachau/
LOCATION:KZ-Gedenkstätte Dachau
END:VEVENT
BEGIN:VEVENT
DTSTART;TZID=Europe/Berlin:20240826T180000
DTEND;TZID=Europe/Berlin:20240826T193000
DTSTAMP:20260420T231522
CREATED:20240825T181339Z
LAST-MODIFIED:20240825T181340Z
UID:10014214-1724695200-1724700600@auxpunks.uber.space
SUMMARY:Reisebericht: Wahlbeobachtung in der Türkei (Kommunalwahlen `24)
DESCRIPTION:Am 31. März waren Kommunalwahlen in der Türkei Wir waren mit einer Delegation von Internationalist*innen dort.
URL:https://auxpunks.uber.space/event/reisebericht-wahlbeobachtung-in-der-tuerkei-kommunalwahlen-24/
LOCATION:“ Ganze Bäckerei “ Augsburg  Frauentorstr.34
CATEGORIES:Vorträge, Filme & Workshops
END:VEVENT
BEGIN:VEVENT
DTSTART;TZID=Europe/Berlin:20240823T080000
DTEND;TZID=Europe/Berlin:20240919T170000
DTSTAMP:20260420T231522
CREATED:20240823T080501Z
LAST-MODIFIED:20240823T080502Z
UID:10014210-1724400000-1726765200@auxpunks.uber.space
SUMMARY:Info-Veranstaltungen zur Online-Umfrage (Lech Renaturierung\, Licca Liber 3)
DESCRIPTION:Eine lose Gemeinschaft von Organisationen bietet Info-Veranstaltungen um über die Möglichkeit zu informieren\, Wünsche und Meinung zum zukünftigen Lech zu äußern.\nDiese Informationen der Bürger und Bürgerinnen werden in das Umsetzungskonzept des Renaturierungsprojekts Licca Liber „freier Lech“ eingearbeitet.\n\nWir können ein großes Zeichen setzen für einen resilienteren\, naturnäheren\, erlebbaren Lech.\n\nInhalte der Info-Veranstaltungen sind der ökologischen Zustand des Lechs\, Renaturierungsmaßnahmen\, die Online-Befragung selbst (Befragung aktiv am 02.-27. September).\n\nDie Info-Veranstaltungen:\no	Radexkursionen (bitte anmelden)\n•	24.08. Meitingen\n•	25.08. Gersthofen\no	Spaziergänge\n•	28.08. Langweid\n•	30.08. Gersthofen\n•	31.08. Meitingen\no	Vorträge und Austausch\n•	10.09. Langweid\n•	13.09. Gersthofen\n•	16.09. Todtenweis\n•	19.09. Meitingen\no	Lyrischer Spaziergang (bitte anmelden)\n•	22.09. Wolfzanhau\n\n\nWeitere Infos und Anmeldungen unter https://www.lebensraumlechtal.de/infoveranstaltungen-liccaliber3\n\nBefragung aktiv 02. bis 27. September unter tinyurl.com/233ah6aj
URL:https://auxpunks.uber.space/event/info-veranstaltungen-zur-online-umfrage-lech-renaturierung-licca-liber-3/
CATEGORIES:Vorträge, Filme & Workshops
ORGANIZER;CN="Lebensraum Lechtal e. V.":MAILTO:majowskipatrizia@gmail.com
END:VEVENT
BEGIN:VEVENT
DTSTART;TZID=Europe/Berlin:20240707T180000
DTEND;TZID=Europe/Berlin:20240707T200000
DTSTAMP:20260420T231522
CREATED:20240701T174843Z
LAST-MODIFIED:20240701T174844Z
UID:10014161-1720375200-1720382400@auxpunks.uber.space
SUMMARY:Von Sivas bis nach Hanau – Die Kontinuität rassistischer Morde und ihre Folgen
DESCRIPTION:Im Rahmen des Gedenkens an das Progrom von Sivas\, wollen wir gemeinsam über rassistische Gewalt\, ihre Grundlagen und Gemeinsamkeiten sprechen. Bei dem Progrom von Sivas kamen im Jahr 1993 35 Menschen\, zumeist alevitische Künstler*innen\, die zu einem Kulturfestival angereist waren ums Leben. Sie wurden im Beisein von Polizei und Militär von einem Mob religiöser Fanatiker im Madimak Hotel verbrannt. \n\nIn der BRD haben die rassistischen Morde von Hanau und die Arbeit der Angehörigen nachhaltigen Einfluss auf die Diskussion um rassistische Gewalt. Während sich hierzulande Gedenkinitiativen zusammenschließen und eine neue Kultur der Erinnerung fordern\, sind rassistische Gewaltakte\, die außerhalb der BRD passiert sind selten Teil der öffentlichen Wahrnehmung. Dabei sind sie auf vielfältige Weise auch mit der deutschen Gesellschaft verwoben. \n\nWir wollen nicht nur über die Gemeinsamkeiten und Verbindungslinien zwischen rassistischen Gewaltakten in verschiedenen Ländern sprechen. Wir möchten diskutieren\, wie und warum wir die Kämpfe um Erinnerung und für eine bessere Gesellschaft über Grenzen hinaus verbinden können. \n\n\n\nAm 7. Juli\, 18 Uhr im Alevitischen Kulturzentrum und Cem Haus\, Zirbelstraße 57
URL:https://auxpunks.uber.space/event/von-sivas-bis-nach-hanau-die-kontinuitaet-rassistischer-morde-und-ihre-folgen/
LOCATION:Alevitisches Kulturzentrum und Cem Haus Augsburg e.V.\, Zirbelstraße 57\, Augsburg\, 86154
CATEGORIES:Vorträge, Filme & Workshops
END:VEVENT
BEGIN:VEVENT
DTSTART;TZID=Europe/Berlin:20240626T190000
DTEND;TZID=Europe/Berlin:20240626T210000
DTSTAMP:20260420T231522
CREATED:20240522T064211Z
LAST-MODIFIED:20240522T064212Z
UID:10014097-1719428400-1719435600@auxpunks.uber.space
SUMMARY:CryptoParty Augsburg
DESCRIPTION:Was ist eine CryptoParty?\n\nKurz:\nWorkshops zur digitalen Selbstverteidigung\n\nLang:\nEine CryptoParty ist eine lockere\, öffentliche Veranstaltung\, bei der man lernen kann\, wie man sich im digitalen Raum (Internet) sicher und anonym bewegt\, E-Mails verschlüsselt und digital signiert (unterschreibt) oder wie man Festplatten verschlüsselt. Dabei versuchen wir\, die Vorträge einsteigerfreundlich zu gestalten. Auch rufen wir oft dazu auf\, dass Besucher ihre Geräte mitbringen\, sodass sie das zuvor erworbene Wissen auch gleich in der Praxis umsetzen können. Dabei werden sie von fachkundigen Leuten der CryptoParty unterstützt. Aber auch Profis können die Veranstaltung nutzen\, um sich mit Gleichgesinnten auszutauschen.\nCryptoPartys sind öffentlich und unkommerziell\, mit dem Fokus auf Open-Source-Software (OSS).\n\nDas Thema ist „E-Mail-Verschlüsselung“\nIn diesem Vortrag zeigen wir\, wie man seine E-Mails verschlüsseln und signieren (unterschreiben) kann. Wir gehen darauf ein\, welche E-Mail-Anbieter empfehlenswert sind (und weshalb) und wie man auch mit dem Handy sicher und bequem auf seine E-Mails zugreifen kann.
URL:https://auxpunks.uber.space/event/cryptoparty-augsburg/
LOCATION:OpenLab Augsburg
CATEGORIES:Vorträge, Filme & Workshops
END:VEVENT
BEGIN:VEVENT
DTSTART;TZID=Europe/Berlin:20240615T194500
DTEND;TZID=Europe/Berlin:20240615T224500
DTSTAMP:20260420T231522
CREATED:20240529T134154Z
LAST-MODIFIED:20240529T134200Z
UID:10014107-1718480700-1718491500@auxpunks.uber.space
SUMMARY:Ausnahmezustand (Kanun Hükmü) Dokumentarfilm von Nejla Demirci
DESCRIPTION:Fimvorführung mit anschließendem Publiumsgespräch mit der Regiesseurin Nejla Demirci\n\n!!!Orginalfassung mit englischen Untertiteln!!!\n\nAUSNAHMEZUSTAND (KANUN HÜKMÜ) ist ein Dokumentarfilm\, der den täglichen Faschismus in der Türkei nach dem Putschversuch vom 15 Juli 2016 anhand des Überlebenskampfes der per Notstandsverordnung entlassenen Ärztin Yasemin und des mit Berufsverbot belegten Volksschullehrers Engin schildert.\n\nAls die Ärztin Yasemin ohne irgendeine Begründung von ihrer Entlassung erfährt\, ändert sich ihr Leben grundlegend. Als einzige Kardiologin am staatlichen Krankenhaus in Bodrum hatte sie intensiv jeden Tag arbeiten müssen. Nun weiß sie nicht\, was sich mit ihrer freien Zeit anfangen soll. Während ihre Kollegen und Kolleginnen sie allein lassen\, organisieren ihre Patienten den Kampf um ihre Wiedereinstellung. Das gibt ihr den Mut\, ebenfalls weiterzukämpfen. \n\nDer Grundschullehrer Engin wurde ohne Begründung entlassen und von seinen Schülern getrennt. Gegen diese Ungerechtigkeit protestiert er friedlich auf dem zentralen Platz von Bodrum. Jeden Tag wählt er eine andere Aktionsform. Diese Aktionen haben Witz. Er schreibt zum Beispiel mit Wasser auf den Boden “Ich will zurück in meinen Beruf”. Als die Polizei kommt\, ist der Straftatbestand getrocknet. Oder er hängt ein Plakat mit der Aufschrift “Ich will zurück zu meinen Schülern!” an einen Ballon. Sobald die Polizei kommt\, läßt er den Ballon davonfliegen. Die Polizei ärgert es gründlich daß sie keine Beweismittel sicherstellen kann.\n\nDa Yasemin nichts zu tun hat\, besucht sie ihre Patienten in deren Häusern\, behandelt sie gratis\, weil sie sie nicht mit der staatlichen Medizin allein lassen will. \n\nWährend auf der Promenade\, wo Engin seine Aktionen macht\, die Vergnügungsindustrie der Tourismushochburg Bodrum weitergeht\, sieht man die anderen Seite der luxuriösen Stadt\, wenn Yasemin die dringendsten Fälle unter den armen Patienten behandelt.\n\nEngins friedliche Aktionen an der Promenade erregen das Interesse der Vorbeigehenden. Die Patienten kämpfen weiter für die Wiedereinstellung ihrer Ärztin. Die Repression der Polizei wird von Tag zu Tag massiver. Engin wird ohne Begründung nach jeder Aktion festgenommen. Dabei beruft sich die Polizei sogar darauf\, ihn vor Angriffen der Bürger schützen zu müssen.\n\nEngins Tochter hat Angst\, wenn ihr Vater im öffentlichen Raum seine Aktionen macht. Engins Mutter und Vater kommen nach Bodrum\, um ihn dazu zu bewegen\, seine Aktionen aufzugeben. Yasemins Mutter bedrängt sie\, in diesen schweren Zeiten nicht allein zu bleiben und zu heiraten. Die Mütter haben große Sorgen.\n\nWährend die Bemühungen von Yasemins Patienten von der Polizei bekämpft werden\, nimmt auch der Druck auf das Dokumentarfilmteam zu. Als nach dreijährigen Dreharbeiten die Polizei eine versteckte Kamera entdeckt\, wird der Regisseurin das Filmen offiziell verboten. \n  \nDie beiden einsamen und von der Gesellschaft ausgegrenzten Protagonisten kämpfen trotz allen Repressionen und Schwierigkeiten weiterhin für die Rückkehr in ihre Berufe.\n\nWie lange Yasemin und Engin das noch durchhalten\, ist ungewiß.
URL:https://auxpunks.uber.space/event/ausnahmezustand-kanun-huekmue-dokumentarfilm-von-nejla-demirci/
LOCATION:Mephisto Kino\, Karolinenstraße 21\, Augsburg
CATEGORIES:Vorträge, Filme & Workshops
END:VEVENT
BEGIN:VEVENT
DTSTART;TZID=Europe/Berlin:20240614T180000
DTEND;TZID=Europe/Berlin:20240614T200000
DTSTAMP:20260420T231522
CREATED:20240611T082416Z
LAST-MODIFIED:20240611T082417Z
UID:10014145-1718388000-1718395200@auxpunks.uber.space
SUMMARY:Die Situation von queeren Geflüchteten in Bayern
DESCRIPTION:Vortrag der Reihe „Über Grenzen“: Am Freitag\, 14.06. berichtet der Augsburger Flüchtlingsrat um 18:00 Uhr in der ganzen Bäckerei von der Situation queerer Geflüchteter in Bayern.\n\nDie Voraussetzungen für ein selbstbestimmtes Leben geflüchteter Menschen in Deutschland werden immer schwieriger. Falls Menschen es in Zukunft überhaupt noch in die Festung Europa schaffen\, wird ihnen Gesellschaftliche Teilhabe spätestens dann durch die Verschärfung von Gesetzen oder menschenfeindlichen Instrumenten wie das Einführen von Bezahlkarten verwehrt.\nDie systematische Ausgrenzung ist vor allem für mehrfachdiskriminierte Personengruppen fast unüberwindbar. Hier wollen wir den Fokus auf queere Geflüchtete legen\, für die kaum Unterstützungsstrukturen vor Ort vorhanden sind\, was enorme Auswirkungen auf deren Alltag – und damit ihr emotionales und körperliches Befinden – hat.
URL:https://auxpunks.uber.space/event/die-situation-von-queeren-gefluechteten-in-bayern/
LOCATION:“ Ganze Bäckerei “ Augsburg  Frauentorstr.34
CATEGORIES:Vorträge, Filme & Workshops
END:VEVENT
BEGIN:VEVENT
DTSTART;TZID=Europe/Berlin:20240529T190000
DTEND;TZID=Europe/Berlin:20240529T213000
DTSTAMP:20260420T231522
CREATED:20240522T064219Z
LAST-MODIFIED:20240522T064220Z
UID:10014096-1717009200-1717018200@auxpunks.uber.space
SUMMARY:CryptoParty Augsburg
DESCRIPTION:Was ist eine CryptoParty?\n\nKurz:\nWorkshops zur digitalen Selbstverteidigung\n\nLang:\nEine CryptoParty ist eine lockere\, öffentliche Veranstaltung\, bei der man lernen kann\, wie man sich im digitalen Raum (Internet) sicher und anonym bewegt\, E-Mails verschlüsselt und digital signiert (unterschreibt) oder wie man Festplatten verschlüsselt. Dabei versuchen wir\, die Vorträge einsteigerfreundlich zu gestalten. Auch rufen wir oft dazu auf\, dass Besucher ihre Geräte mitbringen\, sodass sie das zuvor erworbene Wissen auch gleich in der Praxis umsetzen können. Dabei werden sie von fachkundigen Leuten der CryptoParty unterstützt. Aber auch Profis können die Veranstaltung nutzen\, um sich mit Gleichgesinnten auszutauschen.\nCryptoPartys sind öffentlich und unkommerziell\, mit dem Fokus auf Open-Source-Software (OSS).\n\nDas Thema ist „Warum digitale Selbstverteidigung?“.\nIn diesem Vortrag geht es darum\, warum man sich digital selbst verteidigen sollte. Wir gehen darauf ein\, warum sichere Kommunikation wichtig ist\, warum man Festplatten verschlüsseln sollte und warum man sich diesen Aufwand machen sollte.
URL:https://auxpunks.uber.space/event/cryptoparty-augsburg-2/
LOCATION:OpenLab Augsburg
CATEGORIES:Vorträge, Filme & Workshops
END:VEVENT
BEGIN:VEVENT
DTSTART;TZID=Europe/Berlin:20240526T183000
DTEND;TZID=Europe/Berlin:20240526T200000
DTSTAMP:20260420T231522
CREATED:20240524T181255Z
LAST-MODIFIED:20240524T181257Z
UID:10014105-1716748200-1716753600@auxpunks.uber.space
SUMMARY:AFD und die Soziale Frage - Buchvorstellung von und mit dem Autor Stefan Dietl
DESCRIPTION:Stefan Dietl stellt sein Buch «Die AfD und die soziale Frage – zwischen Marktradikalismus und ‚völkischem Antikapitalismus‘» in der Ganzen Bäckerei vor. Ihr seid herzlich eingeladen! \n\n\n\nAus dem Klappentext des Buches: «Die besorgniserregenden Wahlerfolge und die zunehmende Verankerung der AfD in der deutschen Parteienlandschaft führen unter ihren Gegner*innen zu kontroversen Debatten darüber\, wie der Rechtspartei zu begegnen sei. Während einige darauf setzen\, die AfD als unsozial zu brandmarken und über ihre neoliberale Programmatik aufzuklären\, verweisen andere auf die teils antikapitalistische Rhetorik führender Parteifunktionäre und warnen vor der gefährlichen Kombination aus rassistischer Hetze und sozialer Demagogie. \n\n\n\nUm zu klären\, welche Rolle die soziale Frage in der AfD tatsächlich spielt\, untersucht Stefan Dietl die sozialpolitische Ausrichtung der Partei anhand ihres im Mai 2016 verabschiedeten Grundsatzprogramms und der vorhergehenden Debatten zwischen den verschiedenen Flügeln der Partei. Dabei zeigen sich sowohl die marktradikalen Positionen der AfD als auch ihre im «völkischen Antikapitalismus» verwurzelten Inhalte. \n\n\n\nDem Autor gelingt eine anschauliche Darstellung der aktuellen sozial- und wirtschaftspolitischen Programmatik der AfD vor dem Hintergrund des Kräftezerrens zwischen Marktradikalen und völkischen Nationalisten. Doch Dietl liefert auch eine Problemanalyse bisheriger Versäumnisse der Gewerkschaften im Umgang mit der AfD und ihrem Klientel – und entwirft gewerkschaftliche Gegenstrategien.»Zum Autor: \n\n\n\n\nStefan Dietl (Jg. 1985) ist seit seiner Ausbildung Mitglied der Gewerkschaft ver.di. Neben seiner ehrenamtlichen Tätigkeit als Vorsitzender des ver.di Bezirks Oberpfalz und im Landesvorstand der ver.di Bayern schreibt er zu sozial- und wirtschaftspolitischen Themen u.a. für die Jungle World.
URL:https://auxpunks.uber.space/event/afd-und-die-soziale-frage-buchvorstellung-von-und-mit-dem-autor-stefan-dietl/
CATEGORIES:Vorträge, Filme & Workshops
END:VEVENT
BEGIN:VEVENT
DTSTART;TZID=Europe/Berlin:20240524T180000
DTEND;TZID=Europe/Berlin:20240524T210000
DTSTAMP:20260420T231522
CREATED:20240521T113905Z
LAST-MODIFIED:20240521T113905Z
UID:10014093-1716573600-1716584400@auxpunks.uber.space
SUMMARY:Über Grenzen - Vortragsreihe der Ganzen Bäckerei - 'Lagerland Bayern. Wo Unrecht zu Recht wird.'
DESCRIPTION:Für den dritten Vortrag unserer Reihe ‚Über Grenzen‘ kommt der Bayrische Flüchtlingsrat in die Ganze Bäckerei und spricht mit uns über: Lagerland Bayern. Wo Unrecht zu Recht wird.  \n\n\n\nBayern kann als Labor der Bundesrepublik hinsichtlich der Geflüchtetenabwehr gesehen werden. Ihre „Vorreiterrolle“ in Sachen schäbiger Abschreckungspolitik betonte die bayerische Staatsregierung unter anderem bei den ANKER-Zentren\, den Grenzkontrollen und jüngst der Bezahlkarte. Was bedeuten diese Maßnahmen für die Betroffenen und ihre Rechte? Welchen Preis hat diese rechtspopulistische Polititk?Es wird Snacks und Getränke auf Spendenbasis geben und wir freuen uns\, wenn ihr vorbeikommt!Gerne auch schon um 17:45 Uhr eintrudeln.
URL:https://auxpunks.uber.space/event/ueber-grenzen-vortragsreihe-der-ganzen-baeckerei-lagerland-bayern-wo-unrecht-zu-recht-wird/
CATEGORIES:Highlights,Vorträge, Filme & Workshops
END:VEVENT
END:VCALENDAR