BEGIN:VCALENDAR
VERSION:2.0
PRODID:-//auxpunks - ECPv6.15.11//NONSGML v1.0//EN
CALSCALE:GREGORIAN
METHOD:PUBLISH
X-ORIGINAL-URL:https://auxpunks.uber.space
X-WR-CALDESC:Veranstaltungen für auxpunks
REFRESH-INTERVAL;VALUE=DURATION:PT1H
X-Robots-Tag:noindex
X-PUBLISHED-TTL:PT1H
BEGIN:VTIMEZONE
TZID:Europe/Berlin
BEGIN:DAYLIGHT
TZOFFSETFROM:+0100
TZOFFSETTO:+0200
TZNAME:CEST
DTSTART:20230326T010000
END:DAYLIGHT
BEGIN:STANDARD
TZOFFSETFROM:+0200
TZOFFSETTO:+0100
TZNAME:CET
DTSTART:20231029T010000
END:STANDARD
BEGIN:DAYLIGHT
TZOFFSETFROM:+0100
TZOFFSETTO:+0200
TZNAME:CEST
DTSTART:20240331T010000
END:DAYLIGHT
BEGIN:STANDARD
TZOFFSETFROM:+0200
TZOFFSETTO:+0100
TZNAME:CET
DTSTART:20241027T010000
END:STANDARD
BEGIN:DAYLIGHT
TZOFFSETFROM:+0100
TZOFFSETTO:+0200
TZNAME:CEST
DTSTART:20250330T010000
END:DAYLIGHT
BEGIN:STANDARD
TZOFFSETFROM:+0200
TZOFFSETTO:+0100
TZNAME:CET
DTSTART:20251026T010000
END:STANDARD
END:VTIMEZONE
BEGIN:VEVENT
DTSTART;TZID=Europe/Berlin:20240529T190000
DTEND;TZID=Europe/Berlin:20240529T213000
DTSTAMP:20260421T003908
CREATED:20240522T064219Z
LAST-MODIFIED:20240522T064220Z
UID:10014096-1717009200-1717018200@auxpunks.uber.space
SUMMARY:CryptoParty Augsburg
DESCRIPTION:Was ist eine CryptoParty?\n\nKurz:\nWorkshops zur digitalen Selbstverteidigung\n\nLang:\nEine CryptoParty ist eine lockere\, öffentliche Veranstaltung\, bei der man lernen kann\, wie man sich im digitalen Raum (Internet) sicher und anonym bewegt\, E-Mails verschlüsselt und digital signiert (unterschreibt) oder wie man Festplatten verschlüsselt. Dabei versuchen wir\, die Vorträge einsteigerfreundlich zu gestalten. Auch rufen wir oft dazu auf\, dass Besucher ihre Geräte mitbringen\, sodass sie das zuvor erworbene Wissen auch gleich in der Praxis umsetzen können. Dabei werden sie von fachkundigen Leuten der CryptoParty unterstützt. Aber auch Profis können die Veranstaltung nutzen\, um sich mit Gleichgesinnten auszutauschen.\nCryptoPartys sind öffentlich und unkommerziell\, mit dem Fokus auf Open-Source-Software (OSS).\n\nDas Thema ist „Warum digitale Selbstverteidigung?“.\nIn diesem Vortrag geht es darum\, warum man sich digital selbst verteidigen sollte. Wir gehen darauf ein\, warum sichere Kommunikation wichtig ist\, warum man Festplatten verschlüsseln sollte und warum man sich diesen Aufwand machen sollte.
URL:https://auxpunks.uber.space/event/cryptoparty-augsburg-2/
LOCATION:OpenLab Augsburg
CATEGORIES:Vorträge, Filme & Workshops
END:VEVENT
BEGIN:VEVENT
DTSTART;TZID=Europe/Berlin:20240526T183000
DTEND;TZID=Europe/Berlin:20240526T200000
DTSTAMP:20260421T003908
CREATED:20240524T181255Z
LAST-MODIFIED:20240524T181257Z
UID:10014105-1716748200-1716753600@auxpunks.uber.space
SUMMARY:AFD und die Soziale Frage - Buchvorstellung von und mit dem Autor Stefan Dietl
DESCRIPTION:Stefan Dietl stellt sein Buch «Die AfD und die soziale Frage – zwischen Marktradikalismus und ‚völkischem Antikapitalismus‘» in der Ganzen Bäckerei vor. Ihr seid herzlich eingeladen! \n\n\n\nAus dem Klappentext des Buches: «Die besorgniserregenden Wahlerfolge und die zunehmende Verankerung der AfD in der deutschen Parteienlandschaft führen unter ihren Gegner*innen zu kontroversen Debatten darüber\, wie der Rechtspartei zu begegnen sei. Während einige darauf setzen\, die AfD als unsozial zu brandmarken und über ihre neoliberale Programmatik aufzuklären\, verweisen andere auf die teils antikapitalistische Rhetorik führender Parteifunktionäre und warnen vor der gefährlichen Kombination aus rassistischer Hetze und sozialer Demagogie. \n\n\n\nUm zu klären\, welche Rolle die soziale Frage in der AfD tatsächlich spielt\, untersucht Stefan Dietl die sozialpolitische Ausrichtung der Partei anhand ihres im Mai 2016 verabschiedeten Grundsatzprogramms und der vorhergehenden Debatten zwischen den verschiedenen Flügeln der Partei. Dabei zeigen sich sowohl die marktradikalen Positionen der AfD als auch ihre im «völkischen Antikapitalismus» verwurzelten Inhalte. \n\n\n\nDem Autor gelingt eine anschauliche Darstellung der aktuellen sozial- und wirtschaftspolitischen Programmatik der AfD vor dem Hintergrund des Kräftezerrens zwischen Marktradikalen und völkischen Nationalisten. Doch Dietl liefert auch eine Problemanalyse bisheriger Versäumnisse der Gewerkschaften im Umgang mit der AfD und ihrem Klientel – und entwirft gewerkschaftliche Gegenstrategien.»Zum Autor: \n\n\n\n\nStefan Dietl (Jg. 1985) ist seit seiner Ausbildung Mitglied der Gewerkschaft ver.di. Neben seiner ehrenamtlichen Tätigkeit als Vorsitzender des ver.di Bezirks Oberpfalz und im Landesvorstand der ver.di Bayern schreibt er zu sozial- und wirtschaftspolitischen Themen u.a. für die Jungle World.
URL:https://auxpunks.uber.space/event/afd-und-die-soziale-frage-buchvorstellung-von-und-mit-dem-autor-stefan-dietl/
CATEGORIES:Vorträge, Filme & Workshops
END:VEVENT
BEGIN:VEVENT
DTSTART;TZID=Europe/Berlin:20240524T180000
DTEND;TZID=Europe/Berlin:20240524T210000
DTSTAMP:20260421T003908
CREATED:20240521T113905Z
LAST-MODIFIED:20240521T113905Z
UID:10014093-1716573600-1716584400@auxpunks.uber.space
SUMMARY:Über Grenzen - Vortragsreihe der Ganzen Bäckerei - 'Lagerland Bayern. Wo Unrecht zu Recht wird.'
DESCRIPTION:Für den dritten Vortrag unserer Reihe ‚Über Grenzen‘ kommt der Bayrische Flüchtlingsrat in die Ganze Bäckerei und spricht mit uns über: Lagerland Bayern. Wo Unrecht zu Recht wird.  \n\n\n\nBayern kann als Labor der Bundesrepublik hinsichtlich der Geflüchtetenabwehr gesehen werden. Ihre „Vorreiterrolle“ in Sachen schäbiger Abschreckungspolitik betonte die bayerische Staatsregierung unter anderem bei den ANKER-Zentren\, den Grenzkontrollen und jüngst der Bezahlkarte. Was bedeuten diese Maßnahmen für die Betroffenen und ihre Rechte? Welchen Preis hat diese rechtspopulistische Polititk?Es wird Snacks und Getränke auf Spendenbasis geben und wir freuen uns\, wenn ihr vorbeikommt!Gerne auch schon um 17:45 Uhr eintrudeln.
URL:https://auxpunks.uber.space/event/ueber-grenzen-vortragsreihe-der-ganzen-baeckerei-lagerland-bayern-wo-unrecht-zu-recht-wird/
CATEGORIES:Highlights,Vorträge, Filme & Workshops
END:VEVENT
END:VCALENDAR