BEGIN:VCALENDAR
VERSION:2.0
PRODID:-//auxpunks - ECPv6.15.11//NONSGML v1.0//EN
CALSCALE:GREGORIAN
METHOD:PUBLISH
X-WR-CALNAME:auxpunks
X-ORIGINAL-URL:https://auxpunks.uber.space
X-WR-CALDESC:Veranstaltungen für auxpunks
REFRESH-INTERVAL;VALUE=DURATION:PT1H
X-Robots-Tag:noindex
X-PUBLISHED-TTL:PT1H
BEGIN:VTIMEZONE
TZID:Europe/Berlin
BEGIN:DAYLIGHT
TZOFFSETFROM:+0100
TZOFFSETTO:+0200
TZNAME:CEST
DTSTART:20230326T010000
END:DAYLIGHT
BEGIN:STANDARD
TZOFFSETFROM:+0200
TZOFFSETTO:+0100
TZNAME:CET
DTSTART:20231029T010000
END:STANDARD
BEGIN:DAYLIGHT
TZOFFSETFROM:+0100
TZOFFSETTO:+0200
TZNAME:CEST
DTSTART:20240331T010000
END:DAYLIGHT
BEGIN:STANDARD
TZOFFSETFROM:+0200
TZOFFSETTO:+0100
TZNAME:CET
DTSTART:20241027T010000
END:STANDARD
BEGIN:DAYLIGHT
TZOFFSETFROM:+0100
TZOFFSETTO:+0200
TZNAME:CEST
DTSTART:20250330T010000
END:DAYLIGHT
BEGIN:STANDARD
TZOFFSETFROM:+0200
TZOFFSETTO:+0100
TZNAME:CET
DTSTART:20251026T010000
END:STANDARD
END:VTIMEZONE
BEGIN:VEVENT
DTSTART;TZID=Europe/Berlin:20241114T180000
DTEND;TZID=Europe/Berlin:20241114T200000
DTSTAMP:20260423T135051
CREATED:20241104T134924Z
LAST-MODIFIED:20241104T134925Z
UID:10014323-1731607200-1731614400@auxpunks.uber.space
SUMMARY:Marx für alle!
DESCRIPTION:Überholt\, von vorgestern\, zu kompliziert!? Karl Marx Werk wurde immer wieder abgeschrieben und seine Vertreter*innen belächelt. Doch seit der Finanzkrise 2008\, der immer weiter auseinander gehenden Schere zwischen arm und reich\, sowie einer Klimakrise die man einfach nicht in den Griff zu bekommen scheint\, stellen sich viele wieder die Frage: Hatte Karl Marx doch recht?In unserem Workshop werden wir einen spielerischen und lebensnahen Einstieg in sein Werk geben und aufzeigen wie sich mit seiner Theorie aktuelle wirtschaftliche Prozesse erklären lassen.Bei Snacks und Getränken auf Spendenbasis freuen wir uns auf euch und einen interessanten Austausch.
URL:https://auxpunks.uber.space/event/marx-fuer-alle/
LOCATION:Mauerberg 31\, 86152 Augsburg\, Deutschland
CATEGORIES:Vorträge, Filme & Workshops,🎃 Linke Einführungswochen
END:VEVENT
BEGIN:VEVENT
DTSTART;TZID=Europe/Berlin:20241114T183000
DTEND;TZID=Europe/Berlin:20241114T200000
DTSTAMP:20260423T135051
CREATED:20241114T030753Z
LAST-MODIFIED:20241114T030753Z
UID:10014340-1731609000-1731614400@auxpunks.uber.space
SUMMARY:Palästinasolidarität und Repression
DESCRIPTION:Wir werden uns anschauen wie die Repression aussieht und welche Formen es davon gibt.\nEbenfalls werden wir uns mit der Frage beschäftigen\, warum es gerade die Palästinabewegung so hart trifft.
URL:https://auxpunks.uber.space/event/palaestinasolidaritaet-und-repression/
LOCATION:Kraftort Pfersee\, Metzstraße 40\, Pfersee\, 86157
CATEGORIES:Vorträge, Filme & Workshops
ORGANIZER;CN="Solidarit%C3%A4tsnetzwerk Augsburg":MAILTO:augsburg@soli-net.de
END:VEVENT
BEGIN:VEVENT
DTSTART;TZID=Europe/Berlin:20241120T200000
DTEND;TZID=Europe/Berlin:20241120T213000
DTSTAMP:20260423T135051
CREATED:20241012T102043Z
LAST-MODIFIED:20241018T105640Z
UID:10014278-1732132800-1732138200@auxpunks.uber.space
SUMMARY:Kennenlern-Plenum und Vortrag zur "Situation von queeren Geflüchteten in Bayern"
DESCRIPTION:Im Rahmen der Linken Einführungswochen stellt der Augsburger Flüchtlingsrat sich und seine Arbeit vor\, erklärt\, wie man man mitmachen und sich engagieren kann.\nIn einem Vortrag wollen wir danach einen Überblick über die aktuelle Situation queerer Geflüchteter in Bayern verschaffen\, insb. im Hinblick auf das Asylverfahren und die Unterbringungssituation. Der Fokus liegt dabei auf der Situation in der Stadt Augsburg. Zum Hintergrund: Die Voraussetzungen für ein selbstbestimmtes Leben geflüchteter Menschen in Deutschland werden immer schwieriger. Falls Menschen es in Zukunft überhaupt noch in die Festung Europa schaffen\, wird ihnen gesellschaftliche Teilhabe spätestens dann durch die Verschärfung von Gesetzen oder menschenfeindlichen Instrumenten wie das Einführen von Bezahlkarten verwehrt. Die systematische Ausgrenzung ist vor allem für mehrfachdiskriminierte Personengruppen fast unüberwindbar. Gerdae auch für queere Geflüchtete sind kaum Unterstützungsstrukturen vor Ort vorhanden\, was enorme Auswirkungen auf deren Alltag – und damit ihr emotionales und körperliches Befinden – hat.\nIm Anschluss besteht die Möglichkeit zur Diskussion und Planung von Unterstützungsstrukturen.
URL:https://auxpunks.uber.space/event/kennenlern-plenum-und-vortrag-zur-situation-von-queeren-gefluechteten-in-bayern/
LOCATION:Grandhotel Cosmopolis\, SPRINGERGÄSSCHEN 5\, Augsburg\, 86152\, Deutschland
CATEGORIES:Plena, Treffen & Lesekreise,Vorträge, Filme & Workshops,🎃 Linke Einführungswochen
END:VEVENT
BEGIN:VEVENT
DTSTART;TZID=Europe/Berlin:20241129T180000
DTEND;TZID=Europe/Berlin:20241129T200000
DTSTAMP:20260423T135051
CREATED:20241113T125322Z
LAST-MODIFIED:20241113T125322Z
UID:10014339-1732903200-1732910400@auxpunks.uber.space
SUMMARY:Frauen im antifaschistischen Widerstand - Damals wie heute
DESCRIPTION:Vortrag der kommunistischen Frauen über die Geschichte von Frauen im antifaschistischen Widerstandkampf und die Rolle von Frauen im heutigen Kampf gegen den Faschismus
URL:https://auxpunks.uber.space/event/frauen-im-antifaschistischen-widerstand-damals-wie-heute/
LOCATION:“ Ganze Bäckerei “ Augsburg  Frauentorstr.34
CATEGORIES:Vorträge, Filme & Workshops
ORGANIZER;CN="Kommunistische Frauen":MAILTO:info@komaufbau.org
END:VEVENT
BEGIN:VEVENT
DTSTART;TZID=Europe/Berlin:20241130T160000
DTEND;TZID=Europe/Berlin:20241130T200000
DTSTAMP:20260423T135051
CREATED:20241126T201612Z
LAST-MODIFIED:20241126T201612Z
UID:10014370-1732982400-1732996800@auxpunks.uber.space
SUMMARY:Vortrag: "Rechte Strukturen in Augsburg"
DESCRIPTION:Kommt zu unserem Vortrag über Rechte Strukturen in Augsburg!\n\nDer Rechtsruck zeigt sich auch in Augsburg und im Umland\, rechte Strukturen treten wieder vermehrt in Erscheinung und wachsen. Wir wollen einen Überblick über diese Gruppen geben\, um besser gegen sie zu kämpfen.\n\nUm sich die Nazis besser zu merken\, gibt es im Anschluss ein Nazi-Bingo mit tollen Preisen und was zu essen.\n\nKommt vorbei!\nSamstag 30.11 – 16 Uhr\nDie Ganze Bäckerei
URL:https://auxpunks.uber.space/event/vortrag-rechte-strukturen-in-augsburg/
LOCATION:“ Ganze Bäckerei “ Augsburg  Frauentorstr.34
CATEGORIES:Vorträge, Filme & Workshops,🎃 Linke Einführungswochen
END:VEVENT
END:VCALENDAR