BEGIN:VCALENDAR
VERSION:2.0
PRODID:-//auxpunks - ECPv6.15.11//NONSGML v1.0//EN
CALSCALE:GREGORIAN
METHOD:PUBLISH
X-ORIGINAL-URL:https://auxpunks.uber.space
X-WR-CALDESC:Veranstaltungen für auxpunks
REFRESH-INTERVAL;VALUE=DURATION:PT1H
X-Robots-Tag:noindex
X-PUBLISHED-TTL:PT1H
BEGIN:VTIMEZONE
TZID:Europe/Berlin
BEGIN:DAYLIGHT
TZOFFSETFROM:+0100
TZOFFSETTO:+0200
TZNAME:CEST
DTSTART:20230326T010000
END:DAYLIGHT
BEGIN:STANDARD
TZOFFSETFROM:+0200
TZOFFSETTO:+0100
TZNAME:CET
DTSTART:20231029T010000
END:STANDARD
BEGIN:DAYLIGHT
TZOFFSETFROM:+0100
TZOFFSETTO:+0200
TZNAME:CEST
DTSTART:20240331T010000
END:DAYLIGHT
BEGIN:STANDARD
TZOFFSETFROM:+0200
TZOFFSETTO:+0100
TZNAME:CET
DTSTART:20241027T010000
END:STANDARD
BEGIN:DAYLIGHT
TZOFFSETFROM:+0100
TZOFFSETTO:+0200
TZNAME:CEST
DTSTART:20250330T010000
END:DAYLIGHT
BEGIN:STANDARD
TZOFFSETFROM:+0200
TZOFFSETTO:+0100
TZNAME:CET
DTSTART:20251026T010000
END:STANDARD
END:VTIMEZONE
BEGIN:VEVENT
DTSTART;TZID=Europe/Berlin:20241210T180000
DTEND;TZID=Europe/Berlin:20241210T203000
DTSTAMP:20260423T124259
CREATED:20241207T183044Z
LAST-MODIFIED:20241208T161624Z
UID:10014384-1733853600-1733862600@auxpunks.uber.space
SUMMARY:Politische Digitalisierung: Herausforderung\, Krise und Chancen
DESCRIPTION:Die Digitalisierung schreitet immer schneller voran und verändert unser aller Alltag. Egal ob es um künstliche Intelligenz\, um Kryptowährungen oder um Industrie 4.0 geht. Diese Veränderung ist nicht immer sichtbar\, aber gleichzeitig unfassbar Komplex.\n\nIn dem Vortrag werden verschiedenen Aspekte dieses digitalen Wandels dargestellt: von politischer Kommunikation in den sozialen Medien und hybrider Kriegsführung über die geopolitischen Strukturen der digitalen Welt bis hin zu den Umwälzungen innerhalb der Politischen-Ökonomie.\n\nDie Teilnahme ist für jeden möglich und kostenlos. Für Getränke und Snacks auf Spendenbasis ist wie immer gesorgt.
URL:https://auxpunks.uber.space/event/politische-digitalisierung-herausforderung-krise-und-chancen/
LOCATION:Mauerberg 31\, 86152 Augsburg\, Deutschland
CATEGORIES:Vorträge, Filme & Workshops
END:VEVENT
END:VCALENDAR