BEGIN:VCALENDAR
VERSION:2.0
PRODID:-//auxpunks - ECPv6.15.11//NONSGML v1.0//EN
CALSCALE:GREGORIAN
METHOD:PUBLISH
X-WR-CALNAME:auxpunks
X-ORIGINAL-URL:https://auxpunks.uber.space
X-WR-CALDESC:Veranstaltungen für auxpunks
REFRESH-INTERVAL;VALUE=DURATION:PT1H
X-Robots-Tag:noindex
X-PUBLISHED-TTL:PT1H
BEGIN:VTIMEZONE
TZID:Europe/Berlin
BEGIN:DAYLIGHT
TZOFFSETFROM:+0100
TZOFFSETTO:+0200
TZNAME:CEST
DTSTART:20240331T010000
END:DAYLIGHT
BEGIN:STANDARD
TZOFFSETFROM:+0200
TZOFFSETTO:+0100
TZNAME:CET
DTSTART:20241027T010000
END:STANDARD
BEGIN:DAYLIGHT
TZOFFSETFROM:+0100
TZOFFSETTO:+0200
TZNAME:CEST
DTSTART:20250330T010000
END:DAYLIGHT
BEGIN:STANDARD
TZOFFSETFROM:+0200
TZOFFSETTO:+0100
TZNAME:CET
DTSTART:20251026T010000
END:STANDARD
BEGIN:DAYLIGHT
TZOFFSETFROM:+0100
TZOFFSETTO:+0200
TZNAME:CEST
DTSTART:20260329T010000
END:DAYLIGHT
BEGIN:STANDARD
TZOFFSETFROM:+0200
TZOFFSETTO:+0100
TZNAME:CET
DTSTART:20261025T010000
END:STANDARD
END:VTIMEZONE
BEGIN:VEVENT
DTSTART;TZID=Europe/Berlin:20250409T190000
DTEND;TZID=Europe/Berlin:20250409T220000
DTSTAMP:20260421T100544
CREATED:20250317T113658Z
LAST-MODIFIED:20250317T113658Z
UID:10014515-1744225200-1744236000@auxpunks.uber.space
SUMMARY:Bits und Bäume - hybrider Vortragsabend & Diskussion
DESCRIPTION:Hybrider Vortragsabend & Diskussion zu\n\n– OpenPV – Freie Software fürdas Energiepotenzial für Solaranlagen                           auf Gebäuden\n\n– Stadt\, Land\, Klima –  Plattform zum vergleichen von Kommunen auf dem Weg zu Klimaneutralität\n\n& offenes Monatstreffen \nim OpenLab Augsburg Bäckergasse 32\nam 2. Mittwoch jeden Monats
URL:https://auxpunks.uber.space/event/bits-und-baeume-hybrider-vortragsabend-diskussion/
LOCATION:OpenLab Augsburg
CATEGORIES:Klimagerechtigkeit
END:VEVENT
BEGIN:VEVENT
DTSTART;TZID=Europe/Berlin:20250426T093000
DTEND;TZID=Europe/Berlin:20250426T170000
DTSTAMP:20260421T100544
CREATED:20250410T055625Z
LAST-MODIFIED:20250410T055626Z
UID:10014533-1745659800-1745686800@auxpunks.uber.space
SUMMARY:Augsburger Linux-Infotag 2025
DESCRIPTION:Vorträge\, Workshops und Informationsstände rund um Linux\, Open-Source und kreative Anwendungen von Technik\, Wissenschaft und Bildung. Keynote zum Thema „Open Source und Nextcloud in Zeiten geopolitischer Herausforderungen“.
URL:https://auxpunks.uber.space/event/augsburger-linux-infotag-2025/
LOCATION:Technische Hochschule Augsburg\, Friedberger Straße 2\, Augsburg\, 86161
CATEGORIES:Vorträge, Filme & Workshops
END:VEVENT
END:VCALENDAR