BEGIN:VCALENDAR
VERSION:2.0
PRODID:-//auxpunks - ECPv6.15.11//NONSGML v1.0//EN
CALSCALE:GREGORIAN
METHOD:PUBLISH
X-WR-CALNAME:auxpunks
X-ORIGINAL-URL:https://auxpunks.uber.space
X-WR-CALDESC:Veranstaltungen für auxpunks
REFRESH-INTERVAL;VALUE=DURATION:PT1H
X-Robots-Tag:noindex
X-PUBLISHED-TTL:PT1H
BEGIN:VTIMEZONE
TZID:Europe/Berlin
BEGIN:DAYLIGHT
TZOFFSETFROM:+0100
TZOFFSETTO:+0200
TZNAME:CEST
DTSTART:20240331T010000
END:DAYLIGHT
BEGIN:STANDARD
TZOFFSETFROM:+0200
TZOFFSETTO:+0100
TZNAME:CET
DTSTART:20241027T010000
END:STANDARD
BEGIN:DAYLIGHT
TZOFFSETFROM:+0100
TZOFFSETTO:+0200
TZNAME:CEST
DTSTART:20250330T010000
END:DAYLIGHT
BEGIN:STANDARD
TZOFFSETFROM:+0200
TZOFFSETTO:+0100
TZNAME:CET
DTSTART:20251026T010000
END:STANDARD
BEGIN:DAYLIGHT
TZOFFSETFROM:+0100
TZOFFSETTO:+0200
TZNAME:CEST
DTSTART:20260329T010000
END:DAYLIGHT
BEGIN:STANDARD
TZOFFSETFROM:+0200
TZOFFSETTO:+0100
TZNAME:CET
DTSTART:20261025T010000
END:STANDARD
END:VTIMEZONE
BEGIN:VEVENT
DTSTART;TZID=Europe/Berlin:20250613T180000
DTEND;TZID=Europe/Berlin:20250613T210000
DTSTAMP:20260421T071811
CREATED:20250605T100404Z
LAST-MODIFIED:20250605T100405Z
UID:10015176-1749837600-1749848400@auxpunks.uber.space
SUMMARY:Vortrag: Demokratische Revolution in Şengal / Reisebericht
DESCRIPTION:Huhu\, wir machen einen Vortrag am 13.06. um 18.00 Uhr in der assemblé Tanzschule einen Vortrag über die  Demokratische Revolution in Şengal. Es kommt eine Delegation und erzählt von der Reise. Danach wollen wir noch gemeinsam diskutieren.  Kommt auf jedenfall vorbei und teilt die Nachricht bitte in eure Kanäle:)
URL:https://auxpunks.uber.space/event/vortrag-demokratische-revolution-in-sengal-reisebericht/
CATEGORIES:Vorträge, Filme & Workshops
END:VEVENT
BEGIN:VEVENT
DTSTART;TZID=Europe/Berlin:20250627T190000
DTEND;TZID=Europe/Berlin:20250627T220000
DTSTAMP:20260421T071811
CREATED:20250619T150912Z
LAST-MODIFIED:20250619T150912Z
UID:10015457-1751050800-1751061600@auxpunks.uber.space
SUMMARY:Sound of Solidarity – Erfahrungsbericht einer Aktivistin & Konzert zugunsten der Seenotrettung
DESCRIPTION:In Zeiten des politischen Rechtsrucks in Deutschland und Europa wird eine starke Zivilgesellschaft\, die sich für den Schutz von Menschenrechten einsetzt\, immer wichtiger.\n\nWir wollen Euch daher die Möglichkeit geben\, mehr über die zivile Seenotrettung im Mittelmeer – eine der tödlichsten Fluchtrouten der Welt – zu lernen. Denn seit 2014 haben hier mehr als 32.000 Menschen ihr Leben bei der Suche nach Schutz und Sicherheit verloren\, 25.000 davon allein im zentralen Mittelmeer.\n\nDie Studentin und Seenotretterin Sarah wird Euch die aktuelle Situation im zentralen Mittelmeer vorstellen\, einen Einblick in ihre Erfahrungen aus vier Rettungseinsätzen geben und anschließend Eure Fragen zum Thema beantworten.
URL:https://auxpunks.uber.space/event/sound-of-solidarity-erfahrungsbericht-einer-aktivistin-konzert-zugunsten-der-seenotrettung/
LOCATION:Provino Wirgarten
CATEGORIES:Vorträge, Filme & Workshops
END:VEVENT
END:VCALENDAR