BEGIN:VCALENDAR
VERSION:2.0
PRODID:-//auxpunks - ECPv6.15.11//NONSGML v1.0//EN
CALSCALE:GREGORIAN
METHOD:PUBLISH
X-WR-CALNAME:auxpunks
X-ORIGINAL-URL:https://auxpunks.uber.space
X-WR-CALDESC:Veranstaltungen für auxpunks
REFRESH-INTERVAL;VALUE=DURATION:PT1H
X-Robots-Tag:noindex
X-PUBLISHED-TTL:PT1H
BEGIN:VTIMEZONE
TZID:Europe/Berlin
BEGIN:DAYLIGHT
TZOFFSETFROM:+0100
TZOFFSETTO:+0200
TZNAME:CEST
DTSTART:20240331T010000
END:DAYLIGHT
BEGIN:STANDARD
TZOFFSETFROM:+0200
TZOFFSETTO:+0100
TZNAME:CET
DTSTART:20241027T010000
END:STANDARD
BEGIN:DAYLIGHT
TZOFFSETFROM:+0100
TZOFFSETTO:+0200
TZNAME:CEST
DTSTART:20250330T010000
END:DAYLIGHT
BEGIN:STANDARD
TZOFFSETFROM:+0200
TZOFFSETTO:+0100
TZNAME:CET
DTSTART:20251026T010000
END:STANDARD
BEGIN:DAYLIGHT
TZOFFSETFROM:+0100
TZOFFSETTO:+0200
TZNAME:CEST
DTSTART:20260329T010000
END:DAYLIGHT
BEGIN:STANDARD
TZOFFSETFROM:+0200
TZOFFSETTO:+0100
TZNAME:CET
DTSTART:20261025T010000
END:STANDARD
END:VTIMEZONE
BEGIN:VEVENT
DTSTART;TZID=Europe/Berlin:20250801T183000
DTEND;TZID=Europe/Berlin:20250801T203000
DTSTAMP:20260421T044422
CREATED:20250729T091845Z
LAST-MODIFIED:20250729T091846Z
UID:10015480-1754073000-1754080200@auxpunks.uber.space
SUMMARY:Vortrag: Autoritäre Zeitenwende in Deutschland – eine Zwischenbilanz aus revolutionärer Perspektive
DESCRIPTION:Die Revolutionäre Linke Augsburg und die Antifaschistische Aktion Augsburg laden ein: Vortrag von Perspektive Kommunismus: Autoritäre Zeitenwende in Deutschland – eine Zwischenbilanz aus revolutionärer Perspektive\n\nAutoritäre Zeitenwende in Deutschland – eine Zwischenbilanz aus revolutionärer Perspektive\n„Es herrscht großes Chaos unter dem Himmel.“\n\nDer Kapitalismus befindet sich in einer der tiefgreifendsten Krisen\, die auch vor Deutschland keinen Halt macht. Der „Exportweltmeister“ ist Geschichte. Das BRD-Kapital ist im globalen Wettbewerb ins Hintertreffen geraten\, gleichzeitig sind die etablierten bürgerlichen Parteien immer weniger in der Lage die gesellschaftlichen Widersprüche zu befrieden.\n\nDie Folge: Es gärt gewaltig. Die Jahre der relativen Stabilität werden von einer Phase abgelöst\, in der sich die Ereignisse förmlich überschlagen. In Deutschland\, aber auch weltweit.\n\nAus dieser Situation schlagen insbesondere autoritär-nationalistische und faschistische Kräfte Profit. Die AfD gewinnt Landtagswahlen und überholt die CDU/CSU in Umfragen\, auf der Straße formiert sich eine neue faschistische Jugendkultur. Gleichzeitig wird das Land wieder kriegstüchtig gemacht. Die revolutionäre Linke war in den letzten Jahrzehnten nie stark\, jetzt droht sie ins Hintertreffen zu geraten. Zeit zu handeln.\n\nJenseits der Angstmacherei wollen wir versuchen die Eckpunkte und Entwicklungslinien der aktuellen reaktionären Verschiebung festzuhalten und gleichzeitig nach vorne blicken.\n\n– Welche Herausforderungen hat die aktuelle Situation\, aber auch welche Möglichkeiten eröffnet sie?\n– Welcher Zusammenhang besteht zwischen der nationalistischen Kriegsertüchtigung von oben und der reaktionären Kulturkampf-Bewegung von unten?\n– Wie können revolutionäre Gegenstrategien aussehen?\n– In welchem Verhältnis steht ein selbstbewusster Antifaschismus zum Kampf für eine revolutionäre Perspektive?\n\nAlles mit dem Ziel Räume für die revolutionäre Praxis zu erkennen und zu öffnen.\n\nVeranstaltung:\n\nFreitag\, 01. August 2025\n19:00 Uhr\nInternationales Kulturzentrum Augsburg\nZusamstraße 9\, 86165 Augsburg
URL:https://auxpunks.uber.space/event/vortrag-autoritaere-zeitenwende-in-deutschland-eine-zwischenbilanz-aus-revolutionaerer-perspektive/
LOCATION:Internationales Kulturzentrum\, Zusamstraße 9\, Internatioles Kulturzentrum - Enternasyonal Kültür Merkezi\, 86165
CATEGORIES:Vorträge, Filme & Workshops
END:VEVENT
END:VCALENDAR