BEGIN:VCALENDAR
VERSION:2.0
PRODID:-//auxpunks - ECPv6.15.11//NONSGML v1.0//EN
CALSCALE:GREGORIAN
METHOD:PUBLISH
X-ORIGINAL-URL:https://auxpunks.uber.space
X-WR-CALDESC:Veranstaltungen für auxpunks
REFRESH-INTERVAL;VALUE=DURATION:PT1H
X-Robots-Tag:noindex
X-PUBLISHED-TTL:PT1H
BEGIN:VTIMEZONE
TZID:Europe/Berlin
BEGIN:DAYLIGHT
TZOFFSETFROM:+0100
TZOFFSETTO:+0200
TZNAME:CEST
DTSTART:20240331T010000
END:DAYLIGHT
BEGIN:STANDARD
TZOFFSETFROM:+0200
TZOFFSETTO:+0100
TZNAME:CET
DTSTART:20241027T010000
END:STANDARD
BEGIN:DAYLIGHT
TZOFFSETFROM:+0100
TZOFFSETTO:+0200
TZNAME:CEST
DTSTART:20250330T010000
END:DAYLIGHT
BEGIN:STANDARD
TZOFFSETFROM:+0200
TZOFFSETTO:+0100
TZNAME:CET
DTSTART:20251026T010000
END:STANDARD
BEGIN:DAYLIGHT
TZOFFSETFROM:+0100
TZOFFSETTO:+0200
TZNAME:CEST
DTSTART:20260329T010000
END:DAYLIGHT
BEGIN:STANDARD
TZOFFSETFROM:+0200
TZOFFSETTO:+0100
TZNAME:CET
DTSTART:20261025T010000
END:STANDARD
END:VTIMEZONE
BEGIN:VEVENT
DTSTART;TZID=Europe/Berlin:20251002T190000
DTEND;TZID=Europe/Berlin:20251002T210000
DTSTAMP:20260421T015849
CREATED:20250902T085623Z
LAST-MODIFIED:20250902T085624Z
UID:10015773-1759431600-1759438800@auxpunks.uber.space
SUMMARY:Wem gehört der Stadtbezirk!?
DESCRIPTION:Die Auftaktveranstaltung der Ideenschmiede Augsburg findet am Donnerstag\, 02.10. um 19 Uhr im Café Tür an Tür statt. \n\nEs wird ein Podium zum Thema sowie Musik und Snacks geben.\n\nKommt vorbei\, es wird spannend 😊
URL:https://auxpunks.uber.space/event/wem-gehoert-der-stadtbezirk/
LOCATION:Café „Tür an Tür“\, Wertachstraße 29\, Augsburg\, 86153\, Deutschland
CATEGORIES:Vorträge, Filme & Workshops
END:VEVENT
BEGIN:VEVENT
DTSTART;TZID=Europe/Berlin:20251026T150000
DTEND;TZID=Europe/Berlin:20251026T180000
DTSTAMP:20260421T015849
CREATED:20251007T065525Z
LAST-MODIFIED:20251016T125910Z
UID:10015885-1761490800-1761501600@auxpunks.uber.space
SUMMARY:HowTo: Demos anmelden mit Verkehrswende-Initiative
DESCRIPTION:Demonstrationen sind das klassische Mittel für eine Meinungskundgabe. Doch wann muss ich eine Versammlung/Demo anmelden? Was muss ich beachten und wie mach ich das eigentlich?Außerdem: Müssen Demonstrationen immer dieses klassische Format haben? \nÜber all das und viel mehr wollen wir mit euch sprechen. Dabei erfahrt ihr auch welche Tricks es gibt um eure Demonstration so durchführen zu können wie ihr das wollt. \nUnd vielleicht habt ihr ja direkt Lust danach eure eigene Demonstration anzumelden. 🙂
URL:https://auxpunks.uber.space/event/howto-demos-anmelden/
LOCATION:villa – Jugendzentrum Mitte  Kanalstraße 15 86153 Augsburg
CATEGORIES:Linke Einführungswochen 2025,Vorträge, Filme & Workshops,🎃 Linke Einführungswochen
ATTACH;FMTTYPE=image/jpeg:https://auxpunks.uber.space/wp-content/uploads/2025/10/signal-2025-10-16-145827.jpeg
END:VEVENT
BEGIN:VEVENT
DTSTART;TZID=Europe/Berlin:20251031T190000
DTEND;TZID=Europe/Berlin:20251031T210000
DTSTAMP:20260421T015849
CREATED:20250902T085559Z
LAST-MODIFIED:20250902T085600Z
UID:10015774-1761937200-1761944400@auxpunks.uber.space
SUMMARY:Vom Sofa in die Nachbarschaft! Mit Kotti & Co
DESCRIPTION:Mobilisierung für den Wandel im Stadtteil.\n\nVortrag von einem Vertreter der Berliner Mieteninitiative Kotti & Co am Kottbusser Tor.
URL:https://auxpunks.uber.space/event/vom-sofa-in-die-nachbarschaft-mit-kotti-co/
LOCATION:Raum Asien\, Tür an Tür\, Wertachstraße 29
CATEGORIES:Vorträge, Filme & Workshops
ATTACH;FMTTYPE=image/png:https://auxpunks.uber.space/wp-content/uploads/2025/09/KottiUndCo.png
END:VEVENT
END:VCALENDAR