BEGIN:VCALENDAR
VERSION:2.0
PRODID:-//auxpunks - ECPv6.15.11//NONSGML v1.0//EN
CALSCALE:GREGORIAN
METHOD:PUBLISH
X-WR-CALNAME:auxpunks
X-ORIGINAL-URL:https://auxpunks.uber.space
X-WR-CALDESC:Veranstaltungen für auxpunks
REFRESH-INTERVAL;VALUE=DURATION:PT1H
X-Robots-Tag:noindex
X-PUBLISHED-TTL:PT1H
BEGIN:VTIMEZONE
TZID:Europe/Berlin
BEGIN:DAYLIGHT
TZOFFSETFROM:+0100
TZOFFSETTO:+0200
TZNAME:CEST
DTSTART:20240331T010000
END:DAYLIGHT
BEGIN:STANDARD
TZOFFSETFROM:+0200
TZOFFSETTO:+0100
TZNAME:CET
DTSTART:20241027T010000
END:STANDARD
BEGIN:DAYLIGHT
TZOFFSETFROM:+0100
TZOFFSETTO:+0200
TZNAME:CEST
DTSTART:20250330T010000
END:DAYLIGHT
BEGIN:STANDARD
TZOFFSETFROM:+0200
TZOFFSETTO:+0100
TZNAME:CET
DTSTART:20251026T010000
END:STANDARD
BEGIN:DAYLIGHT
TZOFFSETFROM:+0100
TZOFFSETTO:+0200
TZNAME:CEST
DTSTART:20260329T010000
END:DAYLIGHT
BEGIN:STANDARD
TZOFFSETFROM:+0200
TZOFFSETTO:+0100
TZNAME:CET
DTSTART:20261025T010000
END:STANDARD
BEGIN:DAYLIGHT
TZOFFSETFROM:+0100
TZOFFSETTO:+0200
TZNAME:CEST
DTSTART:20270328T010000
END:DAYLIGHT
BEGIN:STANDARD
TZOFFSETFROM:+0200
TZOFFSETTO:+0100
TZNAME:CET
DTSTART:20271031T010000
END:STANDARD
END:VTIMEZONE
BEGIN:VEVENT
DTSTART;TZID=Europe/Berlin:20260413T183000
DTEND;TZID=Europe/Berlin:20260413T200000
DTSTAMP:20260420T194735
CREATED:20260412T095951Z
LAST-MODIFIED:20260412T095952Z
UID:10016721-1776105000-1776110400@auxpunks.uber.space
SUMMARY:Vortrag: Widerstand - Pflicht\, Recht\, Unrecht\, kriminell?
DESCRIPTION:Hier mal ein städtischer Vortrag zu einem sehr spannenden Thema:  \n\n\n\nDie Zeiten\, in denen Widerstand gegen das nationalsozialistische Unrechtsregime und dessen Angriffskrieg als Hochverrat verfolgt und mit dem Tod bestraft wurde\, sind vorbei. Doch wie ist Widerstand heute zu bewerten\, wenn demokratische Rechtsstaaten sich verändern\, Rechtsstaatlichkeit eingeschränkt wird und der Rechtsstaat zu erodieren droht? Wird Widerstand dann zur Pflicht – und ab wann\, und für wen? \n\n\n\nWie ist das Widerstandsrecht des Grundgesetzes zu verstehen? Wo verläuft die Grenze zwischen Recht und strafbarem Unrecht – und wer bestimmt diese Grenze? \n\n\n\nDr. Herbert Veh\, ehemals Präsident des Landgerichts Augsburg\, ist zusammen mit Prof. Dr. Arnd Koch Herausgeber des in der Reihe Augsburger Rechtsstudien erschienen Buches „Vor 70 Jahren ­ Stunde Null für die Justiz? Die Augsburger Justiz und das NS-Unrecht“.  \n\n\n\nEine Veranstaltung der Reihe „Augsburger Beiträge zur historisch-politischen Bildung“ der Fachstelle für Erinnerungskultur der Stadt Augsburg und ihrer Kooperationspartner\, zu denen auch die AFI gehört.Vortrag von Dr. Herbert Veh am 13.04.26\, 18:30 Uhr\, Evang. Forum Annahof\, Augustanasaal
URL:https://auxpunks.uber.space/event/vortrag-widerstand-pflicht-recht-unrecht-kriminell/
LOCATION:Evang. Forum Annahof\, Augustanasaal
CATEGORIES:Theater, Austellungen & Lesungen
ATTACH;FMTTYPE=image/png:https://auxpunks.uber.space/wp-content/uploads/2026/04/Screenshot-2026-04-12-at-11-57-00-Flyer_Augsburger_Beitraege_13.4.2026_Widerstand.pdf.png
END:VEVENT
BEGIN:VEVENT
DTSTART;TZID=Europe/Berlin:20260404T113000
DTEND;TZID=Europe/Berlin:20260404T130000
DTSTAMP:20260420T194735
CREATED:20260402T190918Z
LAST-MODIFIED:20260402T190919Z
UID:10016711-1775302200-1775307600@auxpunks.uber.space
SUMMARY:Ostermarsch 2026
DESCRIPTION:Milliarden für Menschen statt für Waffen \n\n\n\nVor dem Hintergrund globaler Macht- und Verteilungskämpfe nimmt dieMilitarisierung in unserem Land immer weiter Fahrt auf: Militärausgabenoberhalb von einem Prozent des Bruttoinlandsprodukts werden nun als so-genannte „Bereichsausnahme“ von der Schuldenbremse ausgenommen.Damit gibt es keine zeitliche oder finanzielle Grenze mehr für die weitereAufrüstung der Bundeswehr. Die wurde schon in der Vergangenheit kei-neswegs „kaputtgespart“\, wie von vielen Politiker*innen und Medien gernebehauptet wird: Tatsächlich stieg der deutsche Verteidigungshaushalt abervon (umgerechnet) rund 24 Mrd. Euro im Jahr 2000 bereits auf etwa 50Mrd. Euro im Jahr 2020. Nach dem russischen Angriff auf die Ukraine gingdas Geschäft für die Rüstungsindustrie dann richtig los: 2024 lagen dieAusgaben für das Militär schon bei mehr als 90 Mrd. Euro. Und sie sollenweiter steigen: Für 2029 sind laut der Informationsstelle Militarisierungfast 153 Mrd. Euro geplant. \n\n\n\nWeiterlesen: https://augsburger-friedensinitiative.de/Portals/0/Docs/Ostermarsch%202026/Ostermarsch%202026.pdf
URL:https://auxpunks.uber.space/event/ostermarsch-2026/
LOCATION:Moritzplatz\, 86150 Augsburg\, Deutschland
ATTACH;FMTTYPE=image/jpeg:https://auxpunks.uber.space/wp-content/uploads/2026/04/Ostermarsch_2026_Banner.jpg
END:VEVENT
BEGIN:VEVENT
DTSTART;TZID=Europe/Berlin:20250901T180000
DTEND;TZID=Europe/Berlin:20250901T200000
DTSTAMP:20260420T194735
CREATED:20250826T064433Z
LAST-MODIFIED:20250826T064435Z
UID:10015763-1756749600-1756756800@auxpunks.uber.space
SUMMARY:Kundgebung zum Antikriegstag 2025
DESCRIPTION:Seit 1957 wird der 1. September als Antikriegstag begangen. Auch in diesem Jahr begehen wir in Augsburg denAntikriegstag zur Mahnung und im Gedenken an den Beginn des zweiten Weltkriegs am 1. September 1939.Es gibt zurzeit zahlreiche bewaffnete Konflikte und Kriege auf der ganzen Welt und es ist ein Irrglaube\, dassWaffenlieferungen zu einem schnellen Ende von Kriegen führen. Nur mit Diplomatie und Verhandlungen könnenKriege\, das Töten und Zerstören beendet werden. Das zeigt der Krieg in der Ukraine\, der zehntausende Menschendas Leben kostet\, das Land verwüstet und den Nationalismus in Russland und der Ukraine befeuert.Israel wurde am 7. Oktober 2023 von der Hamas angegriffen. Nichts rechtfertigt diese Gewalt. Das Massaker kannallerdings nicht als Rechtfertigung für weitere Kriegsverbrechen wie z.B. die Tötung von mehr als 80.000Palästinenserinnen\, die Zerstörung von etwa 90% aller Häuser in vielen Teilen von Gaza\, die Bombardierung der zivilen Infrastruktur\, die massenhafte Vertreibung und das Aushungern der palästinensischen Bevölkerung benutzt werden. Der Angriffskrieg Israels und der USA gegen den Iran war ebenfalls völkerrechtswidrig und wurde unsinnigerweise von der Bundesregierung unterstützt. Die geplante Stationierung von US-Mittelstreckenwaffen in Deutschland stellt eine erhebliche Gefahr für die Sicherheit in Europa dar und kann zu einer weiteren Eskalation der Spannungen mit Russland führen. Mit der massiven Aufrüstung wird die Konfrontation verschärft\, die notwendige Zusammenarbeit zur Lösung weltweiter Probleme wie Klimawandel oder Hunger verhindert und zukünftigen Generationen ein nicht mehr bezahlbarer Schuldenberg hinterlassen. Sie nützt nicht der Bevölkerung\, sondern dient der Durchsetzung geopolitischer Machtinteressen und den Profiten der Rüstungsindustrie. Die Friedensbewegung ist gefordert\, Flagge zu zeigen! Wir fordern die Bundesregierung auf\, keine Waffen in die Kriegsgebiete zu liefern und sich für faire Verhandlungen in den Kriegen zwischen Russland und der Ukraine sowie zwischen Israel und den Vertretern der Palästinenserinneneinzusetzen. Statt Deutschland weiter kriegstüchtig zu machen\, mit Konfrontation und massiver Aufrüstung auf einenKrieg vorzubereiten\, fordern wir durch Entspannungspolitik und Abrüstung Frieden zu sichern.
URL:https://auxpunks.uber.space/event/kundgebung-zum-antikriegstag-2025/
LOCATION:Augsburg Königsplatz
CATEGORIES:Demos & Aktionen
END:VEVENT
END:VCALENDAR