BEGIN:VCALENDAR
VERSION:2.0
PRODID:-//auxpunks - ECPv6.15.11//NONSGML v1.0//EN
CALSCALE:GREGORIAN
METHOD:PUBLISH
X-ORIGINAL-URL:https://auxpunks.uber.space
X-WR-CALDESC:Veranstaltungen für auxpunks
REFRESH-INTERVAL;VALUE=DURATION:PT1H
X-Robots-Tag:noindex
X-PUBLISHED-TTL:PT1H
BEGIN:VTIMEZONE
TZID:Europe/Berlin
BEGIN:DAYLIGHT
TZOFFSETFROM:+0100
TZOFFSETTO:+0200
TZNAME:CEST
DTSTART:20230326T010000
END:DAYLIGHT
BEGIN:STANDARD
TZOFFSETFROM:+0200
TZOFFSETTO:+0100
TZNAME:CET
DTSTART:20231029T010000
END:STANDARD
BEGIN:DAYLIGHT
TZOFFSETFROM:+0100
TZOFFSETTO:+0200
TZNAME:CEST
DTSTART:20240331T010000
END:DAYLIGHT
BEGIN:STANDARD
TZOFFSETFROM:+0200
TZOFFSETTO:+0100
TZNAME:CET
DTSTART:20241027T010000
END:STANDARD
BEGIN:DAYLIGHT
TZOFFSETFROM:+0100
TZOFFSETTO:+0200
TZNAME:CEST
DTSTART:20250330T010000
END:DAYLIGHT
BEGIN:STANDARD
TZOFFSETFROM:+0200
TZOFFSETTO:+0100
TZNAME:CET
DTSTART:20251026T010000
END:STANDARD
BEGIN:DAYLIGHT
TZOFFSETFROM:+0100
TZOFFSETTO:+0200
TZNAME:CEST
DTSTART:20260329T010000
END:DAYLIGHT
BEGIN:STANDARD
TZOFFSETFROM:+0200
TZOFFSETTO:+0100
TZNAME:CET
DTSTART:20261025T010000
END:STANDARD
END:VTIMEZONE
BEGIN:VEVENT
DTSTART;TZID=Europe/Berlin:20250308T153000
DTEND;TZID=Europe/Berlin:20250308T170000
DTSTAMP:20260420T184326
CREATED:20250305T165019Z
LAST-MODIFIED:20250305T165020Z
UID:10014485-1741447800-1741453200@auxpunks.uber.space
SUMMARY:Am Frauenkampftag gegen AfD und Patriarchat!
DESCRIPTION:Einer Partei\, die für Sozialabbau und Krieg steht und sich als parlamentarischer Arm einer faschistischen Bewegung ausgerechnet am 8. März in der Kongresshalle in Augsburg trifft\, werden wir kämpferisch und entschlossen begegnen!\n\nDass sich die AfD genau diesen Tag zu Nutze macht\, ist mit Sicherheit kein Zufall.\n\nDer 8. März ist Frauenkampftag\, ein Tag\, an dem Frauen weltweit ihre Wut über das Patriarchat auf die Straßen tragen. Die Zahlen patriarchaler Gewalt und Übergriffe\, ob im häuslichen Umfeld oder auf offener Straße\, steigen stetig\, und nahezu jeden Tag gibt es einen Femizid in Deutschland. Dass eben jene so sexistische Partei diesen wichtigen Tag für ihre Hetze nutzt\, ist für uns nicht hinnehmbar. Die AfD unterdrückt mit ihrer Politik Frauen und queere Personen\, nimmt ihnen ihre Selbstbestimmung und trägt mit ihrer Hetze maßgeblich dazu bei\, dass gewalttätige Übergriffe auf Veranstaltungen wie den CSD auf der Tagesordnung stehen. Stellen wir uns also entschlossen am 8. März gegen die AfD\, gegen ihre rechte Hetze und gegen ihre sexistische Propaganda.\n\nDie Bundestagswahl hat es uns deutlich gezeigt: Der Rechtsruck lässt sich nicht abwählen! \n\nDie bürgerlichen Parteien rücken gemeinsam mit der AfD weiter und weiter nach rechts und setzen deren rassistische Politik bereits um\, ob nun mit oder ohne „Bauchschmerzen“. Zwei Kreuzchen auf einem Zettel werden das Problem nicht lösen\, nur die selbstbestimmte und konsequente antifaschistische Organisierung im Betrieb\, auf der Straße und im Viertel bringt uns weiter!\n\nAlso schließt euch uns an\, lasst uns gemeinsam auf die Straße gehen!\n\nAm 08.03.2025 um 15:30 Uhr am Ulrichsplatz. Und ab 16:30 Uhr vor der Kongresshalle!\n\nAlle zusammen gegen den Faschismus!
URL:https://auxpunks.uber.space/event/am-frauenkampftag-gegen-afd-und-patriarchat/
LOCATION:Augsburg\, Ulrichsplatz
CATEGORIES:Demos & Aktionen
END:VEVENT
BEGIN:VEVENT
DTSTART;TZID=Europe/Berlin:20250303T190000
DTEND;TZID=Europe/Berlin:20250303T210000
DTSTAMP:20260420T184326
CREATED:20250102T180117Z
LAST-MODIFIED:20250102T180117Z
UID:10014404-1741028400-1741035600@auxpunks.uber.space
SUMMARY:Offenes antikapitalistisches Klimatreffen-Plenum
DESCRIPTION:Gemeinsam planen wir Aktionen\, Demos\, Vorträge und vieles mehr im Kampf für eine Klimagerechte Zukunft. Komm gerne vorbei und mach mit!
URL:https://auxpunks.uber.space/event/offenes-antikapitalistisches-klimatreffen-plenum-5/
LOCATION:“ Ganze Bäckerei “ Augsburg  Frauentorstr.34
CATEGORIES:Klimagerechtigkeit,Plena, Treffen & Lesekreise
END:VEVENT
BEGIN:VEVENT
DTSTART;TZID=Europe/Berlin:20250203T190000
DTEND;TZID=Europe/Berlin:20250203T210000
DTSTAMP:20260420T184326
CREATED:20250102T180059Z
LAST-MODIFIED:20250102T180059Z
UID:10014403-1738609200-1738616400@auxpunks.uber.space
SUMMARY:Offenes antikapitalistisches Klimatreffen-Plenum
DESCRIPTION:Gemeinsam planen wir Aktionen\, Demos\, Vorträge und vieles mehr im Kampf für eine Klimagerechte Zukunft. Komm gerne vorbei und mach mit!
URL:https://auxpunks.uber.space/event/offenes-antikapitalistisches-klimatreffen-plenum-4/
LOCATION:“ Ganze Bäckerei “ Augsburg  Frauentorstr.34
CATEGORIES:Klimagerechtigkeit,Plena, Treffen & Lesekreise
END:VEVENT
BEGIN:VEVENT
DTSTART;TZID=Europe/Berlin:20250103T190000
DTEND;TZID=Europe/Berlin:20250103T210000
DTSTAMP:20260420T184326
CREATED:20250102T180035Z
LAST-MODIFIED:20250102T180035Z
UID:10014402-1735930800-1735938000@auxpunks.uber.space
SUMMARY:Offenes antikapitalistisches Klimatreffen-Plenum
DESCRIPTION:Gemeinsam planen wir Aktionen\, Demos\, Vorträge und vieles mehr im Kampf für eine Klimagerechte Zukunft. Komm gerne vorbei und mach mit!
URL:https://auxpunks.uber.space/event/offenes-antikapitalistisches-klimatreffen-plenum-3/
LOCATION:“ Ganze Bäckerei “ Augsburg  Frauentorstr.34
CATEGORIES:Klimagerechtigkeit,Plena, Treffen & Lesekreise
ATTACH;FMTTYPE=image/png:https://auxpunks.uber.space/wp-content/uploads/2025/01/Klimatreffen_Logo-w-Text.png
END:VEVENT
BEGIN:VEVENT
DTSTART;TZID=Europe/Berlin:20240805T190000
DTEND;TZID=Europe/Berlin:20240805T210000
DTSTAMP:20260420T184326
CREATED:20240703T084604Z
LAST-MODIFIED:20240703T084605Z
UID:10014167-1722884400-1722891600@auxpunks.uber.space
SUMMARY:Offenes antikapitalistisches Klimatreffen-Plenum
DESCRIPTION:Gemeinsam planen wir Aktionen\, Demos\, Vorträge und vieles mehr im Kampf für eine Klimagerechte Zukunft. Komm gerne vorbei und mach mit!
URL:https://auxpunks.uber.space/event/offenes-antikapitalistisches-klimatreffen-plenum-2/
LOCATION:“ Ganze Bäckerei “ Augsburg  Frauentorstr.34
CATEGORIES:Klimagerechtigkeit,Plena, Treffen & Lesekreise
END:VEVENT
BEGIN:VEVENT
DTSTART;TZID=Europe/Berlin:20240715T190000
DTEND;TZID=Europe/Berlin:20240715T210000
DTSTAMP:20260420T184326
CREATED:20240703T084555Z
LAST-MODIFIED:20240711T080305Z
UID:10014166-1721070000-1721077200@auxpunks.uber.space
SUMMARY:Offenes antikapitalistisches Klimatreffen-Plenum
DESCRIPTION:Gemeinsam planen wir Aktionen\, Demos\, Vorträge und vieles mehr im Kampf für eine Klimagerechte Zukunft. Komm gerne vorbei und mach mit!Wo wir uns dieses Mal treffen\, wird noch bekannt gegeben.
URL:https://auxpunks.uber.space/event/offenes-antikapitalistisches-klimatreffen-plenum/
LOCATION:TBA\, Outer Space
CATEGORIES:Klimagerechtigkeit,Plena, Treffen & Lesekreise
END:VEVENT
BEGIN:VEVENT
DTSTART;TZID=Europe/Berlin:20240701T190000
DTEND;TZID=Europe/Berlin:20240701T210000
DTSTAMP:20260420T184326
CREATED:20240521T113906Z
LAST-MODIFIED:20240521T113906Z
UID:10014085-1719860400-1719867600@auxpunks.uber.space
SUMMARY:Offenes antikapitalistisches Klimatreffen-Plenum
DESCRIPTION:Gemeinsam planen wir Aktionen\, Demos\, Vorträge und vieles mehr im Kampf für eine Klimagerechte Zukunft.\nKomm gerne vorbei und mach mit!
URL:https://auxpunks.uber.space/event/offenes-antikapitalistisches-klimatreffen-plenum-16/
LOCATION:“ Ganze Bäckerei “ Augsburg  Frauentorstr.34
CATEGORIES:Klimagerechtigkeit,Plena, Treffen & Lesekreise
END:VEVENT
BEGIN:VEVENT
DTSTART;TZID=Europe/Berlin:20240617T190000
DTEND;TZID=Europe/Berlin:20240617T210000
DTSTAMP:20260420T184326
CREATED:20240521T113906Z
LAST-MODIFIED:20240521T113906Z
UID:10014084-1718650800-1718658000@auxpunks.uber.space
SUMMARY:Offenes antikapitalistisches Klimatreffen-Plenum
DESCRIPTION:Gemeinsam planen wir Aktionen\, Demos\, Vorträge und vieles mehr im Kampf für eine Klimagerechte Zukunft.\nKomm gerne vorbei und mach mit!
URL:https://auxpunks.uber.space/event/offenes-antikapitalistisches-klimatreffen-plenum-15/
LOCATION:“ Ganze Bäckerei “ Augsburg  Frauentorstr.34
CATEGORIES:Klimagerechtigkeit,Plena, Treffen & Lesekreise
END:VEVENT
BEGIN:VEVENT
DTSTART;TZID=Europe/Berlin:20240603T190000
DTEND;TZID=Europe/Berlin:20240603T210000
DTSTAMP:20260420T184326
CREATED:20240521T113906Z
LAST-MODIFIED:20240521T113906Z
UID:10014083-1717441200-1717448400@auxpunks.uber.space
SUMMARY:Offenes antikapitalistisches Klimatreffen-Plenum
DESCRIPTION:Gemeinsam planen wir Aktionen\, Demos\, Vorträge und vieles mehr im Kampf für eine Klimagerechte Zukunft.\nKomm gerne vorbei und mach mit!
URL:https://auxpunks.uber.space/event/offenes-antikapitalistisches-klimatreffen-plenum-14/
LOCATION:“ Ganze Bäckerei “ Augsburg  Frauentorstr.34
CATEGORIES:Klimagerechtigkeit,Plena, Treffen & Lesekreise
END:VEVENT
BEGIN:VEVENT
DTSTART;TZID=Europe/Berlin:20240520T190000
DTEND;TZID=Europe/Berlin:20240520T210000
DTSTAMP:20260420T184326
CREATED:20240521T113905Z
LAST-MODIFIED:20240521T113905Z
UID:10014082-1716231600-1716238800@auxpunks.uber.space
SUMMARY:Offenes antikapitalistisches Klimatreffen-Plenum
DESCRIPTION:Gemeinsam planen wir Aktionen\, Demos\, Vorträge und vieles mehr im Kampf für eine Klimagerechte Zukunft.\nKomm gerne vorbei und mach mit!
URL:https://auxpunks.uber.space/event/offenes-antikapitalistisches-klimatreffen-plenum-13/
LOCATION:“ Ganze Bäckerei “ Augsburg  Frauentorstr.34
CATEGORIES:Klimagerechtigkeit,Plena, Treffen & Lesekreise
END:VEVENT
END:VCALENDAR