BEGIN:VCALENDAR
VERSION:2.0
PRODID:-//auxpunks - ECPv6.15.11//NONSGML v1.0//EN
CALSCALE:GREGORIAN
METHOD:PUBLISH
X-WR-CALNAME:auxpunks
X-ORIGINAL-URL:https://auxpunks.uber.space
X-WR-CALDESC:Veranstaltungen für auxpunks
REFRESH-INTERVAL;VALUE=DURATION:PT1H
X-Robots-Tag:noindex
X-PUBLISHED-TTL:PT1H
BEGIN:VTIMEZONE
TZID:Europe/Berlin
BEGIN:DAYLIGHT
TZOFFSETFROM:+0100
TZOFFSETTO:+0200
TZNAME:CEST
DTSTART:20250330T010000
END:DAYLIGHT
BEGIN:STANDARD
TZOFFSETFROM:+0200
TZOFFSETTO:+0100
TZNAME:CET
DTSTART:20251026T010000
END:STANDARD
BEGIN:DAYLIGHT
TZOFFSETFROM:+0100
TZOFFSETTO:+0200
TZNAME:CEST
DTSTART:20260329T010000
END:DAYLIGHT
BEGIN:STANDARD
TZOFFSETFROM:+0200
TZOFFSETTO:+0100
TZNAME:CET
DTSTART:20261025T010000
END:STANDARD
BEGIN:DAYLIGHT
TZOFFSETFROM:+0100
TZOFFSETTO:+0200
TZNAME:CEST
DTSTART:20270328T010000
END:DAYLIGHT
BEGIN:STANDARD
TZOFFSETFROM:+0200
TZOFFSETTO:+0100
TZNAME:CET
DTSTART:20271031T010000
END:STANDARD
END:VTIMEZONE
BEGIN:VEVENT
DTSTART;TZID=Europe/Berlin:20260418T100000
DTEND;TZID=Europe/Berlin:20260418T180000
DTSTAMP:20260420T155352
CREATED:20260123T190507Z
LAST-MODIFIED:20260123T190510Z
UID:10016076-1776506400-1776535200@auxpunks.uber.space
SUMMARY:Offene Werkstatt im Habitat
DESCRIPTION:Offene Werkstatt in Augsburg \n\n\n\nWährend der offenen Werkstatt kannst du an deinen eigenen Projekten in unseren Werkstätten arbeiten. Mehr Infos hier: https://das-habitat.de/offene-werkstatt/so-gehts
URL:https://auxpunks.uber.space/event/offene-werkstatt-im-habitat/2026-04-18/
LOCATION:Das Habitat\, Beim Glaspalast 5\, Augsburg\, Germany
END:VEVENT
BEGIN:VEVENT
DTSTART;TZID=Europe/Berlin:20260411T100000
DTEND;TZID=Europe/Berlin:20260411T180000
DTSTAMP:20260420T155352
CREATED:20260123T190507Z
LAST-MODIFIED:20260123T190510Z
UID:10016075-1775901600-1775930400@auxpunks.uber.space
SUMMARY:Offene Werkstatt im Habitat
DESCRIPTION:Offene Werkstatt in Augsburg \n\n\n\nWährend der offenen Werkstatt kannst du an deinen eigenen Projekten in unseren Werkstätten arbeiten. Mehr Infos hier: https://das-habitat.de/offene-werkstatt/so-gehts
URL:https://auxpunks.uber.space/event/offene-werkstatt-im-habitat/2026-04-11/
LOCATION:Das Habitat\, Beim Glaspalast 5\, Augsburg\, Germany
END:VEVENT
BEGIN:VEVENT
DTSTART;TZID=Europe/Berlin:20260404T100000
DTEND;TZID=Europe/Berlin:20260404T180000
DTSTAMP:20260420T155352
CREATED:20260123T190507Z
LAST-MODIFIED:20260123T190510Z
UID:10016074-1775296800-1775325600@auxpunks.uber.space
SUMMARY:Offene Werkstatt im Habitat
DESCRIPTION:Offene Werkstatt in Augsburg \n\n\n\nWährend der offenen Werkstatt kannst du an deinen eigenen Projekten in unseren Werkstätten arbeiten. Mehr Infos hier: https://das-habitat.de/offene-werkstatt/so-gehts
URL:https://auxpunks.uber.space/event/offene-werkstatt-im-habitat/2026-04-04/
LOCATION:Das Habitat\, Beim Glaspalast 5\, Augsburg\, Germany
END:VEVENT
BEGIN:VEVENT
DTSTART;TZID=Europe/Berlin:20260328T100000
DTEND;TZID=Europe/Berlin:20260328T180000
DTSTAMP:20260420T155352
CREATED:20260123T190507Z
LAST-MODIFIED:20260123T190510Z
UID:10016073-1774692000-1774720800@auxpunks.uber.space
SUMMARY:Offene Werkstatt im Habitat
DESCRIPTION:Offene Werkstatt in Augsburg \n\n\n\nWährend der offenen Werkstatt kannst du an deinen eigenen Projekten in unseren Werkstätten arbeiten. Mehr Infos hier: https://das-habitat.de/offene-werkstatt/so-gehts
URL:https://auxpunks.uber.space/event/offene-werkstatt-im-habitat/2026-03-28/
LOCATION:Das Habitat\, Beim Glaspalast 5\, Augsburg\, Germany
END:VEVENT
BEGIN:VEVENT
DTSTART;TZID=Europe/Berlin:20260321T100000
DTEND;TZID=Europe/Berlin:20260321T180000
DTSTAMP:20260420T155352
CREATED:20260123T190507Z
LAST-MODIFIED:20260123T190510Z
UID:10016072-1774087200-1774116000@auxpunks.uber.space
SUMMARY:Offene Werkstatt im Habitat
DESCRIPTION:Offene Werkstatt in Augsburg \n\n\n\nWährend der offenen Werkstatt kannst du an deinen eigenen Projekten in unseren Werkstätten arbeiten. Mehr Infos hier: https://das-habitat.de/offene-werkstatt/so-gehts
URL:https://auxpunks.uber.space/event/offene-werkstatt-im-habitat/2026-03-21/
LOCATION:Das Habitat\, Beim Glaspalast 5\, Augsburg\, Germany
END:VEVENT
BEGIN:VEVENT
DTSTART;TZID=Europe/Berlin:20260314T100000
DTEND;TZID=Europe/Berlin:20260314T180000
DTSTAMP:20260420T155352
CREATED:20260123T190507Z
LAST-MODIFIED:20260123T190510Z
UID:10016071-1773482400-1773511200@auxpunks.uber.space
SUMMARY:Offene Werkstatt im Habitat
DESCRIPTION:Offene Werkstatt in Augsburg \n\n\n\nWährend der offenen Werkstatt kannst du an deinen eigenen Projekten in unseren Werkstätten arbeiten. Mehr Infos hier: https://das-habitat.de/offene-werkstatt/so-gehts
URL:https://auxpunks.uber.space/event/offene-werkstatt-im-habitat/2026-03-14/
LOCATION:Das Habitat\, Beim Glaspalast 5\, Augsburg\, Germany
END:VEVENT
BEGIN:VEVENT
DTSTART;TZID=Europe/Berlin:20260307T100000
DTEND;TZID=Europe/Berlin:20260307T180000
DTSTAMP:20260420T155352
CREATED:20260123T190507Z
LAST-MODIFIED:20260123T190510Z
UID:10016070-1772877600-1772906400@auxpunks.uber.space
SUMMARY:Offene Werkstatt im Habitat
DESCRIPTION:Offene Werkstatt in Augsburg \n\n\n\nWährend der offenen Werkstatt kannst du an deinen eigenen Projekten in unseren Werkstätten arbeiten. Mehr Infos hier: https://das-habitat.de/offene-werkstatt/so-gehts
URL:https://auxpunks.uber.space/event/offene-werkstatt-im-habitat/2026-03-07/
LOCATION:Das Habitat\, Beim Glaspalast 5\, Augsburg\, Germany
END:VEVENT
BEGIN:VEVENT
DTSTART;TZID=Europe/Berlin:20260228T100000
DTEND;TZID=Europe/Berlin:20260228T180000
DTSTAMP:20260420T155352
CREATED:20260123T190507Z
LAST-MODIFIED:20260123T190510Z
UID:10016069-1772272800-1772301600@auxpunks.uber.space
SUMMARY:Offene Werkstatt im Habitat
DESCRIPTION:Offene Werkstatt in Augsburg \n\n\n\nWährend der offenen Werkstatt kannst du an deinen eigenen Projekten in unseren Werkstätten arbeiten. Mehr Infos hier: https://das-habitat.de/offene-werkstatt/so-gehts
URL:https://auxpunks.uber.space/event/offene-werkstatt-im-habitat/2026-02-28/
LOCATION:Das Habitat\, Beim Glaspalast 5\, Augsburg\, Germany
END:VEVENT
BEGIN:VEVENT
DTSTART;TZID=Europe/Berlin:20260221T100000
DTEND;TZID=Europe/Berlin:20260221T180000
DTSTAMP:20260420T155352
CREATED:20260123T190507Z
LAST-MODIFIED:20260123T190510Z
UID:10016068-1771668000-1771696800@auxpunks.uber.space
SUMMARY:Offene Werkstatt im Habitat
DESCRIPTION:Offene Werkstatt in Augsburg \n\n\n\nWährend der offenen Werkstatt kannst du an deinen eigenen Projekten in unseren Werkstätten arbeiten. Mehr Infos hier: https://das-habitat.de/offene-werkstatt/so-gehts
URL:https://auxpunks.uber.space/event/offene-werkstatt-im-habitat/2026-02-21/
LOCATION:Das Habitat\, Beim Glaspalast 5\, Augsburg\, Germany
END:VEVENT
BEGIN:VEVENT
DTSTART;TZID=Europe/Berlin:20260214T100000
DTEND;TZID=Europe/Berlin:20260214T180000
DTSTAMP:20260420T155352
CREATED:20260123T190507Z
LAST-MODIFIED:20260123T190510Z
UID:10016067-1771063200-1771092000@auxpunks.uber.space
SUMMARY:Offene Werkstatt im Habitat
DESCRIPTION:Offene Werkstatt in Augsburg \n\n\n\nWährend der offenen Werkstatt kannst du an deinen eigenen Projekten in unseren Werkstätten arbeiten. Mehr Infos hier: https://das-habitat.de/offene-werkstatt/so-gehts
URL:https://auxpunks.uber.space/event/offene-werkstatt-im-habitat/2026-02-14/
LOCATION:Das Habitat\, Beim Glaspalast 5\, Augsburg\, Germany
END:VEVENT
BEGIN:VEVENT
DTSTART;TZID=Europe/Berlin:20260207T100000
DTEND;TZID=Europe/Berlin:20260207T180000
DTSTAMP:20260420T155352
CREATED:20260123T190507Z
LAST-MODIFIED:20260123T190510Z
UID:10016066-1770458400-1770487200@auxpunks.uber.space
SUMMARY:Offene Werkstatt im Habitat
DESCRIPTION:Offene Werkstatt in Augsburg \n\n\n\nWährend der offenen Werkstatt kannst du an deinen eigenen Projekten in unseren Werkstätten arbeiten. Mehr Infos hier: https://das-habitat.de/offene-werkstatt/so-gehts
URL:https://auxpunks.uber.space/event/offene-werkstatt-im-habitat/2026-02-07/
LOCATION:Das Habitat\, Beim Glaspalast 5\, Augsburg\, Germany
END:VEVENT
BEGIN:VEVENT
DTSTART;TZID=Europe/Berlin:20260131T100000
DTEND;TZID=Europe/Berlin:20260131T180000
DTSTAMP:20260420T155352
CREATED:20260123T190507Z
LAST-MODIFIED:20260123T190510Z
UID:10016065-1769853600-1769882400@auxpunks.uber.space
SUMMARY:Offene Werkstatt im Habitat
DESCRIPTION:Offene Werkstatt in Augsburg \n\n\n\nWährend der offenen Werkstatt kannst du an deinen eigenen Projekten in unseren Werkstätten arbeiten. Mehr Infos hier: https://das-habitat.de/offene-werkstatt/so-gehts
URL:https://auxpunks.uber.space/event/offene-werkstatt-im-habitat/2026-01-31/
LOCATION:Das Habitat\, Beim Glaspalast 5\, Augsburg\, Germany
END:VEVENT
BEGIN:VEVENT
DTSTART;TZID=Europe/Berlin:20260124T100000
DTEND;TZID=Europe/Berlin:20260124T180000
DTSTAMP:20260420T155352
CREATED:20260123T190507Z
LAST-MODIFIED:20260123T190510Z
UID:10016064-1769248800-1769277600@auxpunks.uber.space
SUMMARY:Offene Werkstatt im Habitat
DESCRIPTION:Offene Werkstatt in Augsburg \n\n\n\nWährend der offenen Werkstatt kannst du an deinen eigenen Projekten in unseren Werkstätten arbeiten. Mehr Infos hier: https://das-habitat.de/offene-werkstatt/so-gehts
URL:https://auxpunks.uber.space/event/offene-werkstatt-im-habitat/2026-01-24/
LOCATION:Das Habitat\, Beim Glaspalast 5\, Augsburg\, Germany
END:VEVENT
END:VCALENDAR