BEGIN:VCALENDAR
VERSION:2.0
PRODID:-//auxpunks - ECPv6.15.11//NONSGML v1.0//EN
CALSCALE:GREGORIAN
METHOD:PUBLISH
X-WR-CALNAME:auxpunks
X-ORIGINAL-URL:https://auxpunks.uber.space
X-WR-CALDESC:Veranstaltungen für auxpunks
REFRESH-INTERVAL;VALUE=DURATION:PT1H
X-Robots-Tag:noindex
X-PUBLISHED-TTL:PT1H
BEGIN:VTIMEZONE
TZID:Europe/Berlin
BEGIN:DAYLIGHT
TZOFFSETFROM:+0100
TZOFFSETTO:+0200
TZNAME:CEST
DTSTART:20270328T010000
END:DAYLIGHT
BEGIN:STANDARD
TZOFFSETFROM:+0200
TZOFFSETTO:+0100
TZNAME:CET
DTSTART:20271031T010000
END:STANDARD
BEGIN:DAYLIGHT
TZOFFSETFROM:+0100
TZOFFSETTO:+0200
TZNAME:CEST
DTSTART:20280326T010000
END:DAYLIGHT
BEGIN:STANDARD
TZOFFSETFROM:+0200
TZOFFSETTO:+0100
TZNAME:CET
DTSTART:20281029T010000
END:STANDARD
BEGIN:DAYLIGHT
TZOFFSETFROM:+0100
TZOFFSETTO:+0200
TZNAME:CEST
DTSTART:20290325T010000
END:DAYLIGHT
BEGIN:STANDARD
TZOFFSETFROM:+0200
TZOFFSETTO:+0100
TZNAME:CET
DTSTART:20291028T010000
END:STANDARD
END:VTIMEZONE
BEGIN:VEVENT
DTSTART;TZID=Europe/Berlin:20280325T100000
DTEND;TZID=Europe/Berlin:20280325T180000
DTSTAMP:20260421T051518
CREATED:20260123T190507Z
LAST-MODIFIED:20260123T190510Z
UID:10016177-1837591200-1837620000@auxpunks.uber.space
SUMMARY:Offene Werkstatt im Habitat
DESCRIPTION:Offene Werkstatt in Augsburg \n\n\n\nWährend der offenen Werkstatt kannst du an deinen eigenen Projekten in unseren Werkstätten arbeiten. Mehr Infos hier: https://das-habitat.de/offene-werkstatt/so-gehts
URL:https://auxpunks.uber.space/event/offene-werkstatt-im-habitat/2028-03-25/
LOCATION:Das Habitat\, Beim Glaspalast 5\, Augsburg\, Germany
END:VEVENT
BEGIN:VEVENT
DTSTART;TZID=Europe/Berlin:20280401T100000
DTEND;TZID=Europe/Berlin:20280401T180000
DTSTAMP:20260421T051518
CREATED:20260123T190507Z
LAST-MODIFIED:20260123T190510Z
UID:10016178-1838196000-1838224800@auxpunks.uber.space
SUMMARY:Offene Werkstatt im Habitat
DESCRIPTION:Offene Werkstatt in Augsburg \n\n\n\nWährend der offenen Werkstatt kannst du an deinen eigenen Projekten in unseren Werkstätten arbeiten. Mehr Infos hier: https://das-habitat.de/offene-werkstatt/so-gehts
URL:https://auxpunks.uber.space/event/offene-werkstatt-im-habitat/2028-04-01/
LOCATION:Das Habitat\, Beim Glaspalast 5\, Augsburg\, Germany
END:VEVENT
BEGIN:VEVENT
DTSTART;TZID=Europe/Berlin:20280408T100000
DTEND;TZID=Europe/Berlin:20280408T180000
DTSTAMP:20260421T051518
CREATED:20260123T190507Z
LAST-MODIFIED:20260123T190510Z
UID:10016179-1838800800-1838829600@auxpunks.uber.space
SUMMARY:Offene Werkstatt im Habitat
DESCRIPTION:Offene Werkstatt in Augsburg \n\n\n\nWährend der offenen Werkstatt kannst du an deinen eigenen Projekten in unseren Werkstätten arbeiten. Mehr Infos hier: https://das-habitat.de/offene-werkstatt/so-gehts
URL:https://auxpunks.uber.space/event/offene-werkstatt-im-habitat/2028-04-08/
LOCATION:Das Habitat\, Beim Glaspalast 5\, Augsburg\, Germany
END:VEVENT
BEGIN:VEVENT
DTSTART;TZID=Europe/Berlin:20280415T100000
DTEND;TZID=Europe/Berlin:20280415T180000
DTSTAMP:20260421T051518
CREATED:20260123T190507Z
LAST-MODIFIED:20260123T190510Z
UID:10016180-1839405600-1839434400@auxpunks.uber.space
SUMMARY:Offene Werkstatt im Habitat
DESCRIPTION:Offene Werkstatt in Augsburg \n\n\n\nWährend der offenen Werkstatt kannst du an deinen eigenen Projekten in unseren Werkstätten arbeiten. Mehr Infos hier: https://das-habitat.de/offene-werkstatt/so-gehts
URL:https://auxpunks.uber.space/event/offene-werkstatt-im-habitat/2028-04-15/
LOCATION:Das Habitat\, Beim Glaspalast 5\, Augsburg\, Germany
END:VEVENT
BEGIN:VEVENT
DTSTART;TZID=Europe/Berlin:20280422T100000
DTEND;TZID=Europe/Berlin:20280422T180000
DTSTAMP:20260421T051518
CREATED:20260123T190507Z
LAST-MODIFIED:20260123T190510Z
UID:10016181-1840010400-1840039200@auxpunks.uber.space
SUMMARY:Offene Werkstatt im Habitat
DESCRIPTION:Offene Werkstatt in Augsburg \n\n\n\nWährend der offenen Werkstatt kannst du an deinen eigenen Projekten in unseren Werkstätten arbeiten. Mehr Infos hier: https://das-habitat.de/offene-werkstatt/so-gehts
URL:https://auxpunks.uber.space/event/offene-werkstatt-im-habitat/2028-04-22/
LOCATION:Das Habitat\, Beim Glaspalast 5\, Augsburg\, Germany
END:VEVENT
BEGIN:VEVENT
DTSTART;TZID=Europe/Berlin:20280429T100000
DTEND;TZID=Europe/Berlin:20280429T180000
DTSTAMP:20260421T051518
CREATED:20260123T190507Z
LAST-MODIFIED:20260123T190510Z
UID:10016182-1840615200-1840644000@auxpunks.uber.space
SUMMARY:Offene Werkstatt im Habitat
DESCRIPTION:Offene Werkstatt in Augsburg \n\n\n\nWährend der offenen Werkstatt kannst du an deinen eigenen Projekten in unseren Werkstätten arbeiten. Mehr Infos hier: https://das-habitat.de/offene-werkstatt/so-gehts
URL:https://auxpunks.uber.space/event/offene-werkstatt-im-habitat/2028-04-29/
LOCATION:Das Habitat\, Beim Glaspalast 5\, Augsburg\, Germany
END:VEVENT
BEGIN:VEVENT
DTSTART;TZID=Europe/Berlin:20280506T100000
DTEND;TZID=Europe/Berlin:20280506T180000
DTSTAMP:20260421T051518
CREATED:20260123T190507Z
LAST-MODIFIED:20260123T190510Z
UID:10016183-1841220000-1841248800@auxpunks.uber.space
SUMMARY:Offene Werkstatt im Habitat
DESCRIPTION:Offene Werkstatt in Augsburg \n\n\n\nWährend der offenen Werkstatt kannst du an deinen eigenen Projekten in unseren Werkstätten arbeiten. Mehr Infos hier: https://das-habitat.de/offene-werkstatt/so-gehts
URL:https://auxpunks.uber.space/event/offene-werkstatt-im-habitat/2028-05-06/
LOCATION:Das Habitat\, Beim Glaspalast 5\, Augsburg\, Germany
END:VEVENT
BEGIN:VEVENT
DTSTART;TZID=Europe/Berlin:20280513T100000
DTEND;TZID=Europe/Berlin:20280513T180000
DTSTAMP:20260421T051518
CREATED:20260123T190507Z
LAST-MODIFIED:20260123T190510Z
UID:10016184-1841824800-1841853600@auxpunks.uber.space
SUMMARY:Offene Werkstatt im Habitat
DESCRIPTION:Offene Werkstatt in Augsburg \n\n\n\nWährend der offenen Werkstatt kannst du an deinen eigenen Projekten in unseren Werkstätten arbeiten. Mehr Infos hier: https://das-habitat.de/offene-werkstatt/so-gehts
URL:https://auxpunks.uber.space/event/offene-werkstatt-im-habitat/2028-05-13/
LOCATION:Das Habitat\, Beim Glaspalast 5\, Augsburg\, Germany
END:VEVENT
BEGIN:VEVENT
DTSTART;TZID=Europe/Berlin:20280520T100000
DTEND;TZID=Europe/Berlin:20280520T180000
DTSTAMP:20260421T051518
CREATED:20260123T190507Z
LAST-MODIFIED:20260123T190510Z
UID:10016185-1842429600-1842458400@auxpunks.uber.space
SUMMARY:Offene Werkstatt im Habitat
DESCRIPTION:Offene Werkstatt in Augsburg \n\n\n\nWährend der offenen Werkstatt kannst du an deinen eigenen Projekten in unseren Werkstätten arbeiten. Mehr Infos hier: https://das-habitat.de/offene-werkstatt/so-gehts
URL:https://auxpunks.uber.space/event/offene-werkstatt-im-habitat/2028-05-20/
LOCATION:Das Habitat\, Beim Glaspalast 5\, Augsburg\, Germany
END:VEVENT
BEGIN:VEVENT
DTSTART;TZID=Europe/Berlin:20280527T100000
DTEND;TZID=Europe/Berlin:20280527T180000
DTSTAMP:20260421T051518
CREATED:20260123T190507Z
LAST-MODIFIED:20260123T190510Z
UID:10016186-1843034400-1843063200@auxpunks.uber.space
SUMMARY:Offene Werkstatt im Habitat
DESCRIPTION:Offene Werkstatt in Augsburg \n\n\n\nWährend der offenen Werkstatt kannst du an deinen eigenen Projekten in unseren Werkstätten arbeiten. Mehr Infos hier: https://das-habitat.de/offene-werkstatt/so-gehts
URL:https://auxpunks.uber.space/event/offene-werkstatt-im-habitat/2028-05-27/
LOCATION:Das Habitat\, Beim Glaspalast 5\, Augsburg\, Germany
END:VEVENT
BEGIN:VEVENT
DTSTART;TZID=Europe/Berlin:20280603T100000
DTEND;TZID=Europe/Berlin:20280603T180000
DTSTAMP:20260421T051518
CREATED:20260123T190507Z
LAST-MODIFIED:20260123T190510Z
UID:10016187-1843639200-1843668000@auxpunks.uber.space
SUMMARY:Offene Werkstatt im Habitat
DESCRIPTION:Offene Werkstatt in Augsburg \n\n\n\nWährend der offenen Werkstatt kannst du an deinen eigenen Projekten in unseren Werkstätten arbeiten. Mehr Infos hier: https://das-habitat.de/offene-werkstatt/so-gehts
URL:https://auxpunks.uber.space/event/offene-werkstatt-im-habitat/2028-06-03/
LOCATION:Das Habitat\, Beim Glaspalast 5\, Augsburg\, Germany
END:VEVENT
BEGIN:VEVENT
DTSTART;TZID=Europe/Berlin:20280610T100000
DTEND;TZID=Europe/Berlin:20280610T180000
DTSTAMP:20260421T051518
CREATED:20260123T190507Z
LAST-MODIFIED:20260123T190510Z
UID:10016188-1844244000-1844272800@auxpunks.uber.space
SUMMARY:Offene Werkstatt im Habitat
DESCRIPTION:Offene Werkstatt in Augsburg \n\n\n\nWährend der offenen Werkstatt kannst du an deinen eigenen Projekten in unseren Werkstätten arbeiten. Mehr Infos hier: https://das-habitat.de/offene-werkstatt/so-gehts
URL:https://auxpunks.uber.space/event/offene-werkstatt-im-habitat/2028-06-10/
LOCATION:Das Habitat\, Beim Glaspalast 5\, Augsburg\, Germany
END:VEVENT
BEGIN:VEVENT
DTSTART;TZID=Europe/Berlin:20280617T100000
DTEND;TZID=Europe/Berlin:20280617T180000
DTSTAMP:20260421T051518
CREATED:20260123T190507Z
LAST-MODIFIED:20260123T190510Z
UID:10016189-1844848800-1844877600@auxpunks.uber.space
SUMMARY:Offene Werkstatt im Habitat
DESCRIPTION:Offene Werkstatt in Augsburg \n\n\n\nWährend der offenen Werkstatt kannst du an deinen eigenen Projekten in unseren Werkstätten arbeiten. Mehr Infos hier: https://das-habitat.de/offene-werkstatt/so-gehts
URL:https://auxpunks.uber.space/event/offene-werkstatt-im-habitat/2028-06-17/
LOCATION:Das Habitat\, Beim Glaspalast 5\, Augsburg\, Germany
END:VEVENT
BEGIN:VEVENT
DTSTART;TZID=Europe/Berlin:20280624T100000
DTEND;TZID=Europe/Berlin:20280624T180000
DTSTAMP:20260421T051518
CREATED:20260123T190507Z
LAST-MODIFIED:20260123T190510Z
UID:10016190-1845453600-1845482400@auxpunks.uber.space
SUMMARY:Offene Werkstatt im Habitat
DESCRIPTION:Offene Werkstatt in Augsburg \n\n\n\nWährend der offenen Werkstatt kannst du an deinen eigenen Projekten in unseren Werkstätten arbeiten. Mehr Infos hier: https://das-habitat.de/offene-werkstatt/so-gehts
URL:https://auxpunks.uber.space/event/offene-werkstatt-im-habitat/2028-06-24/
LOCATION:Das Habitat\, Beim Glaspalast 5\, Augsburg\, Germany
END:VEVENT
BEGIN:VEVENT
DTSTART;TZID=Europe/Berlin:20280701T100000
DTEND;TZID=Europe/Berlin:20280701T180000
DTSTAMP:20260421T051518
CREATED:20260123T190507Z
LAST-MODIFIED:20260123T190510Z
UID:10016191-1846058400-1846087200@auxpunks.uber.space
SUMMARY:Offene Werkstatt im Habitat
DESCRIPTION:Offene Werkstatt in Augsburg \n\n\n\nWährend der offenen Werkstatt kannst du an deinen eigenen Projekten in unseren Werkstätten arbeiten. Mehr Infos hier: https://das-habitat.de/offene-werkstatt/so-gehts
URL:https://auxpunks.uber.space/event/offene-werkstatt-im-habitat/2028-07-01/
LOCATION:Das Habitat\, Beim Glaspalast 5\, Augsburg\, Germany
END:VEVENT
BEGIN:VEVENT
DTSTART;TZID=Europe/Berlin:20280708T100000
DTEND;TZID=Europe/Berlin:20280708T180000
DTSTAMP:20260421T051518
CREATED:20260123T190507Z
LAST-MODIFIED:20260123T190510Z
UID:10016192-1846663200-1846692000@auxpunks.uber.space
SUMMARY:Offene Werkstatt im Habitat
DESCRIPTION:Offene Werkstatt in Augsburg \n\n\n\nWährend der offenen Werkstatt kannst du an deinen eigenen Projekten in unseren Werkstätten arbeiten. Mehr Infos hier: https://das-habitat.de/offene-werkstatt/so-gehts
URL:https://auxpunks.uber.space/event/offene-werkstatt-im-habitat/2028-07-08/
LOCATION:Das Habitat\, Beim Glaspalast 5\, Augsburg\, Germany
END:VEVENT
BEGIN:VEVENT
DTSTART;TZID=Europe/Berlin:20280715T100000
DTEND;TZID=Europe/Berlin:20280715T180000
DTSTAMP:20260421T051518
CREATED:20260123T190507Z
LAST-MODIFIED:20260123T190510Z
UID:10016193-1847268000-1847296800@auxpunks.uber.space
SUMMARY:Offene Werkstatt im Habitat
DESCRIPTION:Offene Werkstatt in Augsburg \n\n\n\nWährend der offenen Werkstatt kannst du an deinen eigenen Projekten in unseren Werkstätten arbeiten. Mehr Infos hier: https://das-habitat.de/offene-werkstatt/so-gehts
URL:https://auxpunks.uber.space/event/offene-werkstatt-im-habitat/2028-07-15/
LOCATION:Das Habitat\, Beim Glaspalast 5\, Augsburg\, Germany
END:VEVENT
BEGIN:VEVENT
DTSTART;TZID=Europe/Berlin:20280722T100000
DTEND;TZID=Europe/Berlin:20280722T180000
DTSTAMP:20260421T051518
CREATED:20260123T190507Z
LAST-MODIFIED:20260123T190510Z
UID:10016194-1847872800-1847901600@auxpunks.uber.space
SUMMARY:Offene Werkstatt im Habitat
DESCRIPTION:Offene Werkstatt in Augsburg \n\n\n\nWährend der offenen Werkstatt kannst du an deinen eigenen Projekten in unseren Werkstätten arbeiten. Mehr Infos hier: https://das-habitat.de/offene-werkstatt/so-gehts
URL:https://auxpunks.uber.space/event/offene-werkstatt-im-habitat/2028-07-22/
LOCATION:Das Habitat\, Beim Glaspalast 5\, Augsburg\, Germany
END:VEVENT
BEGIN:VEVENT
DTSTART;TZID=Europe/Berlin:20280729T100000
DTEND;TZID=Europe/Berlin:20280729T180000
DTSTAMP:20260421T051518
CREATED:20260123T190507Z
LAST-MODIFIED:20260123T190510Z
UID:10016195-1848477600-1848506400@auxpunks.uber.space
SUMMARY:Offene Werkstatt im Habitat
DESCRIPTION:Offene Werkstatt in Augsburg \n\n\n\nWährend der offenen Werkstatt kannst du an deinen eigenen Projekten in unseren Werkstätten arbeiten. Mehr Infos hier: https://das-habitat.de/offene-werkstatt/so-gehts
URL:https://auxpunks.uber.space/event/offene-werkstatt-im-habitat/2028-07-29/
LOCATION:Das Habitat\, Beim Glaspalast 5\, Augsburg\, Germany
END:VEVENT
BEGIN:VEVENT
DTSTART;TZID=Europe/Berlin:20280805T100000
DTEND;TZID=Europe/Berlin:20280805T180000
DTSTAMP:20260421T051518
CREATED:20260123T190507Z
LAST-MODIFIED:20260123T190510Z
UID:10016196-1849082400-1849111200@auxpunks.uber.space
SUMMARY:Offene Werkstatt im Habitat
DESCRIPTION:Offene Werkstatt in Augsburg \n\n\n\nWährend der offenen Werkstatt kannst du an deinen eigenen Projekten in unseren Werkstätten arbeiten. Mehr Infos hier: https://das-habitat.de/offene-werkstatt/so-gehts
URL:https://auxpunks.uber.space/event/offene-werkstatt-im-habitat/2028-08-05/
LOCATION:Das Habitat\, Beim Glaspalast 5\, Augsburg\, Germany
END:VEVENT
BEGIN:VEVENT
DTSTART;TZID=Europe/Berlin:20280812T100000
DTEND;TZID=Europe/Berlin:20280812T180000
DTSTAMP:20260421T051518
CREATED:20260123T190507Z
LAST-MODIFIED:20260123T190510Z
UID:10016197-1849687200-1849716000@auxpunks.uber.space
SUMMARY:Offene Werkstatt im Habitat
DESCRIPTION:Offene Werkstatt in Augsburg \n\n\n\nWährend der offenen Werkstatt kannst du an deinen eigenen Projekten in unseren Werkstätten arbeiten. Mehr Infos hier: https://das-habitat.de/offene-werkstatt/so-gehts
URL:https://auxpunks.uber.space/event/offene-werkstatt-im-habitat/2028-08-12/
LOCATION:Das Habitat\, Beim Glaspalast 5\, Augsburg\, Germany
END:VEVENT
BEGIN:VEVENT
DTSTART;TZID=Europe/Berlin:20280819T100000
DTEND;TZID=Europe/Berlin:20280819T180000
DTSTAMP:20260421T051518
CREATED:20260123T190507Z
LAST-MODIFIED:20260123T190510Z
UID:10016198-1850292000-1850320800@auxpunks.uber.space
SUMMARY:Offene Werkstatt im Habitat
DESCRIPTION:Offene Werkstatt in Augsburg \n\n\n\nWährend der offenen Werkstatt kannst du an deinen eigenen Projekten in unseren Werkstätten arbeiten. Mehr Infos hier: https://das-habitat.de/offene-werkstatt/so-gehts
URL:https://auxpunks.uber.space/event/offene-werkstatt-im-habitat/2028-08-19/
LOCATION:Das Habitat\, Beim Glaspalast 5\, Augsburg\, Germany
END:VEVENT
BEGIN:VEVENT
DTSTART;TZID=Europe/Berlin:20280826T100000
DTEND;TZID=Europe/Berlin:20280826T180000
DTSTAMP:20260421T051518
CREATED:20260123T190507Z
LAST-MODIFIED:20260123T190510Z
UID:10016199-1850896800-1850925600@auxpunks.uber.space
SUMMARY:Offene Werkstatt im Habitat
DESCRIPTION:Offene Werkstatt in Augsburg \n\n\n\nWährend der offenen Werkstatt kannst du an deinen eigenen Projekten in unseren Werkstätten arbeiten. Mehr Infos hier: https://das-habitat.de/offene-werkstatt/so-gehts
URL:https://auxpunks.uber.space/event/offene-werkstatt-im-habitat/2028-08-26/
LOCATION:Das Habitat\, Beim Glaspalast 5\, Augsburg\, Germany
END:VEVENT
BEGIN:VEVENT
DTSTART;TZID=Europe/Berlin:20280902T100000
DTEND;TZID=Europe/Berlin:20280902T180000
DTSTAMP:20260421T051518
CREATED:20260123T190507Z
LAST-MODIFIED:20260123T190510Z
UID:10016200-1851501600-1851530400@auxpunks.uber.space
SUMMARY:Offene Werkstatt im Habitat
DESCRIPTION:Offene Werkstatt in Augsburg \n\n\n\nWährend der offenen Werkstatt kannst du an deinen eigenen Projekten in unseren Werkstätten arbeiten. Mehr Infos hier: https://das-habitat.de/offene-werkstatt/so-gehts
URL:https://auxpunks.uber.space/event/offene-werkstatt-im-habitat/2028-09-02/
LOCATION:Das Habitat\, Beim Glaspalast 5\, Augsburg\, Germany
END:VEVENT
BEGIN:VEVENT
DTSTART;TZID=Europe/Berlin:20280909T100000
DTEND;TZID=Europe/Berlin:20280909T180000
DTSTAMP:20260421T051518
CREATED:20260123T190507Z
LAST-MODIFIED:20260123T190510Z
UID:10016201-1852106400-1852135200@auxpunks.uber.space
SUMMARY:Offene Werkstatt im Habitat
DESCRIPTION:Offene Werkstatt in Augsburg \n\n\n\nWährend der offenen Werkstatt kannst du an deinen eigenen Projekten in unseren Werkstätten arbeiten. Mehr Infos hier: https://das-habitat.de/offene-werkstatt/so-gehts
URL:https://auxpunks.uber.space/event/offene-werkstatt-im-habitat/2028-09-09/
LOCATION:Das Habitat\, Beim Glaspalast 5\, Augsburg\, Germany
END:VEVENT
BEGIN:VEVENT
DTSTART;TZID=Europe/Berlin:20280916T100000
DTEND;TZID=Europe/Berlin:20280916T180000
DTSTAMP:20260421T051518
CREATED:20260123T190507Z
LAST-MODIFIED:20260123T190510Z
UID:10016202-1852711200-1852740000@auxpunks.uber.space
SUMMARY:Offene Werkstatt im Habitat
DESCRIPTION:Offene Werkstatt in Augsburg \n\n\n\nWährend der offenen Werkstatt kannst du an deinen eigenen Projekten in unseren Werkstätten arbeiten. Mehr Infos hier: https://das-habitat.de/offene-werkstatt/so-gehts
URL:https://auxpunks.uber.space/event/offene-werkstatt-im-habitat/2028-09-16/
LOCATION:Das Habitat\, Beim Glaspalast 5\, Augsburg\, Germany
END:VEVENT
BEGIN:VEVENT
DTSTART;TZID=Europe/Berlin:20280923T100000
DTEND;TZID=Europe/Berlin:20280923T180000
DTSTAMP:20260421T051518
CREATED:20260123T190507Z
LAST-MODIFIED:20260123T190510Z
UID:10016203-1853316000-1853344800@auxpunks.uber.space
SUMMARY:Offene Werkstatt im Habitat
DESCRIPTION:Offene Werkstatt in Augsburg \n\n\n\nWährend der offenen Werkstatt kannst du an deinen eigenen Projekten in unseren Werkstätten arbeiten. Mehr Infos hier: https://das-habitat.de/offene-werkstatt/so-gehts
URL:https://auxpunks.uber.space/event/offene-werkstatt-im-habitat/2028-09-23/
LOCATION:Das Habitat\, Beim Glaspalast 5\, Augsburg\, Germany
END:VEVENT
BEGIN:VEVENT
DTSTART;TZID=Europe/Berlin:20280930T100000
DTEND;TZID=Europe/Berlin:20280930T180000
DTSTAMP:20260421T051518
CREATED:20260123T190507Z
LAST-MODIFIED:20260123T190510Z
UID:10016204-1853920800-1853949600@auxpunks.uber.space
SUMMARY:Offene Werkstatt im Habitat
DESCRIPTION:Offene Werkstatt in Augsburg \n\n\n\nWährend der offenen Werkstatt kannst du an deinen eigenen Projekten in unseren Werkstätten arbeiten. Mehr Infos hier: https://das-habitat.de/offene-werkstatt/so-gehts
URL:https://auxpunks.uber.space/event/offene-werkstatt-im-habitat/2028-09-30/
LOCATION:Das Habitat\, Beim Glaspalast 5\, Augsburg\, Germany
END:VEVENT
BEGIN:VEVENT
DTSTART;TZID=Europe/Berlin:20281007T100000
DTEND;TZID=Europe/Berlin:20281007T180000
DTSTAMP:20260421T051518
CREATED:20260123T190507Z
LAST-MODIFIED:20260123T190510Z
UID:10016205-1854525600-1854554400@auxpunks.uber.space
SUMMARY:Offene Werkstatt im Habitat
DESCRIPTION:Offene Werkstatt in Augsburg \n\n\n\nWährend der offenen Werkstatt kannst du an deinen eigenen Projekten in unseren Werkstätten arbeiten. Mehr Infos hier: https://das-habitat.de/offene-werkstatt/so-gehts
URL:https://auxpunks.uber.space/event/offene-werkstatt-im-habitat/2028-10-07/
LOCATION:Das Habitat\, Beim Glaspalast 5\, Augsburg\, Germany
END:VEVENT
BEGIN:VEVENT
DTSTART;TZID=Europe/Berlin:20281014T100000
DTEND;TZID=Europe/Berlin:20281014T180000
DTSTAMP:20260421T051518
CREATED:20260123T190507Z
LAST-MODIFIED:20260123T190510Z
UID:10016206-1855130400-1855159200@auxpunks.uber.space
SUMMARY:Offene Werkstatt im Habitat
DESCRIPTION:Offene Werkstatt in Augsburg \n\n\n\nWährend der offenen Werkstatt kannst du an deinen eigenen Projekten in unseren Werkstätten arbeiten. Mehr Infos hier: https://das-habitat.de/offene-werkstatt/so-gehts
URL:https://auxpunks.uber.space/event/offene-werkstatt-im-habitat/2028-10-14/
LOCATION:Das Habitat\, Beim Glaspalast 5\, Augsburg\, Germany
END:VEVENT
END:VCALENDAR