BEGIN:VCALENDAR
VERSION:2.0
PRODID:-//auxpunks - ECPv6.15.11//NONSGML v1.0//EN
CALSCALE:GREGORIAN
METHOD:PUBLISH
X-WR-CALNAME:auxpunks
X-ORIGINAL-URL:https://auxpunks.uber.space
X-WR-CALDESC:Veranstaltungen für auxpunks
REFRESH-INTERVAL;VALUE=DURATION:PT1H
X-Robots-Tag:noindex
X-PUBLISHED-TTL:PT1H
BEGIN:VTIMEZONE
TZID:Europe/Berlin
BEGIN:DAYLIGHT
TZOFFSETFROM:+0100
TZOFFSETTO:+0200
TZNAME:CEST
DTSTART:20290325T010000
END:DAYLIGHT
BEGIN:STANDARD
TZOFFSETFROM:+0200
TZOFFSETTO:+0100
TZNAME:CET
DTSTART:20291028T010000
END:STANDARD
BEGIN:DAYLIGHT
TZOFFSETFROM:+0100
TZOFFSETTO:+0200
TZNAME:CEST
DTSTART:20300331T010000
END:DAYLIGHT
BEGIN:STANDARD
TZOFFSETFROM:+0200
TZOFFSETTO:+0100
TZNAME:CET
DTSTART:20301027T010000
END:STANDARD
BEGIN:DAYLIGHT
TZOFFSETFROM:+0100
TZOFFSETTO:+0200
TZNAME:CEST
DTSTART:20310330T010000
END:DAYLIGHT
BEGIN:STANDARD
TZOFFSETFROM:+0200
TZOFFSETTO:+0100
TZNAME:CET
DTSTART:20311026T010000
END:STANDARD
END:VTIMEZONE
BEGIN:VEVENT
DTSTART;TZID=Europe/Berlin:20300223T100000
DTEND;TZID=Europe/Berlin:20300223T180000
DTSTAMP:20260423T163016
CREATED:20260123T190507Z
LAST-MODIFIED:20260123T190510Z
UID:10016277-1898071200-1898100000@auxpunks.uber.space
SUMMARY:Offene Werkstatt im Habitat
DESCRIPTION:Offene Werkstatt in Augsburg \n\n\n\nWährend der offenen Werkstatt kannst du an deinen eigenen Projekten in unseren Werkstätten arbeiten. Mehr Infos hier: https://das-habitat.de/offene-werkstatt/so-gehts
URL:https://auxpunks.uber.space/event/offene-werkstatt-im-habitat/2030-02-23/
LOCATION:Das Habitat\, Beim Glaspalast 5\, Augsburg\, Germany
END:VEVENT
BEGIN:VEVENT
DTSTART;TZID=Europe/Berlin:20300302T100000
DTEND;TZID=Europe/Berlin:20300302T180000
DTSTAMP:20260423T163016
CREATED:20260123T190507Z
LAST-MODIFIED:20260123T190510Z
UID:10016278-1898676000-1898704800@auxpunks.uber.space
SUMMARY:Offene Werkstatt im Habitat
DESCRIPTION:Offene Werkstatt in Augsburg \n\n\n\nWährend der offenen Werkstatt kannst du an deinen eigenen Projekten in unseren Werkstätten arbeiten. Mehr Infos hier: https://das-habitat.de/offene-werkstatt/so-gehts
URL:https://auxpunks.uber.space/event/offene-werkstatt-im-habitat/2030-03-02/
LOCATION:Das Habitat\, Beim Glaspalast 5\, Augsburg\, Germany
END:VEVENT
BEGIN:VEVENT
DTSTART;TZID=Europe/Berlin:20300309T100000
DTEND;TZID=Europe/Berlin:20300309T180000
DTSTAMP:20260423T163016
CREATED:20260123T190507Z
LAST-MODIFIED:20260123T190510Z
UID:10016279-1899280800-1899309600@auxpunks.uber.space
SUMMARY:Offene Werkstatt im Habitat
DESCRIPTION:Offene Werkstatt in Augsburg \n\n\n\nWährend der offenen Werkstatt kannst du an deinen eigenen Projekten in unseren Werkstätten arbeiten. Mehr Infos hier: https://das-habitat.de/offene-werkstatt/so-gehts
URL:https://auxpunks.uber.space/event/offene-werkstatt-im-habitat/2030-03-09/
LOCATION:Das Habitat\, Beim Glaspalast 5\, Augsburg\, Germany
END:VEVENT
BEGIN:VEVENT
DTSTART;TZID=Europe/Berlin:20300316T100000
DTEND;TZID=Europe/Berlin:20300316T180000
DTSTAMP:20260423T163016
CREATED:20260123T190507Z
LAST-MODIFIED:20260123T190510Z
UID:10016280-1899885600-1899914400@auxpunks.uber.space
SUMMARY:Offene Werkstatt im Habitat
DESCRIPTION:Offene Werkstatt in Augsburg \n\n\n\nWährend der offenen Werkstatt kannst du an deinen eigenen Projekten in unseren Werkstätten arbeiten. Mehr Infos hier: https://das-habitat.de/offene-werkstatt/so-gehts
URL:https://auxpunks.uber.space/event/offene-werkstatt-im-habitat/2030-03-16/
LOCATION:Das Habitat\, Beim Glaspalast 5\, Augsburg\, Germany
END:VEVENT
BEGIN:VEVENT
DTSTART;TZID=Europe/Berlin:20300323T100000
DTEND;TZID=Europe/Berlin:20300323T180000
DTSTAMP:20260423T163016
CREATED:20260123T190507Z
LAST-MODIFIED:20260123T190510Z
UID:10016281-1900490400-1900519200@auxpunks.uber.space
SUMMARY:Offene Werkstatt im Habitat
DESCRIPTION:Offene Werkstatt in Augsburg \n\n\n\nWährend der offenen Werkstatt kannst du an deinen eigenen Projekten in unseren Werkstätten arbeiten. Mehr Infos hier: https://das-habitat.de/offene-werkstatt/so-gehts
URL:https://auxpunks.uber.space/event/offene-werkstatt-im-habitat/2030-03-23/
LOCATION:Das Habitat\, Beim Glaspalast 5\, Augsburg\, Germany
END:VEVENT
BEGIN:VEVENT
DTSTART;TZID=Europe/Berlin:20300330T100000
DTEND;TZID=Europe/Berlin:20300330T180000
DTSTAMP:20260423T163016
CREATED:20260123T190507Z
LAST-MODIFIED:20260123T190510Z
UID:10016282-1901095200-1901124000@auxpunks.uber.space
SUMMARY:Offene Werkstatt im Habitat
DESCRIPTION:Offene Werkstatt in Augsburg \n\n\n\nWährend der offenen Werkstatt kannst du an deinen eigenen Projekten in unseren Werkstätten arbeiten. Mehr Infos hier: https://das-habitat.de/offene-werkstatt/so-gehts
URL:https://auxpunks.uber.space/event/offene-werkstatt-im-habitat/2030-03-30/
LOCATION:Das Habitat\, Beim Glaspalast 5\, Augsburg\, Germany
END:VEVENT
BEGIN:VEVENT
DTSTART;TZID=Europe/Berlin:20300406T100000
DTEND;TZID=Europe/Berlin:20300406T180000
DTSTAMP:20260423T163016
CREATED:20260123T190507Z
LAST-MODIFIED:20260123T190510Z
UID:10016283-1901700000-1901728800@auxpunks.uber.space
SUMMARY:Offene Werkstatt im Habitat
DESCRIPTION:Offene Werkstatt in Augsburg \n\n\n\nWährend der offenen Werkstatt kannst du an deinen eigenen Projekten in unseren Werkstätten arbeiten. Mehr Infos hier: https://das-habitat.de/offene-werkstatt/so-gehts
URL:https://auxpunks.uber.space/event/offene-werkstatt-im-habitat/2030-04-06/
LOCATION:Das Habitat\, Beim Glaspalast 5\, Augsburg\, Germany
END:VEVENT
BEGIN:VEVENT
DTSTART;TZID=Europe/Berlin:20300413T100000
DTEND;TZID=Europe/Berlin:20300413T180000
DTSTAMP:20260423T163016
CREATED:20260123T190507Z
LAST-MODIFIED:20260123T190510Z
UID:10016284-1902304800-1902333600@auxpunks.uber.space
SUMMARY:Offene Werkstatt im Habitat
DESCRIPTION:Offene Werkstatt in Augsburg \n\n\n\nWährend der offenen Werkstatt kannst du an deinen eigenen Projekten in unseren Werkstätten arbeiten. Mehr Infos hier: https://das-habitat.de/offene-werkstatt/so-gehts
URL:https://auxpunks.uber.space/event/offene-werkstatt-im-habitat/2030-04-13/
LOCATION:Das Habitat\, Beim Glaspalast 5\, Augsburg\, Germany
END:VEVENT
BEGIN:VEVENT
DTSTART;TZID=Europe/Berlin:20300420T100000
DTEND;TZID=Europe/Berlin:20300420T180000
DTSTAMP:20260423T163016
CREATED:20260123T190507Z
LAST-MODIFIED:20260123T190510Z
UID:10016285-1902909600-1902938400@auxpunks.uber.space
SUMMARY:Offene Werkstatt im Habitat
DESCRIPTION:Offene Werkstatt in Augsburg \n\n\n\nWährend der offenen Werkstatt kannst du an deinen eigenen Projekten in unseren Werkstätten arbeiten. Mehr Infos hier: https://das-habitat.de/offene-werkstatt/so-gehts
URL:https://auxpunks.uber.space/event/offene-werkstatt-im-habitat/2030-04-20/
LOCATION:Das Habitat\, Beim Glaspalast 5\, Augsburg\, Germany
END:VEVENT
BEGIN:VEVENT
DTSTART;TZID=Europe/Berlin:20300427T100000
DTEND;TZID=Europe/Berlin:20300427T180000
DTSTAMP:20260423T163016
CREATED:20260123T190507Z
LAST-MODIFIED:20260123T190510Z
UID:10016286-1903514400-1903543200@auxpunks.uber.space
SUMMARY:Offene Werkstatt im Habitat
DESCRIPTION:Offene Werkstatt in Augsburg \n\n\n\nWährend der offenen Werkstatt kannst du an deinen eigenen Projekten in unseren Werkstätten arbeiten. Mehr Infos hier: https://das-habitat.de/offene-werkstatt/so-gehts
URL:https://auxpunks.uber.space/event/offene-werkstatt-im-habitat/2030-04-27/
LOCATION:Das Habitat\, Beim Glaspalast 5\, Augsburg\, Germany
END:VEVENT
BEGIN:VEVENT
DTSTART;TZID=Europe/Berlin:20300504T100000
DTEND;TZID=Europe/Berlin:20300504T180000
DTSTAMP:20260423T163016
CREATED:20260123T190507Z
LAST-MODIFIED:20260123T190510Z
UID:10016287-1904119200-1904148000@auxpunks.uber.space
SUMMARY:Offene Werkstatt im Habitat
DESCRIPTION:Offene Werkstatt in Augsburg \n\n\n\nWährend der offenen Werkstatt kannst du an deinen eigenen Projekten in unseren Werkstätten arbeiten. Mehr Infos hier: https://das-habitat.de/offene-werkstatt/so-gehts
URL:https://auxpunks.uber.space/event/offene-werkstatt-im-habitat/2030-05-04/
LOCATION:Das Habitat\, Beim Glaspalast 5\, Augsburg\, Germany
END:VEVENT
BEGIN:VEVENT
DTSTART;TZID=Europe/Berlin:20300511T100000
DTEND;TZID=Europe/Berlin:20300511T180000
DTSTAMP:20260423T163016
CREATED:20260123T190507Z
LAST-MODIFIED:20260123T190510Z
UID:10016288-1904724000-1904752800@auxpunks.uber.space
SUMMARY:Offene Werkstatt im Habitat
DESCRIPTION:Offene Werkstatt in Augsburg \n\n\n\nWährend der offenen Werkstatt kannst du an deinen eigenen Projekten in unseren Werkstätten arbeiten. Mehr Infos hier: https://das-habitat.de/offene-werkstatt/so-gehts
URL:https://auxpunks.uber.space/event/offene-werkstatt-im-habitat/2030-05-11/
LOCATION:Das Habitat\, Beim Glaspalast 5\, Augsburg\, Germany
END:VEVENT
BEGIN:VEVENT
DTSTART;TZID=Europe/Berlin:20300518T100000
DTEND;TZID=Europe/Berlin:20300518T180000
DTSTAMP:20260423T163016
CREATED:20260123T190507Z
LAST-MODIFIED:20260123T190510Z
UID:10016289-1905328800-1905357600@auxpunks.uber.space
SUMMARY:Offene Werkstatt im Habitat
DESCRIPTION:Offene Werkstatt in Augsburg \n\n\n\nWährend der offenen Werkstatt kannst du an deinen eigenen Projekten in unseren Werkstätten arbeiten. Mehr Infos hier: https://das-habitat.de/offene-werkstatt/so-gehts
URL:https://auxpunks.uber.space/event/offene-werkstatt-im-habitat/2030-05-18/
LOCATION:Das Habitat\, Beim Glaspalast 5\, Augsburg\, Germany
END:VEVENT
BEGIN:VEVENT
DTSTART;TZID=Europe/Berlin:20300525T100000
DTEND;TZID=Europe/Berlin:20300525T180000
DTSTAMP:20260423T163016
CREATED:20260123T190507Z
LAST-MODIFIED:20260123T190510Z
UID:10016290-1905933600-1905962400@auxpunks.uber.space
SUMMARY:Offene Werkstatt im Habitat
DESCRIPTION:Offene Werkstatt in Augsburg \n\n\n\nWährend der offenen Werkstatt kannst du an deinen eigenen Projekten in unseren Werkstätten arbeiten. Mehr Infos hier: https://das-habitat.de/offene-werkstatt/so-gehts
URL:https://auxpunks.uber.space/event/offene-werkstatt-im-habitat/2030-05-25/
LOCATION:Das Habitat\, Beim Glaspalast 5\, Augsburg\, Germany
END:VEVENT
BEGIN:VEVENT
DTSTART;TZID=Europe/Berlin:20300601T100000
DTEND;TZID=Europe/Berlin:20300601T180000
DTSTAMP:20260423T163016
CREATED:20260123T190507Z
LAST-MODIFIED:20260123T190510Z
UID:10016291-1906538400-1906567200@auxpunks.uber.space
SUMMARY:Offene Werkstatt im Habitat
DESCRIPTION:Offene Werkstatt in Augsburg \n\n\n\nWährend der offenen Werkstatt kannst du an deinen eigenen Projekten in unseren Werkstätten arbeiten. Mehr Infos hier: https://das-habitat.de/offene-werkstatt/so-gehts
URL:https://auxpunks.uber.space/event/offene-werkstatt-im-habitat/2030-06-01/
LOCATION:Das Habitat\, Beim Glaspalast 5\, Augsburg\, Germany
END:VEVENT
BEGIN:VEVENT
DTSTART;TZID=Europe/Berlin:20300608T100000
DTEND;TZID=Europe/Berlin:20300608T180000
DTSTAMP:20260423T163016
CREATED:20260123T190507Z
LAST-MODIFIED:20260123T190510Z
UID:10016292-1907143200-1907172000@auxpunks.uber.space
SUMMARY:Offene Werkstatt im Habitat
DESCRIPTION:Offene Werkstatt in Augsburg \n\n\n\nWährend der offenen Werkstatt kannst du an deinen eigenen Projekten in unseren Werkstätten arbeiten. Mehr Infos hier: https://das-habitat.de/offene-werkstatt/so-gehts
URL:https://auxpunks.uber.space/event/offene-werkstatt-im-habitat/2030-06-08/
LOCATION:Das Habitat\, Beim Glaspalast 5\, Augsburg\, Germany
END:VEVENT
BEGIN:VEVENT
DTSTART;TZID=Europe/Berlin:20300615T100000
DTEND;TZID=Europe/Berlin:20300615T180000
DTSTAMP:20260423T163016
CREATED:20260123T190507Z
LAST-MODIFIED:20260123T190510Z
UID:10016293-1907748000-1907776800@auxpunks.uber.space
SUMMARY:Offene Werkstatt im Habitat
DESCRIPTION:Offene Werkstatt in Augsburg \n\n\n\nWährend der offenen Werkstatt kannst du an deinen eigenen Projekten in unseren Werkstätten arbeiten. Mehr Infos hier: https://das-habitat.de/offene-werkstatt/so-gehts
URL:https://auxpunks.uber.space/event/offene-werkstatt-im-habitat/2030-06-15/
LOCATION:Das Habitat\, Beim Glaspalast 5\, Augsburg\, Germany
END:VEVENT
BEGIN:VEVENT
DTSTART;TZID=Europe/Berlin:20300622T100000
DTEND;TZID=Europe/Berlin:20300622T180000
DTSTAMP:20260423T163016
CREATED:20260123T190507Z
LAST-MODIFIED:20260123T190510Z
UID:10016294-1908352800-1908381600@auxpunks.uber.space
SUMMARY:Offene Werkstatt im Habitat
DESCRIPTION:Offene Werkstatt in Augsburg \n\n\n\nWährend der offenen Werkstatt kannst du an deinen eigenen Projekten in unseren Werkstätten arbeiten. Mehr Infos hier: https://das-habitat.de/offene-werkstatt/so-gehts
URL:https://auxpunks.uber.space/event/offene-werkstatt-im-habitat/2030-06-22/
LOCATION:Das Habitat\, Beim Glaspalast 5\, Augsburg\, Germany
END:VEVENT
BEGIN:VEVENT
DTSTART;TZID=Europe/Berlin:20300629T100000
DTEND;TZID=Europe/Berlin:20300629T180000
DTSTAMP:20260423T163016
CREATED:20260123T190507Z
LAST-MODIFIED:20260123T190510Z
UID:10016295-1908957600-1908986400@auxpunks.uber.space
SUMMARY:Offene Werkstatt im Habitat
DESCRIPTION:Offene Werkstatt in Augsburg \n\n\n\nWährend der offenen Werkstatt kannst du an deinen eigenen Projekten in unseren Werkstätten arbeiten. Mehr Infos hier: https://das-habitat.de/offene-werkstatt/so-gehts
URL:https://auxpunks.uber.space/event/offene-werkstatt-im-habitat/2030-06-29/
LOCATION:Das Habitat\, Beim Glaspalast 5\, Augsburg\, Germany
END:VEVENT
BEGIN:VEVENT
DTSTART;TZID=Europe/Berlin:20300706T100000
DTEND;TZID=Europe/Berlin:20300706T180000
DTSTAMP:20260423T163016
CREATED:20260123T190507Z
LAST-MODIFIED:20260123T190510Z
UID:10016296-1909562400-1909591200@auxpunks.uber.space
SUMMARY:Offene Werkstatt im Habitat
DESCRIPTION:Offene Werkstatt in Augsburg \n\n\n\nWährend der offenen Werkstatt kannst du an deinen eigenen Projekten in unseren Werkstätten arbeiten. Mehr Infos hier: https://das-habitat.de/offene-werkstatt/so-gehts
URL:https://auxpunks.uber.space/event/offene-werkstatt-im-habitat/2030-07-06/
LOCATION:Das Habitat\, Beim Glaspalast 5\, Augsburg\, Germany
END:VEVENT
BEGIN:VEVENT
DTSTART;TZID=Europe/Berlin:20300713T100000
DTEND;TZID=Europe/Berlin:20300713T180000
DTSTAMP:20260423T163016
CREATED:20260123T190507Z
LAST-MODIFIED:20260123T190510Z
UID:10016297-1910167200-1910196000@auxpunks.uber.space
SUMMARY:Offene Werkstatt im Habitat
DESCRIPTION:Offene Werkstatt in Augsburg \n\n\n\nWährend der offenen Werkstatt kannst du an deinen eigenen Projekten in unseren Werkstätten arbeiten. Mehr Infos hier: https://das-habitat.de/offene-werkstatt/so-gehts
URL:https://auxpunks.uber.space/event/offene-werkstatt-im-habitat/2030-07-13/
LOCATION:Das Habitat\, Beim Glaspalast 5\, Augsburg\, Germany
END:VEVENT
BEGIN:VEVENT
DTSTART;TZID=Europe/Berlin:20300720T100000
DTEND;TZID=Europe/Berlin:20300720T180000
DTSTAMP:20260423T163016
CREATED:20260123T190507Z
LAST-MODIFIED:20260123T190510Z
UID:10016298-1910772000-1910800800@auxpunks.uber.space
SUMMARY:Offene Werkstatt im Habitat
DESCRIPTION:Offene Werkstatt in Augsburg \n\n\n\nWährend der offenen Werkstatt kannst du an deinen eigenen Projekten in unseren Werkstätten arbeiten. Mehr Infos hier: https://das-habitat.de/offene-werkstatt/so-gehts
URL:https://auxpunks.uber.space/event/offene-werkstatt-im-habitat/2030-07-20/
LOCATION:Das Habitat\, Beim Glaspalast 5\, Augsburg\, Germany
END:VEVENT
BEGIN:VEVENT
DTSTART;TZID=Europe/Berlin:20300727T100000
DTEND;TZID=Europe/Berlin:20300727T180000
DTSTAMP:20260423T163016
CREATED:20260123T190507Z
LAST-MODIFIED:20260123T190510Z
UID:10016299-1911376800-1911405600@auxpunks.uber.space
SUMMARY:Offene Werkstatt im Habitat
DESCRIPTION:Offene Werkstatt in Augsburg \n\n\n\nWährend der offenen Werkstatt kannst du an deinen eigenen Projekten in unseren Werkstätten arbeiten. Mehr Infos hier: https://das-habitat.de/offene-werkstatt/so-gehts
URL:https://auxpunks.uber.space/event/offene-werkstatt-im-habitat/2030-07-27/
LOCATION:Das Habitat\, Beim Glaspalast 5\, Augsburg\, Germany
END:VEVENT
BEGIN:VEVENT
DTSTART;TZID=Europe/Berlin:20300803T100000
DTEND;TZID=Europe/Berlin:20300803T180000
DTSTAMP:20260423T163016
CREATED:20260123T190507Z
LAST-MODIFIED:20260123T190510Z
UID:10016300-1911981600-1912010400@auxpunks.uber.space
SUMMARY:Offene Werkstatt im Habitat
DESCRIPTION:Offene Werkstatt in Augsburg \n\n\n\nWährend der offenen Werkstatt kannst du an deinen eigenen Projekten in unseren Werkstätten arbeiten. Mehr Infos hier: https://das-habitat.de/offene-werkstatt/so-gehts
URL:https://auxpunks.uber.space/event/offene-werkstatt-im-habitat/2030-08-03/
LOCATION:Das Habitat\, Beim Glaspalast 5\, Augsburg\, Germany
END:VEVENT
BEGIN:VEVENT
DTSTART;TZID=Europe/Berlin:20300810T100000
DTEND;TZID=Europe/Berlin:20300810T180000
DTSTAMP:20260423T163016
CREATED:20260123T190507Z
LAST-MODIFIED:20260123T190510Z
UID:10016301-1912586400-1912615200@auxpunks.uber.space
SUMMARY:Offene Werkstatt im Habitat
DESCRIPTION:Offene Werkstatt in Augsburg \n\n\n\nWährend der offenen Werkstatt kannst du an deinen eigenen Projekten in unseren Werkstätten arbeiten. Mehr Infos hier: https://das-habitat.de/offene-werkstatt/so-gehts
URL:https://auxpunks.uber.space/event/offene-werkstatt-im-habitat/2030-08-10/
LOCATION:Das Habitat\, Beim Glaspalast 5\, Augsburg\, Germany
END:VEVENT
BEGIN:VEVENT
DTSTART;TZID=Europe/Berlin:20300817T100000
DTEND;TZID=Europe/Berlin:20300817T180000
DTSTAMP:20260423T163016
CREATED:20260123T190507Z
LAST-MODIFIED:20260123T190510Z
UID:10016302-1913191200-1913220000@auxpunks.uber.space
SUMMARY:Offene Werkstatt im Habitat
DESCRIPTION:Offene Werkstatt in Augsburg \n\n\n\nWährend der offenen Werkstatt kannst du an deinen eigenen Projekten in unseren Werkstätten arbeiten. Mehr Infos hier: https://das-habitat.de/offene-werkstatt/so-gehts
URL:https://auxpunks.uber.space/event/offene-werkstatt-im-habitat/2030-08-17/
LOCATION:Das Habitat\, Beim Glaspalast 5\, Augsburg\, Germany
END:VEVENT
BEGIN:VEVENT
DTSTART;TZID=Europe/Berlin:20300824T100000
DTEND;TZID=Europe/Berlin:20300824T180000
DTSTAMP:20260423T163016
CREATED:20260123T190507Z
LAST-MODIFIED:20260123T190510Z
UID:10016303-1913796000-1913824800@auxpunks.uber.space
SUMMARY:Offene Werkstatt im Habitat
DESCRIPTION:Offene Werkstatt in Augsburg \n\n\n\nWährend der offenen Werkstatt kannst du an deinen eigenen Projekten in unseren Werkstätten arbeiten. Mehr Infos hier: https://das-habitat.de/offene-werkstatt/so-gehts
URL:https://auxpunks.uber.space/event/offene-werkstatt-im-habitat/2030-08-24/
LOCATION:Das Habitat\, Beim Glaspalast 5\, Augsburg\, Germany
END:VEVENT
BEGIN:VEVENT
DTSTART;TZID=Europe/Berlin:20300831T100000
DTEND;TZID=Europe/Berlin:20300831T180000
DTSTAMP:20260423T163017
CREATED:20260123T190507Z
LAST-MODIFIED:20260123T190510Z
UID:10016304-1914400800-1914429600@auxpunks.uber.space
SUMMARY:Offene Werkstatt im Habitat
DESCRIPTION:Offene Werkstatt in Augsburg \n\n\n\nWährend der offenen Werkstatt kannst du an deinen eigenen Projekten in unseren Werkstätten arbeiten. Mehr Infos hier: https://das-habitat.de/offene-werkstatt/so-gehts
URL:https://auxpunks.uber.space/event/offene-werkstatt-im-habitat/2030-08-31/
LOCATION:Das Habitat\, Beim Glaspalast 5\, Augsburg\, Germany
END:VEVENT
BEGIN:VEVENT
DTSTART;TZID=Europe/Berlin:20300907T100000
DTEND;TZID=Europe/Berlin:20300907T180000
DTSTAMP:20260423T163017
CREATED:20260123T190507Z
LAST-MODIFIED:20260123T190510Z
UID:10016305-1915005600-1915034400@auxpunks.uber.space
SUMMARY:Offene Werkstatt im Habitat
DESCRIPTION:Offene Werkstatt in Augsburg \n\n\n\nWährend der offenen Werkstatt kannst du an deinen eigenen Projekten in unseren Werkstätten arbeiten. Mehr Infos hier: https://das-habitat.de/offene-werkstatt/so-gehts
URL:https://auxpunks.uber.space/event/offene-werkstatt-im-habitat/2030-09-07/
LOCATION:Das Habitat\, Beim Glaspalast 5\, Augsburg\, Germany
END:VEVENT
BEGIN:VEVENT
DTSTART;TZID=Europe/Berlin:20300914T100000
DTEND;TZID=Europe/Berlin:20300914T180000
DTSTAMP:20260423T163017
CREATED:20260123T190507Z
LAST-MODIFIED:20260123T190510Z
UID:10016306-1915610400-1915639200@auxpunks.uber.space
SUMMARY:Offene Werkstatt im Habitat
DESCRIPTION:Offene Werkstatt in Augsburg \n\n\n\nWährend der offenen Werkstatt kannst du an deinen eigenen Projekten in unseren Werkstätten arbeiten. Mehr Infos hier: https://das-habitat.de/offene-werkstatt/so-gehts
URL:https://auxpunks.uber.space/event/offene-werkstatt-im-habitat/2030-09-14/
LOCATION:Das Habitat\, Beim Glaspalast 5\, Augsburg\, Germany
END:VEVENT
END:VCALENDAR