BEGIN:VCALENDAR
VERSION:2.0
PRODID:-//auxpunks - ECPv6.15.11//NONSGML v1.0//EN
CALSCALE:GREGORIAN
METHOD:PUBLISH
X-WR-CALNAME:auxpunks
X-ORIGINAL-URL:https://auxpunks.uber.space
X-WR-CALDESC:Veranstaltungen für auxpunks
REFRESH-INTERVAL;VALUE=DURATION:PT1H
X-Robots-Tag:noindex
X-PUBLISHED-TTL:PT1H
BEGIN:VTIMEZONE
TZID:Europe/Berlin
BEGIN:DAYLIGHT
TZOFFSETFROM:+0100
TZOFFSETTO:+0200
TZNAME:CEST
DTSTART:20250330T010000
END:DAYLIGHT
BEGIN:STANDARD
TZOFFSETFROM:+0200
TZOFFSETTO:+0100
TZNAME:CET
DTSTART:20251026T010000
END:STANDARD
BEGIN:DAYLIGHT
TZOFFSETFROM:+0100
TZOFFSETTO:+0200
TZNAME:CEST
DTSTART:20260329T010000
END:DAYLIGHT
BEGIN:STANDARD
TZOFFSETFROM:+0200
TZOFFSETTO:+0100
TZNAME:CET
DTSTART:20261025T010000
END:STANDARD
BEGIN:DAYLIGHT
TZOFFSETFROM:+0100
TZOFFSETTO:+0200
TZNAME:CEST
DTSTART:20270328T010000
END:DAYLIGHT
BEGIN:STANDARD
TZOFFSETFROM:+0200
TZOFFSETTO:+0100
TZNAME:CET
DTSTART:20271031T010000
END:STANDARD
BEGIN:DAYLIGHT
TZOFFSETFROM:+0100
TZOFFSETTO:+0200
TZNAME:CEST
DTSTART:20280326T010000
END:DAYLIGHT
BEGIN:STANDARD
TZOFFSETFROM:+0200
TZOFFSETTO:+0100
TZNAME:CET
DTSTART:20281029T010000
END:STANDARD
END:VTIMEZONE
BEGIN:VEVENT
DTSTART;TZID=Europe/Berlin:20261121T100000
DTEND;TZID=Europe/Berlin:20261121T180000
DTSTAMP:20260420T190108
CREATED:20260123T190507Z
LAST-MODIFIED:20260123T190510Z
UID:10016107-1795255200-1795284000@auxpunks.uber.space
SUMMARY:Offene Werkstatt im Habitat
DESCRIPTION:Offene Werkstatt in Augsburg \n\n\n\nWährend der offenen Werkstatt kannst du an deinen eigenen Projekten in unseren Werkstätten arbeiten. Mehr Infos hier: https://das-habitat.de/offene-werkstatt/so-gehts
URL:https://auxpunks.uber.space/event/offene-werkstatt-im-habitat/2026-11-21/
LOCATION:Das Habitat\, Beim Glaspalast 5\, Augsburg\, Germany
END:VEVENT
BEGIN:VEVENT
DTSTART;TZID=Europe/Berlin:20261128T100000
DTEND;TZID=Europe/Berlin:20261128T180000
DTSTAMP:20260420T190108
CREATED:20260123T190507Z
LAST-MODIFIED:20260123T190510Z
UID:10016108-1795860000-1795888800@auxpunks.uber.space
SUMMARY:Offene Werkstatt im Habitat
DESCRIPTION:Offene Werkstatt in Augsburg \n\n\n\nWährend der offenen Werkstatt kannst du an deinen eigenen Projekten in unseren Werkstätten arbeiten. Mehr Infos hier: https://das-habitat.de/offene-werkstatt/so-gehts
URL:https://auxpunks.uber.space/event/offene-werkstatt-im-habitat/2026-11-28/
LOCATION:Das Habitat\, Beim Glaspalast 5\, Augsburg\, Germany
END:VEVENT
BEGIN:VEVENT
DTSTART;TZID=Europe/Berlin:20261205T100000
DTEND;TZID=Europe/Berlin:20261205T180000
DTSTAMP:20260420T190108
CREATED:20260123T190507Z
LAST-MODIFIED:20260123T190510Z
UID:10016109-1796464800-1796493600@auxpunks.uber.space
SUMMARY:Offene Werkstatt im Habitat
DESCRIPTION:Offene Werkstatt in Augsburg \n\n\n\nWährend der offenen Werkstatt kannst du an deinen eigenen Projekten in unseren Werkstätten arbeiten. Mehr Infos hier: https://das-habitat.de/offene-werkstatt/so-gehts
URL:https://auxpunks.uber.space/event/offene-werkstatt-im-habitat/2026-12-05/
LOCATION:Das Habitat\, Beim Glaspalast 5\, Augsburg\, Germany
END:VEVENT
BEGIN:VEVENT
DTSTART;TZID=Europe/Berlin:20261212T100000
DTEND;TZID=Europe/Berlin:20261212T180000
DTSTAMP:20260420T190108
CREATED:20260123T190507Z
LAST-MODIFIED:20260123T190510Z
UID:10016110-1797069600-1797098400@auxpunks.uber.space
SUMMARY:Offene Werkstatt im Habitat
DESCRIPTION:Offene Werkstatt in Augsburg \n\n\n\nWährend der offenen Werkstatt kannst du an deinen eigenen Projekten in unseren Werkstätten arbeiten. Mehr Infos hier: https://das-habitat.de/offene-werkstatt/so-gehts
URL:https://auxpunks.uber.space/event/offene-werkstatt-im-habitat/2026-12-12/
LOCATION:Das Habitat\, Beim Glaspalast 5\, Augsburg\, Germany
END:VEVENT
BEGIN:VEVENT
DTSTART;TZID=Europe/Berlin:20261219T100000
DTEND;TZID=Europe/Berlin:20261219T180000
DTSTAMP:20260420T190108
CREATED:20260123T190507Z
LAST-MODIFIED:20260123T190510Z
UID:10016111-1797674400-1797703200@auxpunks.uber.space
SUMMARY:Offene Werkstatt im Habitat
DESCRIPTION:Offene Werkstatt in Augsburg \n\n\n\nWährend der offenen Werkstatt kannst du an deinen eigenen Projekten in unseren Werkstätten arbeiten. Mehr Infos hier: https://das-habitat.de/offene-werkstatt/so-gehts
URL:https://auxpunks.uber.space/event/offene-werkstatt-im-habitat/2026-12-19/
LOCATION:Das Habitat\, Beim Glaspalast 5\, Augsburg\, Germany
END:VEVENT
BEGIN:VEVENT
DTSTART;TZID=Europe/Berlin:20261226T100000
DTEND;TZID=Europe/Berlin:20261226T180000
DTSTAMP:20260420T190108
CREATED:20260123T190507Z
LAST-MODIFIED:20260123T190510Z
UID:10016112-1798279200-1798308000@auxpunks.uber.space
SUMMARY:Offene Werkstatt im Habitat
DESCRIPTION:Offene Werkstatt in Augsburg \n\n\n\nWährend der offenen Werkstatt kannst du an deinen eigenen Projekten in unseren Werkstätten arbeiten. Mehr Infos hier: https://das-habitat.de/offene-werkstatt/so-gehts
URL:https://auxpunks.uber.space/event/offene-werkstatt-im-habitat/2026-12-26/
LOCATION:Das Habitat\, Beim Glaspalast 5\, Augsburg\, Germany
END:VEVENT
BEGIN:VEVENT
DTSTART;TZID=Europe/Berlin:20270102T100000
DTEND;TZID=Europe/Berlin:20270102T180000
DTSTAMP:20260420T190108
CREATED:20260123T190507Z
LAST-MODIFIED:20260123T190510Z
UID:10016113-1798884000-1798912800@auxpunks.uber.space
SUMMARY:Offene Werkstatt im Habitat
DESCRIPTION:Offene Werkstatt in Augsburg \n\n\n\nWährend der offenen Werkstatt kannst du an deinen eigenen Projekten in unseren Werkstätten arbeiten. Mehr Infos hier: https://das-habitat.de/offene-werkstatt/so-gehts
URL:https://auxpunks.uber.space/event/offene-werkstatt-im-habitat/2027-01-02/
LOCATION:Das Habitat\, Beim Glaspalast 5\, Augsburg\, Germany
END:VEVENT
BEGIN:VEVENT
DTSTART;TZID=Europe/Berlin:20270109T100000
DTEND;TZID=Europe/Berlin:20270109T180000
DTSTAMP:20260420T190108
CREATED:20260123T190507Z
LAST-MODIFIED:20260123T190510Z
UID:10016114-1799488800-1799517600@auxpunks.uber.space
SUMMARY:Offene Werkstatt im Habitat
DESCRIPTION:Offene Werkstatt in Augsburg \n\n\n\nWährend der offenen Werkstatt kannst du an deinen eigenen Projekten in unseren Werkstätten arbeiten. Mehr Infos hier: https://das-habitat.de/offene-werkstatt/so-gehts
URL:https://auxpunks.uber.space/event/offene-werkstatt-im-habitat/2027-01-09/
LOCATION:Das Habitat\, Beim Glaspalast 5\, Augsburg\, Germany
END:VEVENT
BEGIN:VEVENT
DTSTART;TZID=Europe/Berlin:20270116T100000
DTEND;TZID=Europe/Berlin:20270116T180000
DTSTAMP:20260420T190108
CREATED:20260123T190507Z
LAST-MODIFIED:20260123T190510Z
UID:10016115-1800093600-1800122400@auxpunks.uber.space
SUMMARY:Offene Werkstatt im Habitat
DESCRIPTION:Offene Werkstatt in Augsburg \n\n\n\nWährend der offenen Werkstatt kannst du an deinen eigenen Projekten in unseren Werkstätten arbeiten. Mehr Infos hier: https://das-habitat.de/offene-werkstatt/so-gehts
URL:https://auxpunks.uber.space/event/offene-werkstatt-im-habitat/2027-01-16/
LOCATION:Das Habitat\, Beim Glaspalast 5\, Augsburg\, Germany
END:VEVENT
BEGIN:VEVENT
DTSTART;TZID=Europe/Berlin:20270123T100000
DTEND;TZID=Europe/Berlin:20270123T180000
DTSTAMP:20260420T190108
CREATED:20260123T190507Z
LAST-MODIFIED:20260123T190510Z
UID:10016116-1800698400-1800727200@auxpunks.uber.space
SUMMARY:Offene Werkstatt im Habitat
DESCRIPTION:Offene Werkstatt in Augsburg \n\n\n\nWährend der offenen Werkstatt kannst du an deinen eigenen Projekten in unseren Werkstätten arbeiten. Mehr Infos hier: https://das-habitat.de/offene-werkstatt/so-gehts
URL:https://auxpunks.uber.space/event/offene-werkstatt-im-habitat/2027-01-23/
LOCATION:Das Habitat\, Beim Glaspalast 5\, Augsburg\, Germany
END:VEVENT
BEGIN:VEVENT
DTSTART;TZID=Europe/Berlin:20270130T100000
DTEND;TZID=Europe/Berlin:20270130T180000
DTSTAMP:20260420T190108
CREATED:20260123T190507Z
LAST-MODIFIED:20260123T190510Z
UID:10016117-1801303200-1801332000@auxpunks.uber.space
SUMMARY:Offene Werkstatt im Habitat
DESCRIPTION:Offene Werkstatt in Augsburg \n\n\n\nWährend der offenen Werkstatt kannst du an deinen eigenen Projekten in unseren Werkstätten arbeiten. Mehr Infos hier: https://das-habitat.de/offene-werkstatt/so-gehts
URL:https://auxpunks.uber.space/event/offene-werkstatt-im-habitat/2027-01-30/
LOCATION:Das Habitat\, Beim Glaspalast 5\, Augsburg\, Germany
END:VEVENT
BEGIN:VEVENT
DTSTART;TZID=Europe/Berlin:20270206T100000
DTEND;TZID=Europe/Berlin:20270206T180000
DTSTAMP:20260420T190108
CREATED:20260123T190507Z
LAST-MODIFIED:20260123T190510Z
UID:10016118-1801908000-1801936800@auxpunks.uber.space
SUMMARY:Offene Werkstatt im Habitat
DESCRIPTION:Offene Werkstatt in Augsburg \n\n\n\nWährend der offenen Werkstatt kannst du an deinen eigenen Projekten in unseren Werkstätten arbeiten. Mehr Infos hier: https://das-habitat.de/offene-werkstatt/so-gehts
URL:https://auxpunks.uber.space/event/offene-werkstatt-im-habitat/2027-02-06/
LOCATION:Das Habitat\, Beim Glaspalast 5\, Augsburg\, Germany
END:VEVENT
BEGIN:VEVENT
DTSTART;TZID=Europe/Berlin:20270213T100000
DTEND;TZID=Europe/Berlin:20270213T180000
DTSTAMP:20260420T190108
CREATED:20260123T190507Z
LAST-MODIFIED:20260123T190510Z
UID:10016119-1802512800-1802541600@auxpunks.uber.space
SUMMARY:Offene Werkstatt im Habitat
DESCRIPTION:Offene Werkstatt in Augsburg \n\n\n\nWährend der offenen Werkstatt kannst du an deinen eigenen Projekten in unseren Werkstätten arbeiten. Mehr Infos hier: https://das-habitat.de/offene-werkstatt/so-gehts
URL:https://auxpunks.uber.space/event/offene-werkstatt-im-habitat/2027-02-13/
LOCATION:Das Habitat\, Beim Glaspalast 5\, Augsburg\, Germany
END:VEVENT
BEGIN:VEVENT
DTSTART;TZID=Europe/Berlin:20270220T100000
DTEND;TZID=Europe/Berlin:20270220T180000
DTSTAMP:20260420T190108
CREATED:20260123T190507Z
LAST-MODIFIED:20260123T190510Z
UID:10016120-1803117600-1803146400@auxpunks.uber.space
SUMMARY:Offene Werkstatt im Habitat
DESCRIPTION:Offene Werkstatt in Augsburg \n\n\n\nWährend der offenen Werkstatt kannst du an deinen eigenen Projekten in unseren Werkstätten arbeiten. Mehr Infos hier: https://das-habitat.de/offene-werkstatt/so-gehts
URL:https://auxpunks.uber.space/event/offene-werkstatt-im-habitat/2027-02-20/
LOCATION:Das Habitat\, Beim Glaspalast 5\, Augsburg\, Germany
END:VEVENT
BEGIN:VEVENT
DTSTART;TZID=Europe/Berlin:20270227T100000
DTEND;TZID=Europe/Berlin:20270227T180000
DTSTAMP:20260420T190108
CREATED:20260123T190507Z
LAST-MODIFIED:20260123T190510Z
UID:10016121-1803722400-1803751200@auxpunks.uber.space
SUMMARY:Offene Werkstatt im Habitat
DESCRIPTION:Offene Werkstatt in Augsburg \n\n\n\nWährend der offenen Werkstatt kannst du an deinen eigenen Projekten in unseren Werkstätten arbeiten. Mehr Infos hier: https://das-habitat.de/offene-werkstatt/so-gehts
URL:https://auxpunks.uber.space/event/offene-werkstatt-im-habitat/2027-02-27/
LOCATION:Das Habitat\, Beim Glaspalast 5\, Augsburg\, Germany
END:VEVENT
BEGIN:VEVENT
DTSTART;TZID=Europe/Berlin:20270306T100000
DTEND;TZID=Europe/Berlin:20270306T180000
DTSTAMP:20260420T190108
CREATED:20260123T190507Z
LAST-MODIFIED:20260123T190510Z
UID:10016122-1804327200-1804356000@auxpunks.uber.space
SUMMARY:Offene Werkstatt im Habitat
DESCRIPTION:Offene Werkstatt in Augsburg \n\n\n\nWährend der offenen Werkstatt kannst du an deinen eigenen Projekten in unseren Werkstätten arbeiten. Mehr Infos hier: https://das-habitat.de/offene-werkstatt/so-gehts
URL:https://auxpunks.uber.space/event/offene-werkstatt-im-habitat/2027-03-06/
LOCATION:Das Habitat\, Beim Glaspalast 5\, Augsburg\, Germany
END:VEVENT
BEGIN:VEVENT
DTSTART;TZID=Europe/Berlin:20270313T100000
DTEND;TZID=Europe/Berlin:20270313T180000
DTSTAMP:20260420T190108
CREATED:20260123T190507Z
LAST-MODIFIED:20260123T190510Z
UID:10016123-1804932000-1804960800@auxpunks.uber.space
SUMMARY:Offene Werkstatt im Habitat
DESCRIPTION:Offene Werkstatt in Augsburg \n\n\n\nWährend der offenen Werkstatt kannst du an deinen eigenen Projekten in unseren Werkstätten arbeiten. Mehr Infos hier: https://das-habitat.de/offene-werkstatt/so-gehts
URL:https://auxpunks.uber.space/event/offene-werkstatt-im-habitat/2027-03-13/
LOCATION:Das Habitat\, Beim Glaspalast 5\, Augsburg\, Germany
END:VEVENT
BEGIN:VEVENT
DTSTART;TZID=Europe/Berlin:20270320T100000
DTEND;TZID=Europe/Berlin:20270320T180000
DTSTAMP:20260420T190108
CREATED:20260123T190507Z
LAST-MODIFIED:20260123T190510Z
UID:10016124-1805536800-1805565600@auxpunks.uber.space
SUMMARY:Offene Werkstatt im Habitat
DESCRIPTION:Offene Werkstatt in Augsburg \n\n\n\nWährend der offenen Werkstatt kannst du an deinen eigenen Projekten in unseren Werkstätten arbeiten. Mehr Infos hier: https://das-habitat.de/offene-werkstatt/so-gehts
URL:https://auxpunks.uber.space/event/offene-werkstatt-im-habitat/2027-03-20/
LOCATION:Das Habitat\, Beim Glaspalast 5\, Augsburg\, Germany
END:VEVENT
BEGIN:VEVENT
DTSTART;TZID=Europe/Berlin:20270327T100000
DTEND;TZID=Europe/Berlin:20270327T180000
DTSTAMP:20260420T190108
CREATED:20260123T190507Z
LAST-MODIFIED:20260123T190510Z
UID:10016125-1806141600-1806170400@auxpunks.uber.space
SUMMARY:Offene Werkstatt im Habitat
DESCRIPTION:Offene Werkstatt in Augsburg \n\n\n\nWährend der offenen Werkstatt kannst du an deinen eigenen Projekten in unseren Werkstätten arbeiten. Mehr Infos hier: https://das-habitat.de/offene-werkstatt/so-gehts
URL:https://auxpunks.uber.space/event/offene-werkstatt-im-habitat/2027-03-27/
LOCATION:Das Habitat\, Beim Glaspalast 5\, Augsburg\, Germany
END:VEVENT
BEGIN:VEVENT
DTSTART;TZID=Europe/Berlin:20270403T100000
DTEND;TZID=Europe/Berlin:20270403T180000
DTSTAMP:20260420T190108
CREATED:20260123T190507Z
LAST-MODIFIED:20260123T190510Z
UID:10016126-1806746400-1806775200@auxpunks.uber.space
SUMMARY:Offene Werkstatt im Habitat
DESCRIPTION:Offene Werkstatt in Augsburg \n\n\n\nWährend der offenen Werkstatt kannst du an deinen eigenen Projekten in unseren Werkstätten arbeiten. Mehr Infos hier: https://das-habitat.de/offene-werkstatt/so-gehts
URL:https://auxpunks.uber.space/event/offene-werkstatt-im-habitat/2027-04-03/
LOCATION:Das Habitat\, Beim Glaspalast 5\, Augsburg\, Germany
END:VEVENT
BEGIN:VEVENT
DTSTART;TZID=Europe/Berlin:20270410T100000
DTEND;TZID=Europe/Berlin:20270410T180000
DTSTAMP:20260420T190108
CREATED:20260123T190507Z
LAST-MODIFIED:20260123T190510Z
UID:10016127-1807351200-1807380000@auxpunks.uber.space
SUMMARY:Offene Werkstatt im Habitat
DESCRIPTION:Offene Werkstatt in Augsburg \n\n\n\nWährend der offenen Werkstatt kannst du an deinen eigenen Projekten in unseren Werkstätten arbeiten. Mehr Infos hier: https://das-habitat.de/offene-werkstatt/so-gehts
URL:https://auxpunks.uber.space/event/offene-werkstatt-im-habitat/2027-04-10/
LOCATION:Das Habitat\, Beim Glaspalast 5\, Augsburg\, Germany
END:VEVENT
BEGIN:VEVENT
DTSTART;TZID=Europe/Berlin:20270417T100000
DTEND;TZID=Europe/Berlin:20270417T180000
DTSTAMP:20260420T190108
CREATED:20260123T190507Z
LAST-MODIFIED:20260123T190510Z
UID:10016128-1807956000-1807984800@auxpunks.uber.space
SUMMARY:Offene Werkstatt im Habitat
DESCRIPTION:Offene Werkstatt in Augsburg \n\n\n\nWährend der offenen Werkstatt kannst du an deinen eigenen Projekten in unseren Werkstätten arbeiten. Mehr Infos hier: https://das-habitat.de/offene-werkstatt/so-gehts
URL:https://auxpunks.uber.space/event/offene-werkstatt-im-habitat/2027-04-17/
LOCATION:Das Habitat\, Beim Glaspalast 5\, Augsburg\, Germany
END:VEVENT
BEGIN:VEVENT
DTSTART;TZID=Europe/Berlin:20270424T100000
DTEND;TZID=Europe/Berlin:20270424T180000
DTSTAMP:20260420T190108
CREATED:20260123T190507Z
LAST-MODIFIED:20260123T190510Z
UID:10016129-1808560800-1808589600@auxpunks.uber.space
SUMMARY:Offene Werkstatt im Habitat
DESCRIPTION:Offene Werkstatt in Augsburg \n\n\n\nWährend der offenen Werkstatt kannst du an deinen eigenen Projekten in unseren Werkstätten arbeiten. Mehr Infos hier: https://das-habitat.de/offene-werkstatt/so-gehts
URL:https://auxpunks.uber.space/event/offene-werkstatt-im-habitat/2027-04-24/
LOCATION:Das Habitat\, Beim Glaspalast 5\, Augsburg\, Germany
END:VEVENT
BEGIN:VEVENT
DTSTART;TZID=Europe/Berlin:20270501T100000
DTEND;TZID=Europe/Berlin:20270501T180000
DTSTAMP:20260420T190108
CREATED:20260123T190507Z
LAST-MODIFIED:20260123T190510Z
UID:10016130-1809165600-1809194400@auxpunks.uber.space
SUMMARY:Offene Werkstatt im Habitat
DESCRIPTION:Offene Werkstatt in Augsburg \n\n\n\nWährend der offenen Werkstatt kannst du an deinen eigenen Projekten in unseren Werkstätten arbeiten. Mehr Infos hier: https://das-habitat.de/offene-werkstatt/so-gehts
URL:https://auxpunks.uber.space/event/offene-werkstatt-im-habitat/2027-05-01/
LOCATION:Das Habitat\, Beim Glaspalast 5\, Augsburg\, Germany
END:VEVENT
BEGIN:VEVENT
DTSTART;TZID=Europe/Berlin:20270508T100000
DTEND;TZID=Europe/Berlin:20270508T180000
DTSTAMP:20260420T190108
CREATED:20260123T190507Z
LAST-MODIFIED:20260123T190510Z
UID:10016131-1809770400-1809799200@auxpunks.uber.space
SUMMARY:Offene Werkstatt im Habitat
DESCRIPTION:Offene Werkstatt in Augsburg \n\n\n\nWährend der offenen Werkstatt kannst du an deinen eigenen Projekten in unseren Werkstätten arbeiten. Mehr Infos hier: https://das-habitat.de/offene-werkstatt/so-gehts
URL:https://auxpunks.uber.space/event/offene-werkstatt-im-habitat/2027-05-08/
LOCATION:Das Habitat\, Beim Glaspalast 5\, Augsburg\, Germany
END:VEVENT
BEGIN:VEVENT
DTSTART;TZID=Europe/Berlin:20270515T100000
DTEND;TZID=Europe/Berlin:20270515T180000
DTSTAMP:20260420T190108
CREATED:20260123T190507Z
LAST-MODIFIED:20260123T190510Z
UID:10016132-1810375200-1810404000@auxpunks.uber.space
SUMMARY:Offene Werkstatt im Habitat
DESCRIPTION:Offene Werkstatt in Augsburg \n\n\n\nWährend der offenen Werkstatt kannst du an deinen eigenen Projekten in unseren Werkstätten arbeiten. Mehr Infos hier: https://das-habitat.de/offene-werkstatt/so-gehts
URL:https://auxpunks.uber.space/event/offene-werkstatt-im-habitat/2027-05-15/
LOCATION:Das Habitat\, Beim Glaspalast 5\, Augsburg\, Germany
END:VEVENT
BEGIN:VEVENT
DTSTART;TZID=Europe/Berlin:20270522T100000
DTEND;TZID=Europe/Berlin:20270522T180000
DTSTAMP:20260420T190108
CREATED:20260123T190507Z
LAST-MODIFIED:20260123T190510Z
UID:10016133-1810980000-1811008800@auxpunks.uber.space
SUMMARY:Offene Werkstatt im Habitat
DESCRIPTION:Offene Werkstatt in Augsburg \n\n\n\nWährend der offenen Werkstatt kannst du an deinen eigenen Projekten in unseren Werkstätten arbeiten. Mehr Infos hier: https://das-habitat.de/offene-werkstatt/so-gehts
URL:https://auxpunks.uber.space/event/offene-werkstatt-im-habitat/2027-05-22/
LOCATION:Das Habitat\, Beim Glaspalast 5\, Augsburg\, Germany
END:VEVENT
BEGIN:VEVENT
DTSTART;TZID=Europe/Berlin:20270529T100000
DTEND;TZID=Europe/Berlin:20270529T180000
DTSTAMP:20260420T190108
CREATED:20260123T190507Z
LAST-MODIFIED:20260123T190510Z
UID:10016134-1811584800-1811613600@auxpunks.uber.space
SUMMARY:Offene Werkstatt im Habitat
DESCRIPTION:Offene Werkstatt in Augsburg \n\n\n\nWährend der offenen Werkstatt kannst du an deinen eigenen Projekten in unseren Werkstätten arbeiten. Mehr Infos hier: https://das-habitat.de/offene-werkstatt/so-gehts
URL:https://auxpunks.uber.space/event/offene-werkstatt-im-habitat/2027-05-29/
LOCATION:Das Habitat\, Beim Glaspalast 5\, Augsburg\, Germany
END:VEVENT
BEGIN:VEVENT
DTSTART;TZID=Europe/Berlin:20270605T100000
DTEND;TZID=Europe/Berlin:20270605T180000
DTSTAMP:20260420T190108
CREATED:20260123T190507Z
LAST-MODIFIED:20260123T190510Z
UID:10016135-1812189600-1812218400@auxpunks.uber.space
SUMMARY:Offene Werkstatt im Habitat
DESCRIPTION:Offene Werkstatt in Augsburg \n\n\n\nWährend der offenen Werkstatt kannst du an deinen eigenen Projekten in unseren Werkstätten arbeiten. Mehr Infos hier: https://das-habitat.de/offene-werkstatt/so-gehts
URL:https://auxpunks.uber.space/event/offene-werkstatt-im-habitat/2027-06-05/
LOCATION:Das Habitat\, Beim Glaspalast 5\, Augsburg\, Germany
END:VEVENT
BEGIN:VEVENT
DTSTART;TZID=Europe/Berlin:20270612T100000
DTEND;TZID=Europe/Berlin:20270612T180000
DTSTAMP:20260420T190108
CREATED:20260123T190507Z
LAST-MODIFIED:20260123T190510Z
UID:10016136-1812794400-1812823200@auxpunks.uber.space
SUMMARY:Offene Werkstatt im Habitat
DESCRIPTION:Offene Werkstatt in Augsburg \n\n\n\nWährend der offenen Werkstatt kannst du an deinen eigenen Projekten in unseren Werkstätten arbeiten. Mehr Infos hier: https://das-habitat.de/offene-werkstatt/so-gehts
URL:https://auxpunks.uber.space/event/offene-werkstatt-im-habitat/2027-06-12/
LOCATION:Das Habitat\, Beim Glaspalast 5\, Augsburg\, Germany
END:VEVENT
END:VCALENDAR