BEGIN:VCALENDAR
VERSION:2.0
PRODID:-//auxpunks - ECPv6.15.11//NONSGML v1.0//EN
CALSCALE:GREGORIAN
METHOD:PUBLISH
X-ORIGINAL-URL:https://auxpunks.uber.space
X-WR-CALDESC:Veranstaltungen für auxpunks
REFRESH-INTERVAL;VALUE=DURATION:PT1H
X-Robots-Tag:noindex
X-PUBLISHED-TTL:PT1H
BEGIN:VTIMEZONE
TZID:Europe/Berlin
BEGIN:DAYLIGHT
TZOFFSETFROM:+0100
TZOFFSETTO:+0200
TZNAME:CEST
DTSTART:20260329T010000
END:DAYLIGHT
BEGIN:STANDARD
TZOFFSETFROM:+0200
TZOFFSETTO:+0100
TZNAME:CET
DTSTART:20261025T010000
END:STANDARD
BEGIN:DAYLIGHT
TZOFFSETFROM:+0100
TZOFFSETTO:+0200
TZNAME:CEST
DTSTART:20270328T010000
END:DAYLIGHT
BEGIN:STANDARD
TZOFFSETFROM:+0200
TZOFFSETTO:+0100
TZNAME:CET
DTSTART:20271031T010000
END:STANDARD
BEGIN:DAYLIGHT
TZOFFSETFROM:+0100
TZOFFSETTO:+0200
TZNAME:CEST
DTSTART:20280326T010000
END:DAYLIGHT
BEGIN:STANDARD
TZOFFSETFROM:+0200
TZOFFSETTO:+0100
TZNAME:CET
DTSTART:20281029T010000
END:STANDARD
BEGIN:DAYLIGHT
TZOFFSETFROM:+0100
TZOFFSETTO:+0200
TZNAME:CEST
DTSTART:20290325T010000
END:DAYLIGHT
BEGIN:STANDARD
TZOFFSETFROM:+0200
TZOFFSETTO:+0100
TZNAME:CET
DTSTART:20291028T010000
END:STANDARD
END:VTIMEZONE
BEGIN:VEVENT
DTSTART;TZID=Europe/Berlin:20270619T100000
DTEND;TZID=Europe/Berlin:20270619T180000
DTSTAMP:20260420T233955
CREATED:20260123T190507Z
LAST-MODIFIED:20260123T190510Z
UID:10016137-1813399200-1813428000@auxpunks.uber.space
SUMMARY:Offene Werkstatt im Habitat
DESCRIPTION:Offene Werkstatt in Augsburg \n\n\n\nWährend der offenen Werkstatt kannst du an deinen eigenen Projekten in unseren Werkstätten arbeiten. Mehr Infos hier: https://das-habitat.de/offene-werkstatt/so-gehts
URL:https://auxpunks.uber.space/event/offene-werkstatt-im-habitat/2027-06-19/
LOCATION:Das Habitat\, Beim Glaspalast 5\, Augsburg\, Germany
END:VEVENT
BEGIN:VEVENT
DTSTART;TZID=Europe/Berlin:20270626T100000
DTEND;TZID=Europe/Berlin:20270626T180000
DTSTAMP:20260420T233955
CREATED:20260123T190507Z
LAST-MODIFIED:20260123T190510Z
UID:10016138-1814004000-1814032800@auxpunks.uber.space
SUMMARY:Offene Werkstatt im Habitat
DESCRIPTION:Offene Werkstatt in Augsburg \n\n\n\nWährend der offenen Werkstatt kannst du an deinen eigenen Projekten in unseren Werkstätten arbeiten. Mehr Infos hier: https://das-habitat.de/offene-werkstatt/so-gehts
URL:https://auxpunks.uber.space/event/offene-werkstatt-im-habitat/2027-06-26/
LOCATION:Das Habitat\, Beim Glaspalast 5\, Augsburg\, Germany
END:VEVENT
BEGIN:VEVENT
DTSTART;TZID=Europe/Berlin:20270703T100000
DTEND;TZID=Europe/Berlin:20270703T180000
DTSTAMP:20260420T233955
CREATED:20260123T190507Z
LAST-MODIFIED:20260123T190510Z
UID:10016139-1814608800-1814637600@auxpunks.uber.space
SUMMARY:Offene Werkstatt im Habitat
DESCRIPTION:Offene Werkstatt in Augsburg \n\n\n\nWährend der offenen Werkstatt kannst du an deinen eigenen Projekten in unseren Werkstätten arbeiten. Mehr Infos hier: https://das-habitat.de/offene-werkstatt/so-gehts
URL:https://auxpunks.uber.space/event/offene-werkstatt-im-habitat/2027-07-03/
LOCATION:Das Habitat\, Beim Glaspalast 5\, Augsburg\, Germany
END:VEVENT
BEGIN:VEVENT
DTSTART;TZID=Europe/Berlin:20270710T100000
DTEND;TZID=Europe/Berlin:20270710T180000
DTSTAMP:20260420T233955
CREATED:20260123T190507Z
LAST-MODIFIED:20260123T190510Z
UID:10016140-1815213600-1815242400@auxpunks.uber.space
SUMMARY:Offene Werkstatt im Habitat
DESCRIPTION:Offene Werkstatt in Augsburg \n\n\n\nWährend der offenen Werkstatt kannst du an deinen eigenen Projekten in unseren Werkstätten arbeiten. Mehr Infos hier: https://das-habitat.de/offene-werkstatt/so-gehts
URL:https://auxpunks.uber.space/event/offene-werkstatt-im-habitat/2027-07-10/
LOCATION:Das Habitat\, Beim Glaspalast 5\, Augsburg\, Germany
END:VEVENT
BEGIN:VEVENT
DTSTART;TZID=Europe/Berlin:20270717T100000
DTEND;TZID=Europe/Berlin:20270717T180000
DTSTAMP:20260420T233955
CREATED:20260123T190507Z
LAST-MODIFIED:20260123T190510Z
UID:10016141-1815818400-1815847200@auxpunks.uber.space
SUMMARY:Offene Werkstatt im Habitat
DESCRIPTION:Offene Werkstatt in Augsburg \n\n\n\nWährend der offenen Werkstatt kannst du an deinen eigenen Projekten in unseren Werkstätten arbeiten. Mehr Infos hier: https://das-habitat.de/offene-werkstatt/so-gehts
URL:https://auxpunks.uber.space/event/offene-werkstatt-im-habitat/2027-07-17/
LOCATION:Das Habitat\, Beim Glaspalast 5\, Augsburg\, Germany
END:VEVENT
BEGIN:VEVENT
DTSTART;TZID=Europe/Berlin:20270724T100000
DTEND;TZID=Europe/Berlin:20270724T180000
DTSTAMP:20260420T233955
CREATED:20260123T190507Z
LAST-MODIFIED:20260123T190510Z
UID:10016142-1816423200-1816452000@auxpunks.uber.space
SUMMARY:Offene Werkstatt im Habitat
DESCRIPTION:Offene Werkstatt in Augsburg \n\n\n\nWährend der offenen Werkstatt kannst du an deinen eigenen Projekten in unseren Werkstätten arbeiten. Mehr Infos hier: https://das-habitat.de/offene-werkstatt/so-gehts
URL:https://auxpunks.uber.space/event/offene-werkstatt-im-habitat/2027-07-24/
LOCATION:Das Habitat\, Beim Glaspalast 5\, Augsburg\, Germany
END:VEVENT
BEGIN:VEVENT
DTSTART;TZID=Europe/Berlin:20270731T100000
DTEND;TZID=Europe/Berlin:20270731T180000
DTSTAMP:20260420T233955
CREATED:20260123T190507Z
LAST-MODIFIED:20260123T190510Z
UID:10016143-1817028000-1817056800@auxpunks.uber.space
SUMMARY:Offene Werkstatt im Habitat
DESCRIPTION:Offene Werkstatt in Augsburg \n\n\n\nWährend der offenen Werkstatt kannst du an deinen eigenen Projekten in unseren Werkstätten arbeiten. Mehr Infos hier: https://das-habitat.de/offene-werkstatt/so-gehts
URL:https://auxpunks.uber.space/event/offene-werkstatt-im-habitat/2027-07-31/
LOCATION:Das Habitat\, Beim Glaspalast 5\, Augsburg\, Germany
END:VEVENT
BEGIN:VEVENT
DTSTART;TZID=Europe/Berlin:20270807T100000
DTEND;TZID=Europe/Berlin:20270807T180000
DTSTAMP:20260420T233955
CREATED:20260123T190507Z
LAST-MODIFIED:20260123T190510Z
UID:10016144-1817632800-1817661600@auxpunks.uber.space
SUMMARY:Offene Werkstatt im Habitat
DESCRIPTION:Offene Werkstatt in Augsburg \n\n\n\nWährend der offenen Werkstatt kannst du an deinen eigenen Projekten in unseren Werkstätten arbeiten. Mehr Infos hier: https://das-habitat.de/offene-werkstatt/so-gehts
URL:https://auxpunks.uber.space/event/offene-werkstatt-im-habitat/2027-08-07/
LOCATION:Das Habitat\, Beim Glaspalast 5\, Augsburg\, Germany
END:VEVENT
BEGIN:VEVENT
DTSTART;TZID=Europe/Berlin:20270814T100000
DTEND;TZID=Europe/Berlin:20270814T180000
DTSTAMP:20260420T233955
CREATED:20260123T190507Z
LAST-MODIFIED:20260123T190510Z
UID:10016145-1818237600-1818266400@auxpunks.uber.space
SUMMARY:Offene Werkstatt im Habitat
DESCRIPTION:Offene Werkstatt in Augsburg \n\n\n\nWährend der offenen Werkstatt kannst du an deinen eigenen Projekten in unseren Werkstätten arbeiten. Mehr Infos hier: https://das-habitat.de/offene-werkstatt/so-gehts
URL:https://auxpunks.uber.space/event/offene-werkstatt-im-habitat/2027-08-14/
LOCATION:Das Habitat\, Beim Glaspalast 5\, Augsburg\, Germany
END:VEVENT
BEGIN:VEVENT
DTSTART;TZID=Europe/Berlin:20270821T100000
DTEND;TZID=Europe/Berlin:20270821T180000
DTSTAMP:20260420T233955
CREATED:20260123T190507Z
LAST-MODIFIED:20260123T190510Z
UID:10016146-1818842400-1818871200@auxpunks.uber.space
SUMMARY:Offene Werkstatt im Habitat
DESCRIPTION:Offene Werkstatt in Augsburg \n\n\n\nWährend der offenen Werkstatt kannst du an deinen eigenen Projekten in unseren Werkstätten arbeiten. Mehr Infos hier: https://das-habitat.de/offene-werkstatt/so-gehts
URL:https://auxpunks.uber.space/event/offene-werkstatt-im-habitat/2027-08-21/
LOCATION:Das Habitat\, Beim Glaspalast 5\, Augsburg\, Germany
END:VEVENT
BEGIN:VEVENT
DTSTART;TZID=Europe/Berlin:20270828T100000
DTEND;TZID=Europe/Berlin:20270828T180000
DTSTAMP:20260420T233955
CREATED:20260123T190507Z
LAST-MODIFIED:20260123T190510Z
UID:10016147-1819447200-1819476000@auxpunks.uber.space
SUMMARY:Offene Werkstatt im Habitat
DESCRIPTION:Offene Werkstatt in Augsburg \n\n\n\nWährend der offenen Werkstatt kannst du an deinen eigenen Projekten in unseren Werkstätten arbeiten. Mehr Infos hier: https://das-habitat.de/offene-werkstatt/so-gehts
URL:https://auxpunks.uber.space/event/offene-werkstatt-im-habitat/2027-08-28/
LOCATION:Das Habitat\, Beim Glaspalast 5\, Augsburg\, Germany
END:VEVENT
BEGIN:VEVENT
DTSTART;TZID=Europe/Berlin:20270904T100000
DTEND;TZID=Europe/Berlin:20270904T180000
DTSTAMP:20260420T233955
CREATED:20260123T190507Z
LAST-MODIFIED:20260123T190510Z
UID:10016148-1820052000-1820080800@auxpunks.uber.space
SUMMARY:Offene Werkstatt im Habitat
DESCRIPTION:Offene Werkstatt in Augsburg \n\n\n\nWährend der offenen Werkstatt kannst du an deinen eigenen Projekten in unseren Werkstätten arbeiten. Mehr Infos hier: https://das-habitat.de/offene-werkstatt/so-gehts
URL:https://auxpunks.uber.space/event/offene-werkstatt-im-habitat/2027-09-04/
LOCATION:Das Habitat\, Beim Glaspalast 5\, Augsburg\, Germany
END:VEVENT
BEGIN:VEVENT
DTSTART;TZID=Europe/Berlin:20270911T100000
DTEND;TZID=Europe/Berlin:20270911T180000
DTSTAMP:20260420T233955
CREATED:20260123T190507Z
LAST-MODIFIED:20260123T190510Z
UID:10016149-1820656800-1820685600@auxpunks.uber.space
SUMMARY:Offene Werkstatt im Habitat
DESCRIPTION:Offene Werkstatt in Augsburg \n\n\n\nWährend der offenen Werkstatt kannst du an deinen eigenen Projekten in unseren Werkstätten arbeiten. Mehr Infos hier: https://das-habitat.de/offene-werkstatt/so-gehts
URL:https://auxpunks.uber.space/event/offene-werkstatt-im-habitat/2027-09-11/
LOCATION:Das Habitat\, Beim Glaspalast 5\, Augsburg\, Germany
END:VEVENT
BEGIN:VEVENT
DTSTART;TZID=Europe/Berlin:20270918T100000
DTEND;TZID=Europe/Berlin:20270918T180000
DTSTAMP:20260420T233955
CREATED:20260123T190507Z
LAST-MODIFIED:20260123T190510Z
UID:10016150-1821261600-1821290400@auxpunks.uber.space
SUMMARY:Offene Werkstatt im Habitat
DESCRIPTION:Offene Werkstatt in Augsburg \n\n\n\nWährend der offenen Werkstatt kannst du an deinen eigenen Projekten in unseren Werkstätten arbeiten. Mehr Infos hier: https://das-habitat.de/offene-werkstatt/so-gehts
URL:https://auxpunks.uber.space/event/offene-werkstatt-im-habitat/2027-09-18/
LOCATION:Das Habitat\, Beim Glaspalast 5\, Augsburg\, Germany
END:VEVENT
BEGIN:VEVENT
DTSTART;TZID=Europe/Berlin:20270925T100000
DTEND;TZID=Europe/Berlin:20270925T180000
DTSTAMP:20260420T233955
CREATED:20260123T190507Z
LAST-MODIFIED:20260123T190510Z
UID:10016151-1821866400-1821895200@auxpunks.uber.space
SUMMARY:Offene Werkstatt im Habitat
DESCRIPTION:Offene Werkstatt in Augsburg \n\n\n\nWährend der offenen Werkstatt kannst du an deinen eigenen Projekten in unseren Werkstätten arbeiten. Mehr Infos hier: https://das-habitat.de/offene-werkstatt/so-gehts
URL:https://auxpunks.uber.space/event/offene-werkstatt-im-habitat/2027-09-25/
LOCATION:Das Habitat\, Beim Glaspalast 5\, Augsburg\, Germany
END:VEVENT
BEGIN:VEVENT
DTSTART;TZID=Europe/Berlin:20271002T100000
DTEND;TZID=Europe/Berlin:20271002T180000
DTSTAMP:20260420T233955
CREATED:20260123T190507Z
LAST-MODIFIED:20260123T190510Z
UID:10016152-1822471200-1822500000@auxpunks.uber.space
SUMMARY:Offene Werkstatt im Habitat
DESCRIPTION:Offene Werkstatt in Augsburg \n\n\n\nWährend der offenen Werkstatt kannst du an deinen eigenen Projekten in unseren Werkstätten arbeiten. Mehr Infos hier: https://das-habitat.de/offene-werkstatt/so-gehts
URL:https://auxpunks.uber.space/event/offene-werkstatt-im-habitat/2027-10-02/
LOCATION:Das Habitat\, Beim Glaspalast 5\, Augsburg\, Germany
END:VEVENT
BEGIN:VEVENT
DTSTART;TZID=Europe/Berlin:20271009T100000
DTEND;TZID=Europe/Berlin:20271009T180000
DTSTAMP:20260420T233955
CREATED:20260123T190507Z
LAST-MODIFIED:20260123T190510Z
UID:10016153-1823076000-1823104800@auxpunks.uber.space
SUMMARY:Offene Werkstatt im Habitat
DESCRIPTION:Offene Werkstatt in Augsburg \n\n\n\nWährend der offenen Werkstatt kannst du an deinen eigenen Projekten in unseren Werkstätten arbeiten. Mehr Infos hier: https://das-habitat.de/offene-werkstatt/so-gehts
URL:https://auxpunks.uber.space/event/offene-werkstatt-im-habitat/2027-10-09/
LOCATION:Das Habitat\, Beim Glaspalast 5\, Augsburg\, Germany
END:VEVENT
BEGIN:VEVENT
DTSTART;TZID=Europe/Berlin:20271016T100000
DTEND;TZID=Europe/Berlin:20271016T180000
DTSTAMP:20260420T233955
CREATED:20260123T190507Z
LAST-MODIFIED:20260123T190510Z
UID:10016154-1823680800-1823709600@auxpunks.uber.space
SUMMARY:Offene Werkstatt im Habitat
DESCRIPTION:Offene Werkstatt in Augsburg \n\n\n\nWährend der offenen Werkstatt kannst du an deinen eigenen Projekten in unseren Werkstätten arbeiten. Mehr Infos hier: https://das-habitat.de/offene-werkstatt/so-gehts
URL:https://auxpunks.uber.space/event/offene-werkstatt-im-habitat/2027-10-16/
LOCATION:Das Habitat\, Beim Glaspalast 5\, Augsburg\, Germany
END:VEVENT
BEGIN:VEVENT
DTSTART;TZID=Europe/Berlin:20271023T100000
DTEND;TZID=Europe/Berlin:20271023T180000
DTSTAMP:20260420T233955
CREATED:20260123T190507Z
LAST-MODIFIED:20260123T190510Z
UID:10016155-1824285600-1824314400@auxpunks.uber.space
SUMMARY:Offene Werkstatt im Habitat
DESCRIPTION:Offene Werkstatt in Augsburg \n\n\n\nWährend der offenen Werkstatt kannst du an deinen eigenen Projekten in unseren Werkstätten arbeiten. Mehr Infos hier: https://das-habitat.de/offene-werkstatt/so-gehts
URL:https://auxpunks.uber.space/event/offene-werkstatt-im-habitat/2027-10-23/
LOCATION:Das Habitat\, Beim Glaspalast 5\, Augsburg\, Germany
END:VEVENT
BEGIN:VEVENT
DTSTART;TZID=Europe/Berlin:20271030T100000
DTEND;TZID=Europe/Berlin:20271030T180000
DTSTAMP:20260420T233955
CREATED:20260123T190507Z
LAST-MODIFIED:20260123T190510Z
UID:10016156-1824890400-1824919200@auxpunks.uber.space
SUMMARY:Offene Werkstatt im Habitat
DESCRIPTION:Offene Werkstatt in Augsburg \n\n\n\nWährend der offenen Werkstatt kannst du an deinen eigenen Projekten in unseren Werkstätten arbeiten. Mehr Infos hier: https://das-habitat.de/offene-werkstatt/so-gehts
URL:https://auxpunks.uber.space/event/offene-werkstatt-im-habitat/2027-10-30/
LOCATION:Das Habitat\, Beim Glaspalast 5\, Augsburg\, Germany
END:VEVENT
BEGIN:VEVENT
DTSTART;TZID=Europe/Berlin:20271106T100000
DTEND;TZID=Europe/Berlin:20271106T180000
DTSTAMP:20260420T233955
CREATED:20260123T190507Z
LAST-MODIFIED:20260123T190510Z
UID:10016157-1825495200-1825524000@auxpunks.uber.space
SUMMARY:Offene Werkstatt im Habitat
DESCRIPTION:Offene Werkstatt in Augsburg \n\n\n\nWährend der offenen Werkstatt kannst du an deinen eigenen Projekten in unseren Werkstätten arbeiten. Mehr Infos hier: https://das-habitat.de/offene-werkstatt/so-gehts
URL:https://auxpunks.uber.space/event/offene-werkstatt-im-habitat/2027-11-06/
LOCATION:Das Habitat\, Beim Glaspalast 5\, Augsburg\, Germany
END:VEVENT
BEGIN:VEVENT
DTSTART;TZID=Europe/Berlin:20271113T100000
DTEND;TZID=Europe/Berlin:20271113T180000
DTSTAMP:20260420T233955
CREATED:20260123T190507Z
LAST-MODIFIED:20260123T190510Z
UID:10016158-1826100000-1826128800@auxpunks.uber.space
SUMMARY:Offene Werkstatt im Habitat
DESCRIPTION:Offene Werkstatt in Augsburg \n\n\n\nWährend der offenen Werkstatt kannst du an deinen eigenen Projekten in unseren Werkstätten arbeiten. Mehr Infos hier: https://das-habitat.de/offene-werkstatt/so-gehts
URL:https://auxpunks.uber.space/event/offene-werkstatt-im-habitat/2027-11-13/
LOCATION:Das Habitat\, Beim Glaspalast 5\, Augsburg\, Germany
END:VEVENT
BEGIN:VEVENT
DTSTART;TZID=Europe/Berlin:20271120T100000
DTEND;TZID=Europe/Berlin:20271120T180000
DTSTAMP:20260420T233955
CREATED:20260123T190507Z
LAST-MODIFIED:20260123T190510Z
UID:10016159-1826704800-1826733600@auxpunks.uber.space
SUMMARY:Offene Werkstatt im Habitat
DESCRIPTION:Offene Werkstatt in Augsburg \n\n\n\nWährend der offenen Werkstatt kannst du an deinen eigenen Projekten in unseren Werkstätten arbeiten. Mehr Infos hier: https://das-habitat.de/offene-werkstatt/so-gehts
URL:https://auxpunks.uber.space/event/offene-werkstatt-im-habitat/2027-11-20/
LOCATION:Das Habitat\, Beim Glaspalast 5\, Augsburg\, Germany
END:VEVENT
BEGIN:VEVENT
DTSTART;TZID=Europe/Berlin:20271127T100000
DTEND;TZID=Europe/Berlin:20271127T180000
DTSTAMP:20260420T233955
CREATED:20260123T190507Z
LAST-MODIFIED:20260123T190510Z
UID:10016160-1827309600-1827338400@auxpunks.uber.space
SUMMARY:Offene Werkstatt im Habitat
DESCRIPTION:Offene Werkstatt in Augsburg \n\n\n\nWährend der offenen Werkstatt kannst du an deinen eigenen Projekten in unseren Werkstätten arbeiten. Mehr Infos hier: https://das-habitat.de/offene-werkstatt/so-gehts
URL:https://auxpunks.uber.space/event/offene-werkstatt-im-habitat/2027-11-27/
LOCATION:Das Habitat\, Beim Glaspalast 5\, Augsburg\, Germany
END:VEVENT
BEGIN:VEVENT
DTSTART;TZID=Europe/Berlin:20271204T100000
DTEND;TZID=Europe/Berlin:20271204T180000
DTSTAMP:20260420T233955
CREATED:20260123T190507Z
LAST-MODIFIED:20260123T190510Z
UID:10016161-1827914400-1827943200@auxpunks.uber.space
SUMMARY:Offene Werkstatt im Habitat
DESCRIPTION:Offene Werkstatt in Augsburg \n\n\n\nWährend der offenen Werkstatt kannst du an deinen eigenen Projekten in unseren Werkstätten arbeiten. Mehr Infos hier: https://das-habitat.de/offene-werkstatt/so-gehts
URL:https://auxpunks.uber.space/event/offene-werkstatt-im-habitat/2027-12-04/
LOCATION:Das Habitat\, Beim Glaspalast 5\, Augsburg\, Germany
END:VEVENT
BEGIN:VEVENT
DTSTART;TZID=Europe/Berlin:20271211T100000
DTEND;TZID=Europe/Berlin:20271211T180000
DTSTAMP:20260420T233955
CREATED:20260123T190507Z
LAST-MODIFIED:20260123T190510Z
UID:10016162-1828519200-1828548000@auxpunks.uber.space
SUMMARY:Offene Werkstatt im Habitat
DESCRIPTION:Offene Werkstatt in Augsburg \n\n\n\nWährend der offenen Werkstatt kannst du an deinen eigenen Projekten in unseren Werkstätten arbeiten. Mehr Infos hier: https://das-habitat.de/offene-werkstatt/so-gehts
URL:https://auxpunks.uber.space/event/offene-werkstatt-im-habitat/2027-12-11/
LOCATION:Das Habitat\, Beim Glaspalast 5\, Augsburg\, Germany
END:VEVENT
BEGIN:VEVENT
DTSTART;TZID=Europe/Berlin:20271218T100000
DTEND;TZID=Europe/Berlin:20271218T180000
DTSTAMP:20260420T233955
CREATED:20260123T190507Z
LAST-MODIFIED:20260123T190510Z
UID:10016163-1829124000-1829152800@auxpunks.uber.space
SUMMARY:Offene Werkstatt im Habitat
DESCRIPTION:Offene Werkstatt in Augsburg \n\n\n\nWährend der offenen Werkstatt kannst du an deinen eigenen Projekten in unseren Werkstätten arbeiten. Mehr Infos hier: https://das-habitat.de/offene-werkstatt/so-gehts
URL:https://auxpunks.uber.space/event/offene-werkstatt-im-habitat/2027-12-18/
LOCATION:Das Habitat\, Beim Glaspalast 5\, Augsburg\, Germany
END:VEVENT
BEGIN:VEVENT
DTSTART;TZID=Europe/Berlin:20271225T100000
DTEND;TZID=Europe/Berlin:20271225T180000
DTSTAMP:20260420T233955
CREATED:20260123T190507Z
LAST-MODIFIED:20260123T190510Z
UID:10016164-1829728800-1829757600@auxpunks.uber.space
SUMMARY:Offene Werkstatt im Habitat
DESCRIPTION:Offene Werkstatt in Augsburg \n\n\n\nWährend der offenen Werkstatt kannst du an deinen eigenen Projekten in unseren Werkstätten arbeiten. Mehr Infos hier: https://das-habitat.de/offene-werkstatt/so-gehts
URL:https://auxpunks.uber.space/event/offene-werkstatt-im-habitat/2027-12-25/
LOCATION:Das Habitat\, Beim Glaspalast 5\, Augsburg\, Germany
END:VEVENT
BEGIN:VEVENT
DTSTART;TZID=Europe/Berlin:20280101T100000
DTEND;TZID=Europe/Berlin:20280101T180000
DTSTAMP:20260420T233955
CREATED:20260123T190507Z
LAST-MODIFIED:20260123T190510Z
UID:10016165-1830333600-1830362400@auxpunks.uber.space
SUMMARY:Offene Werkstatt im Habitat
DESCRIPTION:Offene Werkstatt in Augsburg \n\n\n\nWährend der offenen Werkstatt kannst du an deinen eigenen Projekten in unseren Werkstätten arbeiten. Mehr Infos hier: https://das-habitat.de/offene-werkstatt/so-gehts
URL:https://auxpunks.uber.space/event/offene-werkstatt-im-habitat/2028-01-01/
LOCATION:Das Habitat\, Beim Glaspalast 5\, Augsburg\, Germany
END:VEVENT
BEGIN:VEVENT
DTSTART;TZID=Europe/Berlin:20280108T100000
DTEND;TZID=Europe/Berlin:20280108T180000
DTSTAMP:20260420T233955
CREATED:20260123T190507Z
LAST-MODIFIED:20260123T190510Z
UID:10016166-1830938400-1830967200@auxpunks.uber.space
SUMMARY:Offene Werkstatt im Habitat
DESCRIPTION:Offene Werkstatt in Augsburg \n\n\n\nWährend der offenen Werkstatt kannst du an deinen eigenen Projekten in unseren Werkstätten arbeiten. Mehr Infos hier: https://das-habitat.de/offene-werkstatt/so-gehts
URL:https://auxpunks.uber.space/event/offene-werkstatt-im-habitat/2028-01-08/
LOCATION:Das Habitat\, Beim Glaspalast 5\, Augsburg\, Germany
END:VEVENT
END:VCALENDAR