BEGIN:VCALENDAR
VERSION:2.0
PRODID:-//auxpunks - ECPv6.15.11//NONSGML v1.0//EN
CALSCALE:GREGORIAN
METHOD:PUBLISH
X-WR-CALNAME:auxpunks
X-ORIGINAL-URL:https://auxpunks.uber.space
X-WR-CALDESC:Veranstaltungen für auxpunks
REFRESH-INTERVAL;VALUE=DURATION:PT1H
X-Robots-Tag:noindex
X-PUBLISHED-TTL:PT1H
BEGIN:VTIMEZONE
TZID:Europe/Berlin
BEGIN:DAYLIGHT
TZOFFSETFROM:+0100
TZOFFSETTO:+0200
TZNAME:CEST
DTSTART:20230326T010000
END:DAYLIGHT
BEGIN:STANDARD
TZOFFSETFROM:+0200
TZOFFSETTO:+0100
TZNAME:CET
DTSTART:20231029T010000
END:STANDARD
BEGIN:DAYLIGHT
TZOFFSETFROM:+0100
TZOFFSETTO:+0200
TZNAME:CEST
DTSTART:20240331T010000
END:DAYLIGHT
BEGIN:STANDARD
TZOFFSETFROM:+0200
TZOFFSETTO:+0100
TZNAME:CET
DTSTART:20241027T010000
END:STANDARD
BEGIN:DAYLIGHT
TZOFFSETFROM:+0100
TZOFFSETTO:+0200
TZNAME:CEST
DTSTART:20250330T010000
END:DAYLIGHT
BEGIN:STANDARD
TZOFFSETFROM:+0200
TZOFFSETTO:+0100
TZNAME:CET
DTSTART:20251026T010000
END:STANDARD
END:VTIMEZONE
BEGIN:VEVENT
DTSTART;TZID=Europe/Berlin:20240525T153000
DTEND;TZID=Europe/Berlin:20240525T183000
DTSTAMP:20260420T170749
CREATED:20240521T113905Z
LAST-MODIFIED:20240521T113905Z
UID:10014088-1716651000-1716661800@auxpunks.uber.space
SUMMARY:Verkaufsoffener Samstag in der Seiferei
DESCRIPTION:Die ganze Produktpalette (https://seiferei.noblogs.org/waren/)\, im Vor-Ort-Verkauf!\nJeden Samstag Nachmittag!\n\nGegen Porto versenden wir auch im gesamten Bundesgebiet.\nFahrrad-Auslieferungen im Stadtgebiet können wir momentan nur in Ausnahmefällen gewährleisten\, fragt einfach nach…\n\nBestellungen und Anfragen an seiferei@riseup.net oder hier per PN.\nSauber bleiben!\n\nUnd was ist eigentlich Die Seiferei – selbstverwaltet & solidarisch? Das erfahrt ihr hier: https://seiferei.noblogs.org/
URL:https://auxpunks.uber.space/event/verkaufsoffener-samstag-in-der-seiferei-5/
LOCATION:Grandhotel Cosmopolis\, SPRINGERGÄSSCHEN 5\, Augsburg\, 86152\, Deutschland
CATEGORIES:Highlights
END:VEVENT
BEGIN:VEVENT
DTSTART;TZID=Europe/Berlin:20240518T153000
DTEND;TZID=Europe/Berlin:20240518T183000
DTSTAMP:20260420T170749
CREATED:20240521T113905Z
LAST-MODIFIED:20240521T113905Z
UID:10014087-1716046200-1716057000@auxpunks.uber.space
SUMMARY:Verkaufsoffener Samstag in der Seiferei
DESCRIPTION:Die ganze Produktpalette (https://seiferei.noblogs.org/waren/)\, im Vor-Ort-Verkauf!\nJeden Samstag Nachmittag!\n\nGegen Porto versenden wir auch im gesamten Bundesgebiet.\nFahrrad-Auslieferungen im Stadtgebiet können wir momentan nur in Ausnahmefällen gewährleisten\, fragt einfach nach…\n\nBestellungen und Anfragen an seiferei@riseup.net oder hier per PN.\nSauber bleiben!\n\nUnd was ist eigentlich Die Seiferei – selbstverwaltet & solidarisch? Das erfahrt ihr hier: https://seiferei.noblogs.org/
URL:https://auxpunks.uber.space/event/verkaufsoffener-samstag-in-der-seiferei-4/
LOCATION:Grandhotel Cosmopolis\, SPRINGERGÄSSCHEN 5\, Augsburg\, 86152\, Deutschland
CATEGORIES:Highlights
END:VEVENT
END:VCALENDAR