BEGIN:VCALENDAR
VERSION:2.0
PRODID:-//auxpunks - ECPv6.15.11//NONSGML v1.0//EN
CALSCALE:GREGORIAN
METHOD:PUBLISH
X-ORIGINAL-URL:https://auxpunks.uber.space
X-WR-CALDESC:Veranstaltungen für auxpunks
REFRESH-INTERVAL;VALUE=DURATION:PT1H
X-Robots-Tag:noindex
X-PUBLISHED-TTL:PT1H
BEGIN:VTIMEZONE
TZID:Europe/Berlin
BEGIN:DAYLIGHT
TZOFFSETFROM:+0100
TZOFFSETTO:+0200
TZNAME:CEST
DTSTART:20250330T010000
END:DAYLIGHT
BEGIN:STANDARD
TZOFFSETFROM:+0200
TZOFFSETTO:+0100
TZNAME:CET
DTSTART:20251026T010000
END:STANDARD
BEGIN:DAYLIGHT
TZOFFSETFROM:+0100
TZOFFSETTO:+0200
TZNAME:CEST
DTSTART:20260329T010000
END:DAYLIGHT
BEGIN:STANDARD
TZOFFSETFROM:+0200
TZOFFSETTO:+0100
TZNAME:CET
DTSTART:20261025T010000
END:STANDARD
BEGIN:DAYLIGHT
TZOFFSETFROM:+0100
TZOFFSETTO:+0200
TZNAME:CEST
DTSTART:20270328T010000
END:DAYLIGHT
BEGIN:STANDARD
TZOFFSETFROM:+0200
TZOFFSETTO:+0100
TZNAME:CET
DTSTART:20271031T010000
END:STANDARD
END:VTIMEZONE
BEGIN:VEVENT
DTSTART;TZID=Europe/Berlin:20260124T100000
DTEND;TZID=Europe/Berlin:20260124T180000
DTSTAMP:20260421T030649
CREATED:20260115T075038Z
LAST-MODIFIED:20260115T075039Z
UID:10016052-1769248800-1769277600@auxpunks.uber.space
SUMMARY:Kleidertausch in der Karo 10
DESCRIPTION:So läuft der Kleidertausch ab:\n\n👖 Du kannst bis zu 10 gut erhaltene\, frisch gewaschene Kleidungsstücke mitbringen und diese am Eingang abgeben. Für jedes mitgebrachte Teil bekommst du von uns ein Token.\n\n👗 Anschließend kannst du durch die Kleidung stöbern\, die andere zum Tausch mitgebracht haben und sie auch anprobieren. Was dir gefällt\, kannst du am Ausgang gegen deine Tokens eintauschen. In der Regel ist es sogar möglich\, etwas mehr Kleidung mitzunehmen\, als du selbst mitgebracht hast.\n\n👟 Größe\, Geschlecht\, Jahreszeit – völlig egal\, wir freuen uns über alle möglichen Kleidungsstücke. Nur bei Unterhosen und Socken nehmen wir nur ungetragene Teile an.
URL:https://auxpunks.uber.space/event/kleidertausch-in-der-karo-10/
LOCATION:Karo 10\, Karolinenstraße 10\, Augsburg\, 86150
CATEGORIES:Klimagerechtigkeit
ATTACH;FMTTYPE=image/png:https://auxpunks.uber.space/wp-content/uploads/2026/01/GreenpeaceKleidertausch.png
END:VEVENT
END:VCALENDAR