BEGIN:VCALENDAR
VERSION:2.0
PRODID:-//auxpunks - ECPv6.15.11//NONSGML v1.0//EN
CALSCALE:GREGORIAN
METHOD:PUBLISH
X-WR-CALNAME:auxpunks
X-ORIGINAL-URL:https://auxpunks.uber.space
X-WR-CALDESC:Veranstaltungen für auxpunks
REFRESH-INTERVAL;VALUE=DURATION:PT1H
X-Robots-Tag:noindex
X-PUBLISHED-TTL:PT1H
BEGIN:VTIMEZONE
TZID:Europe/Berlin
BEGIN:DAYLIGHT
TZOFFSETFROM:+0100
TZOFFSETTO:+0200
TZNAME:CEST
DTSTART:20250330T010000
END:DAYLIGHT
BEGIN:STANDARD
TZOFFSETFROM:+0200
TZOFFSETTO:+0100
TZNAME:CET
DTSTART:20251026T010000
END:STANDARD
BEGIN:DAYLIGHT
TZOFFSETFROM:+0100
TZOFFSETTO:+0200
TZNAME:CEST
DTSTART:20260329T010000
END:DAYLIGHT
BEGIN:STANDARD
TZOFFSETFROM:+0200
TZOFFSETTO:+0100
TZNAME:CET
DTSTART:20261025T010000
END:STANDARD
BEGIN:DAYLIGHT
TZOFFSETFROM:+0100
TZOFFSETTO:+0200
TZNAME:CEST
DTSTART:20270328T010000
END:DAYLIGHT
BEGIN:STANDARD
TZOFFSETFROM:+0200
TZOFFSETTO:+0100
TZNAME:CET
DTSTART:20271031T010000
END:STANDARD
END:VTIMEZONE
BEGIN:VEVENT
DTSTART;TZID=Europe/Berlin:20260206T180000
DTEND;TZID=Europe/Berlin:20260206T200000
DTSTAMP:20260421T014122
CREATED:20260117T090720Z
LAST-MODIFIED:20260117T090721Z
UID:10016056-1770400800-1770408000@auxpunks.uber.space
SUMMARY:Kunstausstellung „Nicht ohne uns! Über(s)leben mit ME/CFS\, Post-Covid und Post-Vac“
DESCRIPTION:Vom 6. bis 28. Februar findet im Zeughaus Augsburg die Ausstellung „Nicht ohne uns! Über(s)leben mit ME/CFS\, Post-Covid und Post-Vac“ statt.\nÜber 50 Künstler*innen\, die von ME/CFS\, Post-Covid und Post-Vac betroffen sind\, und deren Angehörige geben Einblicke in ihren Alltag und den gesellschaftlichen und politischen Umgang mit ihrer Erkrankung. Die Ausstellung schafft Sichtbarkeit und erinnert daran\, dass die Betroffenen nicht vergessen werden dürfen.\nOrganisiert und kuratiert wurde die Ausstellung von der Initiative LiegendDemo Augsburg. (Insta: @mecfs.augsburg) \nWir laden herzlich zur Vernissage am 6. Februar um 18 Uhr im Zeughaus ein.\nDer Eintritt zur Ausstellung ist frei.\nFür digitale Inhalte bringe gerne Kopfhörer mit.
URL:https://auxpunks.uber.space/event/kunstausstellung-nicht-ohne-uns-uebersleben-mit-me-cfs-post-covid-und-post-vac/2026-02-06/2/
LOCATION:Zeughaus Augsburg
CATEGORIES:Theater, Austellungen & Lesungen
ATTACH;FMTTYPE=image/jpeg:https://auxpunks.uber.space/wp-content/uploads/2026/01/1000058641.jpg
ORGANIZER;CN="Initiative LiegenDemo Augsburg":MAILTO:Liegenddemo.augsburg@gmail.com
END:VEVENT
BEGIN:VEVENT
DTSTART;TZID=Europe/Berlin:20260206T080000
DTEND;TZID=Europe/Berlin:20260207T200000
DTSTAMP:20260421T014122
CREATED:20260117T090720Z
LAST-MODIFIED:20260117T090721Z
UID:10016055-1770364800-1770494400@auxpunks.uber.space
SUMMARY:Kunstausstellung „Nicht ohne uns! Über(s)leben mit ME/CFS\, Post-Covid und Post-Vac“
DESCRIPTION:Vom 6. bis 28. Februar findet im Zeughaus Augsburg die Ausstellung „Nicht ohne uns! Über(s)leben mit ME/CFS\, Post-Covid und Post-Vac“ statt.\nÜber 50 Künstler*innen\, die von ME/CFS\, Post-Covid und Post-Vac betroffen sind\, und deren Angehörige geben Einblicke in ihren Alltag und den gesellschaftlichen und politischen Umgang mit ihrer Erkrankung. Die Ausstellung schafft Sichtbarkeit und erinnert daran\, dass die Betroffenen nicht vergessen werden dürfen.\nOrganisiert und kuratiert wurde die Ausstellung von der Initiative LiegendDemo Augsburg. (Insta: @mecfs.augsburg) \nWir laden herzlich zur Vernissage am 6. Februar um 18 Uhr im Zeughaus ein.\nDer Eintritt zur Ausstellung ist frei.\nFür digitale Inhalte bringe gerne Kopfhörer mit.
URL:https://auxpunks.uber.space/event/kunstausstellung-nicht-ohne-uns-uebersleben-mit-me-cfs-post-covid-und-post-vac/2026-02-06/1/
LOCATION:Zeughaus Augsburg
CATEGORIES:Theater, Austellungen & Lesungen
ATTACH;FMTTYPE=image/jpeg:https://auxpunks.uber.space/wp-content/uploads/2026/01/1000058641.jpg
ORGANIZER;CN="Initiative LiegenDemo Augsburg":MAILTO:Liegenddemo.augsburg@gmail.com
END:VEVENT
END:VCALENDAR