BEGIN:VCALENDAR
VERSION:2.0
PRODID:-//auxpunks - ECPv6.15.11//NONSGML v1.0//EN
CALSCALE:GREGORIAN
METHOD:PUBLISH
X-WR-CALNAME:auxpunks
X-ORIGINAL-URL:https://auxpunks.uber.space
X-WR-CALDESC:Veranstaltungen für auxpunks
REFRESH-INTERVAL;VALUE=DURATION:PT1H
X-Robots-Tag:noindex
X-PUBLISHED-TTL:PT1H
BEGIN:VTIMEZONE
TZID:Europe/Berlin
BEGIN:DAYLIGHT
TZOFFSETFROM:+0100
TZOFFSETTO:+0200
TZNAME:CEST
DTSTART:20240331T010000
END:DAYLIGHT
BEGIN:STANDARD
TZOFFSETFROM:+0200
TZOFFSETTO:+0100
TZNAME:CET
DTSTART:20241027T010000
END:STANDARD
BEGIN:DAYLIGHT
TZOFFSETFROM:+0100
TZOFFSETTO:+0200
TZNAME:CEST
DTSTART:20250330T010000
END:DAYLIGHT
BEGIN:STANDARD
TZOFFSETFROM:+0200
TZOFFSETTO:+0100
TZNAME:CET
DTSTART:20251026T010000
END:STANDARD
BEGIN:DAYLIGHT
TZOFFSETFROM:+0100
TZOFFSETTO:+0200
TZNAME:CEST
DTSTART:20260329T010000
END:DAYLIGHT
BEGIN:STANDARD
TZOFFSETFROM:+0200
TZOFFSETTO:+0100
TZNAME:CET
DTSTART:20261025T010000
END:STANDARD
END:VTIMEZONE
BEGIN:VEVENT
DTSTART;TZID=Europe/Berlin:20251024T190000
DTEND;TZID=Europe/Berlin:20251024T230000
DTSTAMP:20260421T032616
CREATED:20251022T073155Z
LAST-MODIFIED:20251022T073156Z
UID:10015921-1761332400-1761346800@auxpunks.uber.space
SUMMARY:Plan B: 20 Jahre Lärm
DESCRIPTION:Die Augsburger Punkrockband Plan B wird 20 Jahre alt und feiert ein großes Geburtstagskonzert in der Ballonfabrik. Als Special Guests sind der Augsburger Kneipenchor und Koje (Ex Benzin\, Go Go Gazelle) dabei. Zum Jubiläum von Plan B erscheint parallel ein neues Album namens „Hoffnung Haltung Heiserkeit“.\nVorverkauf: www.planb.band/shop
URL:https://auxpunks.uber.space/event/plan-b-20-jahre-laerm/
LOCATION:Ballonfabrik Augsburg – Fabrik Unique\, Austr. 27\, Augsburg\, Bayern\, Deutschland
CATEGORIES:Konzerte & Feiern
ATTACH;FMTTYPE=image/jpeg:https://auxpunks.uber.space/wp-content/uploads/2025/10/post-plan-b.jpeg
ORGANIZER;CN="Kellerkinder Productions":MAILTO:mail@planb.band
END:VEVENT
END:VCALENDAR