BEGIN:VCALENDAR
VERSION:2.0
PRODID:-//auxpunks - ECPv6.15.11//NONSGML v1.0//EN
CALSCALE:GREGORIAN
METHOD:PUBLISH
X-WR-CALNAME:auxpunks
X-ORIGINAL-URL:https://auxpunks.uber.space
X-WR-CALDESC:Veranstaltungen für auxpunks
REFRESH-INTERVAL;VALUE=DURATION:PT1H
X-Robots-Tag:noindex
X-PUBLISHED-TTL:PT1H
BEGIN:VTIMEZONE
TZID:Europe/Berlin
BEGIN:DAYLIGHT
TZOFFSETFROM:+0100
TZOFFSETTO:+0200
TZNAME:CEST
DTSTART:20250330T010000
END:DAYLIGHT
BEGIN:STANDARD
TZOFFSETFROM:+0200
TZOFFSETTO:+0100
TZNAME:CET
DTSTART:20251026T010000
END:STANDARD
BEGIN:DAYLIGHT
TZOFFSETFROM:+0100
TZOFFSETTO:+0200
TZNAME:CEST
DTSTART:20260329T010000
END:DAYLIGHT
BEGIN:STANDARD
TZOFFSETFROM:+0200
TZOFFSETTO:+0100
TZNAME:CET
DTSTART:20261025T010000
END:STANDARD
BEGIN:DAYLIGHT
TZOFFSETFROM:+0100
TZOFFSETTO:+0200
TZNAME:CEST
DTSTART:20270328T010000
END:DAYLIGHT
BEGIN:STANDARD
TZOFFSETFROM:+0200
TZOFFSETTO:+0100
TZNAME:CET
DTSTART:20271031T010000
END:STANDARD
END:VTIMEZONE
BEGIN:VEVENT
DTSTART;TZID=Europe/Berlin:20260602T180000
DTEND;TZID=Europe/Berlin:20260607T180000
DTSTAMP:20260420T135414
CREATED:20260406T201811Z
LAST-MODIFIED:20260406T201812Z
UID:10016709-1780423200-1780855200@auxpunks.uber.space
SUMMARY:Klimacamp 2026
DESCRIPTION:Vom 02.06. – 07.06. campieren wir im Wittelsbacher Park in Augsburg wieder für eine klimagerechte Zukunft! 🌍💚\n\nMit Workshops\, Vernetzung\, Aktionen\, Filmabenden und vielem mehr.\n\nKommt vorbei\, vernetzt euch\, lernt mit uns gemeinsam und werdet Teil der Klimagerechtigkeitsbewegung. \n\nDie Küfa kümmert sich um das Essen und bietet vegane Verpflegung an. 🍲🥗
URL:https://auxpunks.uber.space/event/klimacamp-2026/
LOCATION:Wittelsbacher Park\, Wittelsbacher Park\, Augsburg
CATEGORIES:Klimagerechtigkeit
ATTACH;FMTTYPE=image/jpeg:https://auxpunks.uber.space/wp-content/uploads/2026/04/Sharepic_2026_q.jpeg
END:VEVENT
END:VCALENDAR