BEGIN:VCALENDAR
VERSION:2.0
PRODID:-//auxpunks - ECPv6.15.11//NONSGML v1.0//EN
CALSCALE:GREGORIAN
METHOD:PUBLISH
X-ORIGINAL-URL:https://auxpunks.uber.space
X-WR-CALDESC:Veranstaltungen für auxpunks
REFRESH-INTERVAL;VALUE=DURATION:PT1H
X-Robots-Tag:noindex
X-PUBLISHED-TTL:PT1H
BEGIN:VTIMEZONE
TZID:Europe/Berlin
BEGIN:DAYLIGHT
TZOFFSETFROM:+0100
TZOFFSETTO:+0200
TZNAME:CEST
DTSTART:20230326T010000
END:DAYLIGHT
BEGIN:STANDARD
TZOFFSETFROM:+0200
TZOFFSETTO:+0100
TZNAME:CET
DTSTART:20231029T010000
END:STANDARD
BEGIN:DAYLIGHT
TZOFFSETFROM:+0100
TZOFFSETTO:+0200
TZNAME:CEST
DTSTART:20240331T010000
END:DAYLIGHT
BEGIN:STANDARD
TZOFFSETFROM:+0200
TZOFFSETTO:+0100
TZNAME:CET
DTSTART:20241027T010000
END:STANDARD
BEGIN:DAYLIGHT
TZOFFSETFROM:+0100
TZOFFSETTO:+0200
TZNAME:CEST
DTSTART:20250330T010000
END:DAYLIGHT
BEGIN:STANDARD
TZOFFSETFROM:+0200
TZOFFSETTO:+0100
TZNAME:CET
DTSTART:20251026T010000
END:STANDARD
END:VTIMEZONE
BEGIN:VEVENT
DTSTART;TZID=Europe/Berlin:20240613T200000
DTEND;TZID=Europe/Berlin:20240613T230000
DTSTAMP:20260420T214807
CREATED:20240521T113906Z
LAST-MODIFIED:20240521T113906Z
UID:10014092-1718308800-1718319600@auxpunks.uber.space
SUMMARY:HARRAGA - Film und Publikumsgespräch
DESCRIPTION:Imad\, Nourdine\, Walid und Hamza wohnen in einer Steinhöhle unter einem Leuchtturm in Melilla. Jede Nacht brechen die marokkanischen Teenager in den naheliegenden Hafen ein. Dort versuchen sie unbemerkt auf Schiffe zu klettern\, die zum spanischen Festland fahren. Sie und Dutzende andere Kinder haben im Schutz der Felsen ihre eigene Gesellschaft gegründet. Regisseur Benjamin Rost dokumentiert das beeindruckende Leben der Jugendlichen fünf Jahre lang. Harraga beschreibt die verbreitete Praxis\, dass die illegalen nordafrikanischen Einwanderer bei einer Festnahme durch die Polizei ihre Papiere und somit auch ihre Identität verbrennen. Ein ergreifender Dokumentarfilm\, der einen Einblick in eine unbekannte Welt bietet.\n\nScreening: 20 Uhr im Liliomkino – VVK über Liliom\nPublikumsgespräch im Anschluss mit dem Filmteam\, Protagonist und Grandhotel Cosmopolis u.a. \n\nAusklang mit Musik von „Cozy Lobby“ im Grandhotel Cosmopolis\, ca 21:30 bis 23:00
URL:https://auxpunks.uber.space/event/harraga-film-und-publikumsgespraech/
LOCATION:Grandhotel Cosmopolis\, SPRINGERGÄSSCHEN 5\, Augsburg\, 86152\, Deutschland
CATEGORIES:Vorträge, Filme & Workshops
END:VEVENT
END:VCALENDAR