BEGIN:VCALENDAR
VERSION:2.0
PRODID:-//auxpunks - ECPv6.15.11//NONSGML v1.0//EN
CALSCALE:GREGORIAN
METHOD:PUBLISH
X-ORIGINAL-URL:https://auxpunks.uber.space
X-WR-CALDESC:Veranstaltungen für auxpunks
REFRESH-INTERVAL;VALUE=DURATION:PT1H
X-Robots-Tag:noindex
X-PUBLISHED-TTL:PT1H
BEGIN:VTIMEZONE
TZID:Europe/Berlin
BEGIN:DAYLIGHT
TZOFFSETFROM:+0100
TZOFFSETTO:+0200
TZNAME:CEST
DTSTART:20230326T010000
END:DAYLIGHT
BEGIN:STANDARD
TZOFFSETFROM:+0200
TZOFFSETTO:+0100
TZNAME:CET
DTSTART:20231029T010000
END:STANDARD
BEGIN:DAYLIGHT
TZOFFSETFROM:+0100
TZOFFSETTO:+0200
TZNAME:CEST
DTSTART:20240331T010000
END:DAYLIGHT
BEGIN:STANDARD
TZOFFSETFROM:+0200
TZOFFSETTO:+0100
TZNAME:CET
DTSTART:20241027T010000
END:STANDARD
BEGIN:DAYLIGHT
TZOFFSETFROM:+0100
TZOFFSETTO:+0200
TZNAME:CEST
DTSTART:20250330T010000
END:DAYLIGHT
BEGIN:STANDARD
TZOFFSETFROM:+0200
TZOFFSETTO:+0100
TZNAME:CET
DTSTART:20251026T010000
END:STANDARD
BEGIN:DAYLIGHT
TZOFFSETFROM:+0100
TZOFFSETTO:+0200
TZNAME:CEST
DTSTART:20260329T010000
END:DAYLIGHT
BEGIN:STANDARD
TZOFFSETFROM:+0200
TZOFFSETTO:+0100
TZNAME:CET
DTSTART:20261025T010000
END:STANDARD
END:VTIMEZONE
BEGIN:VEVENT
DTSTART;TZID=Europe/Berlin:20250730T180000
DTEND;TZID=Europe/Berlin:20250730T200000
DTSTAMP:20260420T171629
CREATED:20250727T072534Z
LAST-MODIFIED:20250727T072535Z
UID:10015479-1753898400-1753905600@auxpunks.uber.space
SUMMARY:Offenes Antifaschistisches Treffen Augsburg
DESCRIPTION:Wir bringen konsequent klassenbewussten Antifaschismus auf die Straßen Augsburgs. Dafür treffen wir uns alle vier Wochen zu einem offenen Plenum. Komm gerne zum nächsten Treffen: Mittwoch 30. Juli 2025 um 18 Uhr in der Ganzen Bäckerei (Frauentorstr. 34).
URL:https://auxpunks.uber.space/event/offenes-antifaschistisches-treffen-augsburg-3/
LOCATION:“ Ganze Bäckerei “ Augsburg  Frauentorstr.34
CATEGORIES:Plena, Treffen & Lesekreise
ATTACH;FMTTYPE=image/jpeg:https://auxpunks.uber.space/wp-content/uploads/2025/07/8mai-augsburg_2024-05-08_6.jpeg
END:VEVENT
BEGIN:VEVENT
DTSTART;TZID=Europe/Berlin:20250729T193000
DTEND;TZID=Europe/Berlin:20250729T210000
DTSTAMP:20260420T171629
CREATED:20250729T083940Z
LAST-MODIFIED:20250729T083941Z
UID:10015481-1753817400-1753822800@auxpunks.uber.space
SUMMARY:Demo gegen Repression
DESCRIPTION:Heute am 29.07 gab es insgesamt neun Hausdurchsuchungen bei verschiedenen Gruppen. Gegen ihre Repression gehen wir auf die Straße!
URL:https://auxpunks.uber.space/event/demo-gegen-repression-2/
LOCATION:Augsburg Königsplatz
CATEGORIES:Demos & Aktionen
END:VEVENT
BEGIN:VEVENT
DTSTART;TZID=Europe/Berlin:20250702T180000
DTEND;TZID=Europe/Berlin:20250702T210000
DTSTAMP:20260420T171629
CREATED:20250626T133137Z
LAST-MODIFIED:20250626T133138Z
UID:10015460-1751479200-1751490000@auxpunks.uber.space
SUMMARY:Offenes Antifaschistisches Treffen Augsburg
DESCRIPTION:Monatliches offenes Plenum zur Diskussion unserer politischen Arbeit und Nachbesprechung und Vorbereitung neuer Aktionen und Demonstrationen gegen Rechts.
URL:https://auxpunks.uber.space/event/offenes-antifaschistisches-treffen-augsburg-2/
LOCATION:“ Ganze Bäckerei “ Augsburg  Frauentorstr.34
CATEGORIES:Plena, Treffen & Lesekreise
END:VEVENT
BEGIN:VEVENT
DTSTART;TZID=Europe/Berlin:20250507T173000
DTEND;TZID=Europe/Berlin:20250507T210000
DTSTAMP:20260420T171629
CREATED:20250505T071205Z
LAST-MODIFIED:20250505T071205Z
UID:10014566-1746639000-1746651600@auxpunks.uber.space
SUMMARY:Offenes Antifaschistisches Treffen - Plenum
DESCRIPTION:Monatliches Plenum zur Nachbesprechung und Vorbereitung neuer Aktionen und Demonstrationen gegen Rechts.
URL:https://auxpunks.uber.space/event/offenes-antifaschistisches-treffen-plenum/
CATEGORIES:Plena, Treffen & Lesekreise
END:VEVENT
BEGIN:VEVENT
DTSTART;TZID=Europe/Berlin:20250322T170000
DTEND;TZID=Europe/Berlin:20250322T213000
DTSTAMP:20260420T171629
CREATED:20250320T081748Z
LAST-MODIFIED:20250320T081748Z
UID:10014520-1742662800-1742679000@auxpunks.uber.space
SUMMARY:Themenabend Repression (Vortrag Hanna Solikreis)
DESCRIPTION:Am 18.03 war Tag der politischen Gefangenen!\nDazu haben wir wir als OAT einen Themenabend zu Repression geplant\, welcher am Samstag den 22.03 um 17 Uhr stattfindet. Auf dem Programm steht ein Vortrag vom Hanna-Solikreis\, gemeinsames Briefe schreiben an unsere Genoss:innen in Haft\, und leckeres Essen nach der Veranstaltung.\nKommt also vorbei\, zeigt euch solidarisch\, diskutiert und tauscht euch mit uns über Repression und Schikane in Augsburg und darüber hinaus aus.\nLasst die Gefangenen nicht alleine!
URL:https://auxpunks.uber.space/event/themenabend-repression-vortrag-hanna-solikreis/
LOCATION:“ Ganze Bäckerei “ Augsburg  Frauentorstr.34
CATEGORIES:Vorträge, Filme & Workshops
END:VEVENT
BEGIN:VEVENT
DTSTART;TZID=Europe/Berlin:20250312T173000
DTEND;TZID=Europe/Berlin:20250312T200000
DTSTAMP:20260420T171629
CREATED:20250305T165045Z
LAST-MODIFIED:20250305T165046Z
UID:10014486-1741800600-1741809600@auxpunks.uber.space
SUMMARY:Offenes Antifaschistisches Treffen Augsburg
DESCRIPTION:Jede*r ist herzlich dazu eingeladen\, bei uns mitzumachen! Wir sind ein offenes Treffen für alle\, die sich in Augsburg antifaschistisch engagieren wollen. Egal wo ihr herkommt\, wie alt ihr seid\, oder ob ihr schon Erfahrung mit antifaschistischer Arbeit habt.
URL:https://auxpunks.uber.space/event/offenes-antifaschistisches-treffen-augsburg/
LOCATION:“ Ganze Bäckerei “ Augsburg  Frauentorstr.34
CATEGORIES:Plena, Treffen & Lesekreise
END:VEVENT
BEGIN:VEVENT
DTSTART;TZID=Europe/Berlin:20250308T153000
DTEND;TZID=Europe/Berlin:20250308T170000
DTSTAMP:20260420T171629
CREATED:20250305T165019Z
LAST-MODIFIED:20250305T165020Z
UID:10014485-1741447800-1741453200@auxpunks.uber.space
SUMMARY:Am Frauenkampftag gegen AfD und Patriarchat!
DESCRIPTION:Einer Partei\, die für Sozialabbau und Krieg steht und sich als parlamentarischer Arm einer faschistischen Bewegung ausgerechnet am 8. März in der Kongresshalle in Augsburg trifft\, werden wir kämpferisch und entschlossen begegnen!\n\nDass sich die AfD genau diesen Tag zu Nutze macht\, ist mit Sicherheit kein Zufall.\n\nDer 8. März ist Frauenkampftag\, ein Tag\, an dem Frauen weltweit ihre Wut über das Patriarchat auf die Straßen tragen. Die Zahlen patriarchaler Gewalt und Übergriffe\, ob im häuslichen Umfeld oder auf offener Straße\, steigen stetig\, und nahezu jeden Tag gibt es einen Femizid in Deutschland. Dass eben jene so sexistische Partei diesen wichtigen Tag für ihre Hetze nutzt\, ist für uns nicht hinnehmbar. Die AfD unterdrückt mit ihrer Politik Frauen und queere Personen\, nimmt ihnen ihre Selbstbestimmung und trägt mit ihrer Hetze maßgeblich dazu bei\, dass gewalttätige Übergriffe auf Veranstaltungen wie den CSD auf der Tagesordnung stehen. Stellen wir uns also entschlossen am 8. März gegen die AfD\, gegen ihre rechte Hetze und gegen ihre sexistische Propaganda.\n\nDie Bundestagswahl hat es uns deutlich gezeigt: Der Rechtsruck lässt sich nicht abwählen! \n\nDie bürgerlichen Parteien rücken gemeinsam mit der AfD weiter und weiter nach rechts und setzen deren rassistische Politik bereits um\, ob nun mit oder ohne „Bauchschmerzen“. Zwei Kreuzchen auf einem Zettel werden das Problem nicht lösen\, nur die selbstbestimmte und konsequente antifaschistische Organisierung im Betrieb\, auf der Straße und im Viertel bringt uns weiter!\n\nAlso schließt euch uns an\, lasst uns gemeinsam auf die Straße gehen!\n\nAm 08.03.2025 um 15:30 Uhr am Ulrichsplatz. Und ab 16:30 Uhr vor der Kongresshalle!\n\nAlle zusammen gegen den Faschismus!
URL:https://auxpunks.uber.space/event/am-frauenkampftag-gegen-afd-und-patriarchat/
LOCATION:Augsburg\, Ulrichsplatz
CATEGORIES:Demos & Aktionen
END:VEVENT
BEGIN:VEVENT
DTSTART;TZID=Europe/Berlin:20241130T160000
DTEND;TZID=Europe/Berlin:20241130T200000
DTSTAMP:20260420T171629
CREATED:20241126T201612Z
LAST-MODIFIED:20241126T201612Z
UID:10014370-1732982400-1732996800@auxpunks.uber.space
SUMMARY:Vortrag: "Rechte Strukturen in Augsburg"
DESCRIPTION:Kommt zu unserem Vortrag über Rechte Strukturen in Augsburg!\n\nDer Rechtsruck zeigt sich auch in Augsburg und im Umland\, rechte Strukturen treten wieder vermehrt in Erscheinung und wachsen. Wir wollen einen Überblick über diese Gruppen geben\, um besser gegen sie zu kämpfen.\n\nUm sich die Nazis besser zu merken\, gibt es im Anschluss ein Nazi-Bingo mit tollen Preisen und was zu essen.\n\nKommt vorbei!\nSamstag 30.11 – 16 Uhr\nDie Ganze Bäckerei
URL:https://auxpunks.uber.space/event/vortrag-rechte-strukturen-in-augsburg/
LOCATION:“ Ganze Bäckerei “ Augsburg  Frauentorstr.34
CATEGORIES:Vorträge, Filme & Workshops,🎃 Linke Einführungswochen
END:VEVENT
BEGIN:VEVENT
DTSTART;TZID=Europe/Berlin:20240925T180000
DTEND;TZID=Europe/Berlin:20240925T210000
DTSTAMP:20260420T171629
CREATED:20240923T152502Z
LAST-MODIFIED:20240923T152502Z
UID:10014255-1727287200-1727298000@auxpunks.uber.space
SUMMARY:Offenes Antifaschistisches Treffen Augsburg | 365 Tage im Jahr aktiv gegen Rechts!
DESCRIPTION:Wir bringen konsequent klassenbewussten Antifaschismus auf die Straßen Augsburgs. Dafür treffen wir uns alle zwei Wochen zu einem offenen Plenum.
URL:https://auxpunks.uber.space/event/offenes-antifaschistisches-treffen-augsburg-365-tage-im-jahr-aktiv-gegen-rechts-6/
LOCATION:“ Ganze Bäckerei “ Augsburg  Frauentorstr.34
CATEGORIES:Plena, Treffen & Lesekreise
END:VEVENT
BEGIN:VEVENT
DTSTART;TZID=Europe/Berlin:20240911T180000
DTEND;TZID=Europe/Berlin:20240911T210000
DTSTAMP:20260420T171629
CREATED:20240910T134141Z
LAST-MODIFIED:20240910T134142Z
UID:10014244-1726077600-1726088400@auxpunks.uber.space
SUMMARY:Offenes Antifaschistisches Treffen Augsburg | 365 Tage im Jahr aktiv gegen Rechts!
DESCRIPTION:Wir bringen konsequent klassenbewussten Antifaschismus auf die Straßen Augsburgs. Dafür treffen wir uns alle zwei Wochen zu einem offenen Plenum.
URL:https://auxpunks.uber.space/event/offenes-antifaschistisches-treffen-augsburg-365-tage-im-jahr-aktiv-gegen-rechts-5/
LOCATION:“ Ganze Bäckerei “ Augsburg  Frauentorstr.34
CATEGORIES:Plena, Treffen & Lesekreise
END:VEVENT
BEGIN:VEVENT
DTSTART;TZID=Europe/Berlin:20240828T180000
DTEND;TZID=Europe/Berlin:20240828T210000
DTSTAMP:20260420T171629
CREATED:20240825T181301Z
LAST-MODIFIED:20240825T181301Z
UID:10014213-1724868000-1724878800@auxpunks.uber.space
SUMMARY:Offenes Antifaschistisches Treffen Augsburg | 365 Tage im Jahr aktiv gegen Rechts!
DESCRIPTION:Wir bringen konsequent klassenbewussten Antifaschismus auf die Straßen Augsburgs. Dafür treffen wir uns alle zwei Wochen zu einem offenen Plenum.
URL:https://auxpunks.uber.space/event/offenes-antifaschistisches-treffen-augsburg-365-tage-im-jahr-aktiv-gegen-rechts-4/
LOCATION:“ Ganze Bäckerei “ Augsburg  Frauentorstr.34
CATEGORIES:Plena, Treffen & Lesekreise
END:VEVENT
BEGIN:VEVENT
DTSTART;TZID=Europe/Berlin:20240820T190000
DTEND;TZID=Europe/Berlin:20240820T210000
DTSTAMP:20260420T171629
CREATED:20240819T154641Z
LAST-MODIFIED:20240819T154642Z
UID:10014208-1724180400-1724187600@auxpunks.uber.space
SUMMARY:offenes Vorbereitungstreffen für eine Demo zu den Wahlen im Osten
DESCRIPTION:Lasst uns an den Erfolgen der Proteste in Augsburg rund um das Motto „Die rechte Welle brechen“ anschließen und nach dem Wahlerfolg der AfD in Thüringen\, Sachsen und Brandenburg auf die Straße gehen – in Augsburg!Der Aufruf „Zeit zu Handeln“ findet ihr auf unserem Instagram oder auf zeitzuhandeln.org***Die rechte Welle brechen!
URL:https://auxpunks.uber.space/event/offenes-vorbereitungstreffen-fuer-eine-demo-zu-den-wahlen-im-osten/
CATEGORIES:Plena, Treffen & Lesekreise
END:VEVENT
BEGIN:VEVENT
DTSTART;TZID=Europe/Berlin:20240814T180000
DTEND;TZID=Europe/Berlin:20240814T210000
DTSTAMP:20260420T171629
CREATED:20240813T123048Z
LAST-MODIFIED:20240813T123048Z
UID:10014203-1723658400-1723669200@auxpunks.uber.space
SUMMARY:+++ Wieder in der Bäckerei +++ Offenes Antifaschistisches Treffen Augsburg | 365 Tage im Jahr aktiv gegen Rechts!
DESCRIPTION:Wir bringen konsequent klassenbewussten Antifaschismus auf die Straßen Augsburgs. Dafür treffen wir uns alle zwei Wochen zu einem offenen Plenum.
URL:https://auxpunks.uber.space/event/wieder-in-der-baeckerei-offenes-antifaschistisches-treffen-augsburg-365-tage-im-jahr-aktiv-gegen-rechts/
LOCATION:“ Ganze Bäckerei “ Augsburg  Frauentorstr.34
END:VEVENT
BEGIN:VEVENT
DTSTART;TZID=Europe/Berlin:20240703T180000
DTEND;TZID=Europe/Berlin:20240703T210000
DTSTAMP:20260420T171629
CREATED:20240626T115149Z
LAST-MODIFIED:20240626T115150Z
UID:10014153-1720029600-1720040400@auxpunks.uber.space
SUMMARY:Offenes Antifaschistisches Treffen Augsburg | 365 Tage im Jahr aktiv gegen Rechts!
DESCRIPTION:Wir bringen konsequent klassenbewussten Antifaschismus auf die Straßen Augsburgs. Dafür treffen wir uns alle zwei Wochen zu einem offenen Plenum. Komm gerne zum nächsten Treffen: Mittwoch 5. Juni 2024 um 18 Uhr in der Ganzen Bäckerei (Frauentorstr. 34).
URL:https://auxpunks.uber.space/event/offenes-antifaschistisches-treffen-augsburg-365-tage-im-jahr-aktiv-gegen-rechts-3/
LOCATION:“ Ganze Bäckerei “ Augsburg  Frauentorstr.34
CATEGORIES:Demos & Aktionen
END:VEVENT
BEGIN:VEVENT
DTSTART;TZID=Europe/Berlin:20240628T213000
DTEND;TZID=Europe/Berlin:20240629T233000
DTSTAMP:20260420T171629
CREATED:20240626T115157Z
LAST-MODIFIED:20240626T115202Z
UID:10014154-1719610200-1719703800@auxpunks.uber.space
SUMMARY:Gemeinsame Anreise: Den AfD-Bundesparteitag in Essen verhindern! #rechtewellebrechen
DESCRIPTION:Du möchtest dich der AfD widersetzen und dazu beitragen den Bundesparteitag der AfD zu verhindern? Dann fahr gemeinsam mit uns nach Essen und organisiere dich im Offenen Antifaschistischen Treffen!\n\nAnreise: 28.06. 21:30 Uhr\, Augsburg\nAbreise: 29.06. 18:00 Uhr\, Essen\nKosten: Regulär 80€\, Ermäßigt: 40€
URL:https://auxpunks.uber.space/event/gemeinsame-anreise-den-afd-bundesparteitag-in-essen-verhindern-rechtewellebrechen/
LOCATION:Auf Anfrage
CATEGORIES:Demos & Aktionen
END:VEVENT
BEGIN:VEVENT
DTSTART;TZID=Europe/Berlin:20240622T160000
DTEND;TZID=Europe/Berlin:20240622T180000
DTSTAMP:20260420T171629
CREATED:20240611T082621Z
LAST-MODIFIED:20240611T082622Z
UID:10014141-1719072000-1719079200@auxpunks.uber.space
SUMMARY:Vortrag über das Budapest-Verfahren - #freeallantifas
DESCRIPTION:Vom 09.02.-11.02. jeden Jahres findet in Budapest eines der größten Neonazi Events in Europa statt\, der sogenannte „Tag der Ehre“. 2023 kam es am Rande von Demonstrationen zu Angriffen auf Faschos.\n\nEs folgt eine enorme Repressionswelle gegen junge Antifaschist*innen aus Ungarn\, Italien und Deutschland: Hausdurchsuchungen\, öffentlichkeitswirksame Fahndung\, drohende Auslieferung. Etwa ein dutzend von ihnen werden nun gesucht\, Sieben sitzen bereits im Knast. Doch was genau ist der Tag der Ehre? Was ist seit dem passiert und warum ist Solidarität gerade in diesem Fall so wichtig? Dem wollen wir uns in einem Vortrag widmen.\n\nKommt deshalb am 22.06. um 16 Uhr in Die Ganze Bäckerei (Frauentorstraße 34)\n\nMehr Infos: basc.news
URL:https://auxpunks.uber.space/event/vortrag-ueber-das-budapest-verfahren-freeallantifas/
LOCATION:“ Ganze Bäckerei “ Augsburg  Frauentorstr.34
CATEGORIES:Vorträge, Filme & Workshops
END:VEVENT
BEGIN:VEVENT
DTSTART;TZID=Europe/Berlin:20240619T180000
DTEND;TZID=Europe/Berlin:20240619T210000
DTSTAMP:20260420T171629
CREATED:20240611T082616Z
LAST-MODIFIED:20240611T082617Z
UID:10014142-1718820000-1718830800@auxpunks.uber.space
SUMMARY:Offenes Antifaschistisches Treffen Augsburg | 365 Tage im Jahr aktiv gegen Rechts!
DESCRIPTION:Wir bringen konsequent klassenbewussten Antifaschismus auf die Straßen Augsburgs. Dafür treffen wir uns alle zwei Wochen zu einem offenen Plenum. Komm gerne zum nächsten Treffen: Mittwoch 5. Juni 2024 um 18 Uhr in der Ganzen Bäckerei (Frauentorstr. 34).
URL:https://auxpunks.uber.space/event/offenes-antifaschistisches-treffen-augsburg-365-tage-im-jahr-aktiv-gegen-rechts-2/
LOCATION:“ Ganze Bäckerei “ Augsburg  Frauentorstr.34
CATEGORIES:Plena, Treffen & Lesekreise
END:VEVENT
BEGIN:VEVENT
DTSTART;TZID=Europe/Berlin:20240605T180000
DTEND;TZID=Europe/Berlin:20240605T210000
DTSTAMP:20260420T171629
CREATED:20240529T134058Z
LAST-MODIFIED:20240529T134109Z
UID:10014108-1717610400-1717621200@auxpunks.uber.space
SUMMARY:Offenes Antifaschistisches Treffen Augsburg | 365 Tage im Jahr aktiv gegen Rechts!
DESCRIPTION:Wir bringen konsequent klassenbewussten Antifaschismus auf die Straßen Augsburgs. Dafür treffen wir uns alle zwei Wochen zu einem offenen Plenum. Komm gerne zum nächsten Treffen: Mittwoch 5. Juni 2024 um 18 Uhr in der Ganzen Bäckerei (Frauentorstr. 34).
URL:https://auxpunks.uber.space/event/offenes-antifaschistisches-treffen-augsburg-365-tage-im-jahr-aktiv-gegen-rechts/
LOCATION:“ Ganze Bäckerei “ Augsburg  Frauentorstr.34
CATEGORIES:Plena, Treffen & Lesekreise
END:VEVENT
BEGIN:VEVENT
DTSTART;TZID=Europe/Berlin:20240526T183000
DTEND;TZID=Europe/Berlin:20240526T200000
DTSTAMP:20260420T171629
CREATED:20240524T181255Z
LAST-MODIFIED:20240524T181257Z
UID:10014105-1716748200-1716753600@auxpunks.uber.space
SUMMARY:AFD und die Soziale Frage - Buchvorstellung von und mit dem Autor Stefan Dietl
DESCRIPTION:Stefan Dietl stellt sein Buch «Die AfD und die soziale Frage – zwischen Marktradikalismus und ‚völkischem Antikapitalismus‘» in der Ganzen Bäckerei vor. Ihr seid herzlich eingeladen! \n\n\n\nAus dem Klappentext des Buches: «Die besorgniserregenden Wahlerfolge und die zunehmende Verankerung der AfD in der deutschen Parteienlandschaft führen unter ihren Gegner*innen zu kontroversen Debatten darüber\, wie der Rechtspartei zu begegnen sei. Während einige darauf setzen\, die AfD als unsozial zu brandmarken und über ihre neoliberale Programmatik aufzuklären\, verweisen andere auf die teils antikapitalistische Rhetorik führender Parteifunktionäre und warnen vor der gefährlichen Kombination aus rassistischer Hetze und sozialer Demagogie. \n\n\n\nUm zu klären\, welche Rolle die soziale Frage in der AfD tatsächlich spielt\, untersucht Stefan Dietl die sozialpolitische Ausrichtung der Partei anhand ihres im Mai 2016 verabschiedeten Grundsatzprogramms und der vorhergehenden Debatten zwischen den verschiedenen Flügeln der Partei. Dabei zeigen sich sowohl die marktradikalen Positionen der AfD als auch ihre im «völkischen Antikapitalismus» verwurzelten Inhalte. \n\n\n\nDem Autor gelingt eine anschauliche Darstellung der aktuellen sozial- und wirtschaftspolitischen Programmatik der AfD vor dem Hintergrund des Kräftezerrens zwischen Marktradikalen und völkischen Nationalisten. Doch Dietl liefert auch eine Problemanalyse bisheriger Versäumnisse der Gewerkschaften im Umgang mit der AfD und ihrem Klientel – und entwirft gewerkschaftliche Gegenstrategien.»Zum Autor: \n\n\n\n\nStefan Dietl (Jg. 1985) ist seit seiner Ausbildung Mitglied der Gewerkschaft ver.di. Neben seiner ehrenamtlichen Tätigkeit als Vorsitzender des ver.di Bezirks Oberpfalz und im Landesvorstand der ver.di Bayern schreibt er zu sozial- und wirtschaftspolitischen Themen u.a. für die Jungle World.
URL:https://auxpunks.uber.space/event/afd-und-die-soziale-frage-buchvorstellung-von-und-mit-dem-autor-stefan-dietl/
CATEGORIES:Vorträge, Filme & Workshops
END:VEVENT
END:VCALENDAR