BEGIN:VCALENDAR
VERSION:2.0
PRODID:-//auxpunks - ECPv6.15.11//NONSGML v1.0//EN
CALSCALE:GREGORIAN
METHOD:PUBLISH
X-WR-CALNAME:auxpunks
X-ORIGINAL-URL:https://auxpunks.uber.space
X-WR-CALDESC:Veranstaltungen für auxpunks
REFRESH-INTERVAL;VALUE=DURATION:PT1H
X-Robots-Tag:noindex
X-PUBLISHED-TTL:PT1H
BEGIN:VTIMEZONE
TZID:Europe/Berlin
BEGIN:DAYLIGHT
TZOFFSETFROM:+0100
TZOFFSETTO:+0200
TZNAME:CEST
DTSTART:20230326T010000
END:DAYLIGHT
BEGIN:STANDARD
TZOFFSETFROM:+0200
TZOFFSETTO:+0100
TZNAME:CET
DTSTART:20231029T010000
END:STANDARD
BEGIN:DAYLIGHT
TZOFFSETFROM:+0100
TZOFFSETTO:+0200
TZNAME:CEST
DTSTART:20240331T010000
END:DAYLIGHT
BEGIN:STANDARD
TZOFFSETFROM:+0200
TZOFFSETTO:+0100
TZNAME:CET
DTSTART:20241027T010000
END:STANDARD
BEGIN:DAYLIGHT
TZOFFSETFROM:+0100
TZOFFSETTO:+0200
TZNAME:CEST
DTSTART:20250330T010000
END:DAYLIGHT
BEGIN:STANDARD
TZOFFSETFROM:+0200
TZOFFSETTO:+0100
TZNAME:CET
DTSTART:20251026T010000
END:STANDARD
BEGIN:DAYLIGHT
TZOFFSETFROM:+0100
TZOFFSETTO:+0200
TZNAME:CEST
DTSTART:20260329T010000
END:DAYLIGHT
BEGIN:STANDARD
TZOFFSETFROM:+0200
TZOFFSETTO:+0100
TZNAME:CET
DTSTART:20261025T010000
END:STANDARD
BEGIN:DAYLIGHT
TZOFFSETFROM:+0100
TZOFFSETTO:+0200
TZNAME:CEST
DTSTART:20270328T010000
END:DAYLIGHT
BEGIN:STANDARD
TZOFFSETFROM:+0200
TZOFFSETTO:+0100
TZNAME:CET
DTSTART:20271031T010000
END:STANDARD
END:VTIMEZONE
BEGIN:VEVENT
DTSTART;TZID=Europe/Berlin:20260125T140000
DTEND;TZID=Europe/Berlin:20260125T160000
DTSTAMP:20260420T230939
CREATED:20260117T090715Z
LAST-MODIFIED:20260117T090716Z
UID:10016054-1769349600-1769356800@auxpunks.uber.space
SUMMARY:Baustellenbesichtigung im Pa*radieschen
DESCRIPTION:Am Sonntag den 25.Januar 2026 laden wir euch von 14-16 Uhr herzlich ein\, vorbeizukommen!  \nEs gibt warme Getränke\, gute Gespräche und spannende Einblicke in den aktuellen Stand unserer Räume. Schau dir an\, wie sich das Haus entwickelt hat – und bring gern Freund*innen mit. Es hat sich wirklich viel getan!\n\nAdresse: Weißenburger Str. 32\, Augsburg\n\nWir freuen uns auf dich!
URL:https://auxpunks.uber.space/event/baustellenbesichtigung-im-paradieschen/
LOCATION:Weißenburger Straße 32
CATEGORIES:Highlights
ATTACH;FMTTYPE=image/jpeg:https://auxpunks.uber.space/wp-content/uploads/2026/01/2026-01-Tag-der-offenen-Baustelle.jpg
END:VEVENT
BEGIN:VEVENT
DTSTART;TZID=Europe/Berlin:20251109T140000
DTEND;TZID=Europe/Berlin:20251109T160000
DTSTAMP:20260420T230939
CREATED:20251003T141501Z
LAST-MODIFIED:20251003T141529Z
UID:10015883-1762696800-1762704000@auxpunks.uber.space
SUMMARY:Entstehung eines selbstverwalteten Hausprojekts - Baustellenbesichtigung bei Pa*radieschen
DESCRIPTION:Bei warmen Getränken geben die Mitglieder des Vereins einen Einblick in den Stand der Haussanierung und informieren über den Projektaufbau nach dem Modell des Mietshäuser Syndikats.
URL:https://auxpunks.uber.space/event/entstehung-eines-selbstverwalteten-hausprojekts-baustellenbesichtigung-bei-paradieschen/
LOCATION:Weißenburger Straße 32
CATEGORIES:Linke Einführungswochen 2025,🎃 Linke Einführungswochen
ATTACH;FMTTYPE=image/jpeg:https://auxpunks.uber.space/wp-content/uploads/2025/10/Paradieschen_Logo_breit.jpg
END:VEVENT
BEGIN:VEVENT
DTSTART;TZID=Europe/Berlin:20250719T130000
DTEND;TZID=Europe/Berlin:20250719T180000
DTSTAMP:20260420T230939
CREATED:20250719T100902Z
LAST-MODIFIED:20250719T100904Z
UID:10015475-1752930000-1752948000@auxpunks.uber.space
SUMMARY:Pa*radieschen Picknick
DESCRIPTION:Komm am Sonntag den 20. Juli ins Pa*radieschen (Weißenburger Str. 32\, Augsburg). Um 13 Uhr gibts eine Baubesichtigung und um 14 Uhr startet das Picknick im Schlössle Park (ca. 5 Gehminuten vom Haus). Es gibt Live-Musik! Bring was zu essen und dein eigenes Besteck mit 🧺
URL:https://auxpunks.uber.space/event/paradieschen-picknick/
CATEGORIES:Konzerte & Feiern
END:VEVENT
BEGIN:VEVENT
DTSTART;TZID=Europe/Berlin:20250504T150000
DTEND;TZID=Europe/Berlin:20250504T170000
DTSTAMP:20260420T230939
CREATED:20250310T124132Z
LAST-MODIFIED:20250310T124133Z
UID:10014496-1746370800-1746378000@auxpunks.uber.space
SUMMARY:Offene Türen im Pa*radieschen
DESCRIPTION:Wie erschafft man eine eigene\, selbstverwaltete Mietsituation? Die Mitglieder des Pa*radieschen e.V. haben keine Lust mehr auf willkürliche Mieterhöhungen und das Profitinteresse großer Immobilienkonzerne. Sie nehmen die Sache selbst in die Hand. Anfang Mai können Interessierte einen Einblick in die Projektstruktur und den Fortschritt der Sanierungsmaßnahmen am Pa*radieschen-Haus erhaschen. Es gibt heiße und kalte Getränke sowie ein Stückchen Kuchen für alle\, die wollen.
URL:https://auxpunks.uber.space/event/offene-tueren-im-paradieschen/
LOCATION:Weißenburger Straße 32
END:VEVENT
BEGIN:VEVENT
DTSTART;TZID=Europe/Berlin:20250424T000000
DTEND;TZID=Europe/Berlin:20250506T235959
DTSTAMP:20260420T230939
CREATED:20250417T125738Z
LAST-MODIFIED:20250422T141024Z
UID:10014549-1745452800-1746575999@auxpunks.uber.space
SUMMARY:Aktionstage Wohnen 2025
DESCRIPTION:Auch in diesem Jahr findet im Rahmen der internationalen Housing Action Days in Augsburg eine Aktionswoche Wohnen statt. Dazu gibt es zwischen dem 24.04. und dem 06.05. ein kleines aber feines Programm. \n \nMit dabei sind:Augsburg für AlleGrandhotel CosmopolisAutonome Bande AuxburgWohnprojekt AugsburgPa*radieschenUnser Haus
URL:https://auxpunks.uber.space/event/aktionstage-wohnen-2025/
CATEGORIES:Highlights,Vorträge, Filme & Workshops
END:VEVENT
BEGIN:VEVENT
DTSTART;TZID=Europe/Berlin:20250316T140000
DTEND;TZID=Europe/Berlin:20250316T160000
DTSTAMP:20260420T230939
CREATED:20250310T124107Z
LAST-MODIFIED:20250310T124108Z
UID:10014495-1742133600-1742140800@auxpunks.uber.space
SUMMARY:Tag der offenen Baustelle
DESCRIPTION:Pa*radieschen lädt wieder herzlich zur Baustellenbesichtigung und einem Kennenlernen ein! \nEs wird kalte und warme Getränke sowie ein bisschen Verpflegung dazu geben.\nWir freuen uns auf neue und bekannte Gesichter!
URL:https://auxpunks.uber.space/event/tag-der-offenen-baustelle/
LOCATION:Weißenburger Straße 32
END:VEVENT
BEGIN:VEVENT
DTSTART;TZID=Europe/Berlin:20250105T140000
DTEND;TZID=Europe/Berlin:20250105T180000
DTSTAMP:20260420T230939
CREATED:20241121T161903Z
LAST-MODIFIED:20241121T161904Z
UID:10014351-1736085600-1736100000@auxpunks.uber.space
SUMMARY:Winterfeuer im Pa*radieschen
DESCRIPTION:Liebe Freund*innen und Interessierte\,\n\nwir laden euch ganz herzlich zu unserem Winterfeuer am Pa*radieschen am 05.01.2025 in der Weißenburger Str. 32 (Augsburg) von 14-18 Uhr ein. Mit Punsch\, Waffeln und Stockbrot wollen wir mit euch das vergangene Jahr feiern und ein neues aufregendes Jahr einläuten. Es wird genügend Getränke zum Warmhalten geben und natürlich auch ein schönes Feuer. Außerdem könnt ihr unser Haus und den aktuellen Stand der Baustelle besichtigen. Bringt gern eine eigene Tasse und warme Kleidung für draußen mit. Wir freuen uns schon sehr auf euch!\n\nWichtiger Hinweis: Bei schlechtem Wetter (z. B. Dauerregen) findet nur eine abgespeckte Version mit Baubesichtigung von 14-16 Uhr statt.\n\nGanz liebe Grüße\nEure Pa*radieschen
URL:https://auxpunks.uber.space/event/winterfeuer-im-paradieschen/
LOCATION:Weißenburger Straße 32
CATEGORIES:Konzerte & Feiern
END:VEVENT
BEGIN:VEVENT
DTSTART;TZID=Europe/Berlin:20241205T140000
DTEND;TZID=Europe/Berlin:20241205T180000
DTSTAMP:20260420T230939
CREATED:20241205T210445Z
LAST-MODIFIED:20241205T210445Z
UID:10014378-1733407200-1733421600@auxpunks.uber.space
SUMMARY:Winterfeuer am Pa*radieschen
DESCRIPTION:Liebe Freund:innen und Interessierte\,\n\nwir laden euch ganz herzlich zu unserem Winterfeuer am Pa*radieschen am 05.01.2025 in der Weißenburger Str. 32 (Augsburg) von 14-18 Uhr ein. Mit Punsch\, Waffeln und Stockbrot wollen wir mit euch das vergangene Jahr feiern und ein neues aufregendes Jahr einläuten. Es wird genügend Getränke zum Warmhalten geben und natürlich auch ein schönes Feuer. Außerdem könnt ihr unser Haus und den aktuellen Stand der Baustelle besichtigen. Bringt gern eine eigene Tasse und warme Kleidung für draußen mit. Wir freuen uns schon sehr auf euch!\n\nWichtiger Hinweis: Bei schlechtem Wetter (z. B. Dauerregen) findet nur eine abgespeckte Version mit Baubesichtigung von 14-16 Uhr statt.\n\nGanz liebe Grüße\n\nEure Pa*radieschen
URL:https://auxpunks.uber.space/event/winterfeuer-am-paradieschen/
LOCATION:Weißenburger Straße 32
CATEGORIES:Highlights,Konzerte & Feiern
END:VEVENT
BEGIN:VEVENT
DTSTART;TZID=Europe/Berlin:20241110T140000
DTEND;TZID=Europe/Berlin:20241110T160000
DTSTAMP:20260420T230939
CREATED:20241022T080740Z
LAST-MODIFIED:20241022T080741Z
UID:10014289-1731247200-1731254400@auxpunks.uber.space
SUMMARY:Tag der offenen Baustelle beim Hausprojekt Pa*radieschen (LiWo)
DESCRIPTION:Die Häuser denen die drin wohnen! Keine Profite mit der Miete!\nDer Augsburger Verein Pa*radieschen e.V. hat sich zum Ziel gesetzt\, in einem Hausprojekt langfristig bezahlbaren\, selbstverwalteten und gemeinschaftlichen Wohnraum sowie öffentliche Begegnungsorte für die Nachbarschaft zu schaffen. Dafür haben wir im Oktober 2023 ein Mehrfamilienhaus in Pfersee gekauft\, das wir aktuell sanieren. \nBeim Tag der offenen Baustelle hast du die Möglichkeit\, unsere Vision\, das Haus und die Gruppe dahinter in entspannter Atmosphäre bei Kaffee & Kuchen kennenzulernen. Komm vorbei!
URL:https://auxpunks.uber.space/event/tag-der-offenen-baustelle-beim-hausprojekt-paradieschen-liwo/
LOCATION:Weißenburger Straße 32
CATEGORIES:🎃 Linke Einführungswochen
END:VEVENT
END:VCALENDAR