BEGIN:VCALENDAR
VERSION:2.0
PRODID:-//auxpunks - ECPv6.15.11//NONSGML v1.0//EN
CALSCALE:GREGORIAN
METHOD:PUBLISH
X-WR-CALNAME:auxpunks
X-ORIGINAL-URL:https://auxpunks.uber.space
X-WR-CALDESC:Veranstaltungen für auxpunks
REFRESH-INTERVAL;VALUE=DURATION:PT1H
X-Robots-Tag:noindex
X-PUBLISHED-TTL:PT1H
BEGIN:VTIMEZONE
TZID:Europe/Berlin
BEGIN:DAYLIGHT
TZOFFSETFROM:+0100
TZOFFSETTO:+0200
TZNAME:CEST
DTSTART:20250330T010000
END:DAYLIGHT
BEGIN:STANDARD
TZOFFSETFROM:+0200
TZOFFSETTO:+0100
TZNAME:CET
DTSTART:20251026T010000
END:STANDARD
BEGIN:DAYLIGHT
TZOFFSETFROM:+0100
TZOFFSETTO:+0200
TZNAME:CEST
DTSTART:20260329T010000
END:DAYLIGHT
BEGIN:STANDARD
TZOFFSETFROM:+0200
TZOFFSETTO:+0100
TZNAME:CET
DTSTART:20261025T010000
END:STANDARD
BEGIN:DAYLIGHT
TZOFFSETFROM:+0100
TZOFFSETTO:+0200
TZNAME:CEST
DTSTART:20270328T010000
END:DAYLIGHT
BEGIN:STANDARD
TZOFFSETFROM:+0200
TZOFFSETTO:+0100
TZNAME:CET
DTSTART:20271031T010000
END:STANDARD
END:VTIMEZONE
BEGIN:VEVENT
DTSTART;TZID=Europe/Berlin:20260319T183000
DTEND;TZID=Europe/Berlin:20260319T230000
DTSTAMP:20260423T150558
CREATED:20260311T145138Z
LAST-MODIFIED:20260311T145140Z
UID:10016631-1773945000-1773961200@auxpunks.uber.space
SUMMARY:⁨Rote Hilfe Vortrag zum Tag der politischen Gefangenen
DESCRIPTION:⁨Rote Hilfe Vortrag zum Tag der politischen Gefangenen📅 19.03.2026 | 🕡 18:30 Uhr📍 Ganze Bäckerei \n\n\n\nIm September 2025 wurde Hannah S. vom Oberlandesgericht München zu fünf Jahren Haft verurteilt. Im Februar dieses Jahres wurde Maja T. von der ungarischen Klassenjustiz zu acht Jahren Haft verurteilt. \n\n\n\nWir wollen uns damit beschäftigen\, welche Schlüsse wir aus dem konkreten Vorgehen von Polizei und Staatsschutz im sogenannten „Budapest-Komplex“ für unsere weitere politische Arbeit ziehen können. \n\n\n\nAls Gäste haben wir zwei Personen aus dem Solikreis für Hannah aus Nürnberg eingeladen\, die teilweise auch den Prozess von Maja in Budapest beobachtet haben.
URL:https://auxpunks.uber.space/event/%e2%81%a8rote-hilfe-vortrag-zum-tag-der-politischen-gefangenen/
LOCATION:Die Ganze Bäckerei; Frauentorstraße 34\, 86152 Augsburg
CATEGORIES:Konzerte & Feiern,Vorträge, Filme & Workshops
ATTACH;FMTTYPE=image/jpeg:https://auxpunks.uber.space/wp-content/uploads/2026/03/signal-2026-03-11-152147_002.jpeg
END:VEVENT
END:VCALENDAR