BEGIN:VCALENDAR
VERSION:2.0
PRODID:-//auxpunks - ECPv6.15.11//NONSGML v1.0//EN
CALSCALE:GREGORIAN
METHOD:PUBLISH
X-WR-CALNAME:auxpunks
X-ORIGINAL-URL:https://auxpunks.uber.space
X-WR-CALDESC:Veranstaltungen für auxpunks
REFRESH-INTERVAL;VALUE=DURATION:PT1H
X-Robots-Tag:noindex
X-PUBLISHED-TTL:PT1H
BEGIN:VTIMEZONE
TZID:Europe/Berlin
BEGIN:DAYLIGHT
TZOFFSETFROM:+0100
TZOFFSETTO:+0200
TZNAME:CEST
DTSTART:20230326T010000
END:DAYLIGHT
BEGIN:STANDARD
TZOFFSETFROM:+0200
TZOFFSETTO:+0100
TZNAME:CET
DTSTART:20231029T010000
END:STANDARD
BEGIN:DAYLIGHT
TZOFFSETFROM:+0100
TZOFFSETTO:+0200
TZNAME:CEST
DTSTART:20240331T010000
END:DAYLIGHT
BEGIN:STANDARD
TZOFFSETFROM:+0200
TZOFFSETTO:+0100
TZNAME:CET
DTSTART:20241027T010000
END:STANDARD
BEGIN:DAYLIGHT
TZOFFSETFROM:+0100
TZOFFSETTO:+0200
TZNAME:CEST
DTSTART:20250330T010000
END:DAYLIGHT
BEGIN:STANDARD
TZOFFSETFROM:+0200
TZOFFSETTO:+0100
TZNAME:CET
DTSTART:20251026T010000
END:STANDARD
BEGIN:DAYLIGHT
TZOFFSETFROM:+0100
TZOFFSETTO:+0200
TZNAME:CEST
DTSTART:20260329T010000
END:DAYLIGHT
BEGIN:STANDARD
TZOFFSETFROM:+0200
TZOFFSETTO:+0100
TZNAME:CET
DTSTART:20261025T010000
END:STANDARD
END:VTIMEZONE
BEGIN:VEVENT
DTSTART;TZID=Europe/Berlin:20250817T150000
DTEND;TZID=Europe/Berlin:20250817T210000
DTSTAMP:20260420T142043
CREATED:20250703T211705Z
LAST-MODIFIED:20250720T124123Z
UID:10015469-1755442800-1755464400@auxpunks.uber.space
SUMMARY:10 Jahre Unser Haus\, 100 Jahre verkackte Verkehrswende
DESCRIPTION:Unser Verein wird 10 Jahre!Das feiern wir!Wie immer aber auch mit politischer Message! \n\n\n\nAm 17.08. wollen wir das gemeinsam auf der Kreuzung vor unserem Projekt mit einem Straßenfest feiern\, die wir für diesen Tag von einer gefährlichen Asphaltwüste in einen Ort utopischen Miteinanders verwandeln! Kommt vorbei und verbringt diesen Tag mit uns. \n\n\n\n10 Jahre Unser Haus100 Jahre verkackte Verkehrswende! \n\n\n\nMit Infoständen\, Diskussionen\, Reden\, Musik\, Spiel\, Spaß\, Malen\, Basteln und Reparieren. \n\n\n\nFür eine lebenswerte Stadt\, für ein schönes Leben für alles\, Frei von Autozentriertheit\, Kapitalismus\, Faschismus\, Rassismus und Patriarchat!
URL:https://auxpunks.uber.space/event/10-jahre-unser-haus-100-jahre-verkackte-verkehrswende/
LOCATION:Unser Haus\, Am Katzenstadel 22\, 86152 Augsburg\, Am Katzenstadel 22\, Augsburg\, 86152
CATEGORIES:Demos & Aktionen,Konzerte & Feiern
END:VEVENT
BEGIN:VEVENT
DTSTART;TZID=Europe/Berlin:20250506T190000
DTEND;TZID=Europe/Berlin:20250506T233000
DTSTAMP:20260420T142043
CREATED:20250420T135119Z
LAST-MODIFIED:20250420T135120Z
UID:10014553-1746558000-1746574200@auxpunks.uber.space
SUMMARY:Wohnpolitisches Pubquiz
DESCRIPTION:Der Abschluss der Augsburger Aktionswoche Wohnen findet im Hausprojekt am Katzenstadel 22 statt!\n\nMit kühlen Getränken und rauchenden Köpfen stellen wir uns den Quizfragen in verschiedenen Kategorien rund ums Thema Wohnpolitik.\nPreise gibt’s auch glaub ich…aber meins\, deins…\n\nLos gehts um 19 Uhr
URL:https://auxpunks.uber.space/event/wohnpolitisches-pubquiz/
LOCATION:Unser Haus\, Am Katzenstadel 22\, 86152 Augsburg\, Am Katzenstadel 22\, Augsburg\, 86152
CATEGORIES:Konzerte & Feiern
END:VEVENT
BEGIN:VEVENT
DTSTART;TZID=Europe/Berlin:20250424T000000
DTEND;TZID=Europe/Berlin:20250506T235959
DTSTAMP:20260420T142043
CREATED:20250417T125738Z
LAST-MODIFIED:20250422T141024Z
UID:10014549-1745452800-1746575999@auxpunks.uber.space
SUMMARY:Aktionstage Wohnen 2025
DESCRIPTION:Auch in diesem Jahr findet im Rahmen der internationalen Housing Action Days in Augsburg eine Aktionswoche Wohnen statt. Dazu gibt es zwischen dem 24.04. und dem 06.05. ein kleines aber feines Programm. \n \nMit dabei sind:Augsburg für AlleGrandhotel CosmopolisAutonome Bande AuxburgWohnprojekt AugsburgPa*radieschenUnser Haus
URL:https://auxpunks.uber.space/event/aktionstage-wohnen-2025/
CATEGORIES:Highlights,Vorträge, Filme & Workshops
END:VEVENT
BEGIN:VEVENT
DTSTART;TZID=Europe/Berlin:20250103T150000
DTEND;TZID=Europe/Berlin:20250103T190000
DTSTAMP:20260420T142043
CREATED:20241219T090303Z
LAST-MODIFIED:20241219T090303Z
UID:10014393-1735916400-1735930800@auxpunks.uber.space
SUMMARY:Spielenachmittag im Haus
DESCRIPTION:Offener Spieleabend im Hausprojekt Am Katzenstadel 22.03.01. ab 15 Uhr!Vorbeikommen\, Spiele mitbringen\, fun fun fun(direkt im Anschluss anarchistische Weltrevolution)
URL:https://auxpunks.uber.space/event/spielenachmittag-im-haus/
LOCATION:Unser Haus\, Am Katzenstadel 22\, 86152 Augsburg\, Am Katzenstadel 22\, Augsburg\, 86152
ATTACH;FMTTYPE=image/png:https://auxpunks.uber.space/wp-content/uploads/2024/12/SpieletagSharepic.png
END:VEVENT
BEGIN:VEVENT
DTSTART;TZID=Europe/Berlin:20241206T180000
DTEND;TZID=Europe/Berlin:20241206T233000
DTSTAMP:20260420T142043
CREATED:20241121T125242Z
LAST-MODIFIED:20241121T125242Z
UID:10014358-1733508000-1733527800@auxpunks.uber.space
SUMMARY:Rumglühen
DESCRIPTION:Am 6. Dezember wird im Haus rumgeglüht.\nEs gibt Glut von innen & von außen: heißer Glühwein/Punsch/Suppe & Lagerfeuer\nWarme Kleidung ist dennoch empfehlenswert.\n\nLos geht’s ab 18 Uhr – Open End
URL:https://auxpunks.uber.space/event/rumgluehen/
LOCATION:UnserHaus e.V.\, Am Katzenstadel 22\, Augsburg\, 86152
CATEGORIES:Konzerte & Feiern
END:VEVENT
END:VCALENDAR