BEGIN:VCALENDAR
VERSION:2.0
PRODID:-//auxpunks - ECPv6.15.11//NONSGML v1.0//EN
CALSCALE:GREGORIAN
METHOD:PUBLISH
X-ORIGINAL-URL:https://auxpunks.uber.space
X-WR-CALDESC:Veranstaltungen für auxpunks
REFRESH-INTERVAL;VALUE=DURATION:PT1H
X-Robots-Tag:noindex
X-PUBLISHED-TTL:PT1H
BEGIN:VTIMEZONE
TZID:Europe/Berlin
BEGIN:DAYLIGHT
TZOFFSETFROM:+0100
TZOFFSETTO:+0200
TZNAME:CEST
DTSTART:20250330T010000
END:DAYLIGHT
BEGIN:STANDARD
TZOFFSETFROM:+0200
TZOFFSETTO:+0100
TZNAME:CET
DTSTART:20251026T010000
END:STANDARD
BEGIN:DAYLIGHT
TZOFFSETFROM:+0100
TZOFFSETTO:+0200
TZNAME:CEST
DTSTART:20260329T010000
END:DAYLIGHT
BEGIN:STANDARD
TZOFFSETFROM:+0200
TZOFFSETTO:+0100
TZNAME:CET
DTSTART:20261025T010000
END:STANDARD
BEGIN:DAYLIGHT
TZOFFSETFROM:+0100
TZOFFSETTO:+0200
TZNAME:CEST
DTSTART:20270328T010000
END:DAYLIGHT
BEGIN:STANDARD
TZOFFSETFROM:+0200
TZOFFSETTO:+0100
TZNAME:CET
DTSTART:20271031T010000
END:STANDARD
END:VTIMEZONE
BEGIN:VEVENT
DTSTART;TZID=Europe/Berlin:20260212T180000
DTEND;TZID=Europe/Berlin:20260212T190000
DTSTAMP:20260423T173722
CREATED:20260207T013611Z
LAST-MODIFIED:20260209T114539Z
UID:10016339-1770919200-1770922800@auxpunks.uber.space
SUMMARY:Wohnen statt Wuchern - Politik für Mieter*innen statt Mietmafia!
DESCRIPTION:Am Donnerstag\, den 12. Februar ist es endlich soweit: Die MietwucherApp kommt nach Augsburg! Wir sagen den illegal hohen Mieten in Augsburg den Kampf an – und starten mit einer spannenden Veranstaltung: Violetta Bock\, Bundestagsabgeordnete und der Stellvertretende Vorsitzende des Mietervereins\, Rechtsanwalt Michael Niessner diskutieren mit unserer OB-Kandidatin Elisabeth Wiesholler um 18:00 in der ArgonSuite (Argonstr. 16a\, 86153 Augsburg) über die steigenden Mieten und wie die Situation von Mietenden verbessert werden kann.
URL:https://auxpunks.uber.space/event/wohnen-statt-wuchern-politik-fuer-mieterinnen-statt-mietmafia/
LOCATION:Argon{lounge}\, Argonstraße 16a\, Augsburg\, 86153\, Germany
CATEGORIES:Vorträge, Filme & Workshops
ATTACH;FMTTYPE=image/jpeg:https://auxpunks.uber.space/wp-content/uploads/2026/02/WohnenStattWuchern.jpeg
ORGANIZER;CN="Die Linke Augsburg":MAILTO:kontakt@dielinke-augsburg.de
END:VEVENT
END:VCALENDAR