BEGIN:VCALENDAR
VERSION:2.0
PRODID:-//auxpunks - ECPv6.15.11//NONSGML v1.0//EN
CALSCALE:GREGORIAN
METHOD:PUBLISH
X-WR-CALNAME:auxpunks
X-ORIGINAL-URL:https://auxpunks.uber.space
X-WR-CALDESC:Veranstaltungen für auxpunks
REFRESH-INTERVAL;VALUE=DURATION:PT1H
X-Robots-Tag:noindex
X-PUBLISHED-TTL:PT1H
BEGIN:VTIMEZONE
TZID:Europe/Berlin
BEGIN:DAYLIGHT
TZOFFSETFROM:+0100
TZOFFSETTO:+0200
TZNAME:CEST
DTSTART:20240331T010000
END:DAYLIGHT
BEGIN:STANDARD
TZOFFSETFROM:+0200
TZOFFSETTO:+0100
TZNAME:CET
DTSTART:20241027T010000
END:STANDARD
BEGIN:DAYLIGHT
TZOFFSETFROM:+0100
TZOFFSETTO:+0200
TZNAME:CEST
DTSTART:20250330T010000
END:DAYLIGHT
BEGIN:STANDARD
TZOFFSETFROM:+0200
TZOFFSETTO:+0100
TZNAME:CET
DTSTART:20251026T010000
END:STANDARD
BEGIN:DAYLIGHT
TZOFFSETFROM:+0100
TZOFFSETTO:+0200
TZNAME:CEST
DTSTART:20260329T010000
END:DAYLIGHT
BEGIN:STANDARD
TZOFFSETFROM:+0200
TZOFFSETTO:+0100
TZNAME:CET
DTSTART:20261025T010000
END:STANDARD
BEGIN:DAYLIGHT
TZOFFSETFROM:+0100
TZOFFSETTO:+0200
TZNAME:CEST
DTSTART:20270328T010000
END:DAYLIGHT
BEGIN:STANDARD
TZOFFSETFROM:+0200
TZOFFSETTO:+0100
TZNAME:CET
DTSTART:20271031T010000
END:STANDARD
END:VTIMEZONE
BEGIN:VEVENT
DTSTART;TZID=Europe/Berlin:20260418T093000
DTEND;TZID=Europe/Berlin:20260418T150000
DTSTAMP:20260420T181605
CREATED:20260402T190236Z
LAST-MODIFIED:20260402T190238Z
UID:10016710-1776504600-1776524400@auxpunks.uber.space
SUMMARY:Pro Choice - Gegen den rechten "Marsch fürs Leben"
DESCRIPTION:Für den 18.April ist erneut ein „Marsch fürs Leben“ in München geplant.Einmal im Jahr ziehen radikale Abtreibungsgegner*innen aus dem gesamten deutschsprachigen Raum durch die Stadt um ihre antifeministische Agenda in die Öffentlichkeit zu tragen.Der Marsch ist eines der größten Events dieser Szene und ein wichtiger Ort rechter Vernetzung.Wir werden Teil des Gegenprotests sein um zusammen für sexuelle\, körperliche und reproduktive Selbstbestimmung zu kämpfen.Schließt euch an und kommt gemeinsam mit uns zur Demo! \n\n\n\nDie Demo startet um 11 Uhr am Odeonsplatz in München. \n\n\n\nGemeinsame Anreise aus Augsburg: 9.45 Uhr\, Hauptbahnhof Augsburg (Alter Eingang)
URL:https://auxpunks.uber.space/event/pro-choice-gegen-den-rechten-marsch-fuers-leben/
LOCATION:Augsburg Hauptbahnhof
ATTACH;FMTTYPE=image/jpeg:https://auxpunks.uber.space/wp-content/uploads/2026/04/ProChoiceAnreiseAux26.jpeg
END:VEVENT
BEGIN:VEVENT
DTSTART;TZID=Europe/Berlin:20260411T123000
DTEND;TZID=Europe/Berlin:20260411T173000
DTSTAMP:20260420T181605
CREATED:20260312T142219Z
LAST-MODIFIED:20260312T142221Z
UID:10016635-1775910600-1775928600@auxpunks.uber.space
SUMMARY:PRÜF-Demos für Prüfung des AfD-Verbots
DESCRIPTION:Jeden Monat. Immer am zweiten Samstag allen Landeshauptstädten:\nin München jeweils um 14:00 Uhr am Geschwister-Scholl-Platz \nEs gibt eine gemeinsame Anreise aus Augsburg mit dem RE9 um 12:38 Uhr
URL:https://auxpunks.uber.space/event/pruef-demos-fuer-pruefung-des-afd-verbots/2026-04-11/
LOCATION:Augsburg Hauptbahnhof
CATEGORIES:Demos & Aktionen
ATTACH;FMTTYPE=image/jpeg:https://auxpunks.uber.space/wp-content/uploads/2026/03/PruefDemosMuenchen2026Sharepic.jpeg
END:VEVENT
BEGIN:VEVENT
DTSTART;TZID=Europe/Berlin:20260314T123000
DTEND;TZID=Europe/Berlin:20260314T173000
DTSTAMP:20260420T181605
CREATED:20260312T142219Z
LAST-MODIFIED:20260312T142221Z
UID:10016634-1773491400-1773509400@auxpunks.uber.space
SUMMARY:PRÜF-Demos für Prüfung des AfD-Verbots
DESCRIPTION:Jeden Monat. Immer am zweiten Samstag allen Landeshauptstädten:\nin München jeweils um 14:00 Uhr am Geschwister-Scholl-Platz \nEs gibt eine gemeinsame Anreise aus Augsburg mit dem RE9 um 12:38 Uhr
URL:https://auxpunks.uber.space/event/pruef-demos-fuer-pruefung-des-afd-verbots/2026-03-14/
LOCATION:Augsburg Hauptbahnhof
CATEGORIES:Demos & Aktionen
ATTACH;FMTTYPE=image/jpeg:https://auxpunks.uber.space/wp-content/uploads/2026/03/PruefDemosMuenchen2026Sharepic.jpeg
END:VEVENT
BEGIN:VEVENT
DTSTART;TZID=Europe/Berlin:20251213T123000
DTEND;TZID=Europe/Berlin:20251213T170000
DTSTAMP:20260420T181605
CREATED:20251212T105914Z
LAST-MODIFIED:20251212T105915Z
UID:10015990-1765629000-1765645200@auxpunks.uber.space
SUMMARY:gemeinsame Anreise zur Prüf-Demo in M
DESCRIPTION:Nachdem die Abschlussdemo der linken Einführungswochen am 13.12. abgesagt wurde\, gibt es als Alternative aber eine gemeinsame Anreise zur Prüfdemo in München. Am Samstag mit dem Zug ab Aux Hbf um 12:30.\nDie Demo in München startet um 14 Uhr.\nNach der Rückfahrt dann ab 18 Uhr zur Abschlussparty im Kraetzwerk!
URL:https://auxpunks.uber.space/event/gemeinsame-anreise-zur-pruef-demo-in-m/
LOCATION:Augsburg Hauptbahnhof
CATEGORIES:Demos & Aktionen,Linke Einführungswochen 2025
ATTACH;FMTTYPE=image/jpeg:https://auxpunks.uber.space/wp-content/uploads/2025/12/Demo1312.jpeg
ORGANIZER;CN="Ehrenamtliches Orga-Team":MAILTO:verkehrswende-augsburg@riseup.net
END:VEVENT
BEGIN:VEVENT
DTSTART;TZID=Europe/Berlin:20250320T103000
DTEND;TZID=Europe/Berlin:20250320T170000
DTSTAMP:20260420T181605
CREATED:20250317T122306Z
LAST-MODIFIED:20250319T120129Z
UID:10014517-1742466600-1742490000@auxpunks.uber.space
SUMMARY:Gemeinsame Anreise nach Memmingen (500 Jahre Bauernaufstände)
DESCRIPTION:2025 jährt sich der große deutsche Bauernkrieg zum 500. Mal. Die 12 Artikel als erste Formulierung der Freiheits- und Menschenrechte wurden in Memmingen am 20. März 1525 von einem „Bauernparlament“ verabschiedet.Um dies zu würdigen\, möchten wir Geschichte am Originalschauplatz erlebbar machen – ein Blick zurück der Zukunft zugewandt. \nEs wird eingeladen\, an diesem Tag gemeinsam nach Memmingen zur Demo und die anschließende Lesung der 12 Artikel zu fahren.Wir treffen uns am 20.03.25 um 10.20 Uhr am Hbf\, vor dem alten Eingang. Der Zug fährt um 10:42 auf Gleis 12 \n500 Jahre WiderstandFür das LebenFür das Landhttps://500jahre.org/ \nhttps://www.abl-ev.de/start
URL:https://auxpunks.uber.space/event/gemeinsame-anreise-nach-memmingen-500-jahre-bauernaufstaende/
LOCATION:Augsburg Hauptbahnhof
CATEGORIES:Demos & Aktionen
END:VEVENT
BEGIN:VEVENT
DTSTART;TZID=Europe/Berlin:20250222T122000
DTEND;TZID=Europe/Berlin:20250222T173000
DTSTAMP:20260420T181605
CREATED:20250220T213418Z
LAST-MODIFIED:20250220T213419Z
UID:10014469-1740226800-1740245400@auxpunks.uber.space
SUMMARY:ZUGTREFFPUNKT Demo Free Hanna! Free all Antifas!
DESCRIPTION:Gemeinsame Anreise von Augsburg zur Demo am 22.2. in München!\nTreffpunkt 12:20 am HBF Augsburg (am hinteren/alten Eingang)\n\nDer Prozess von Hanna startete am 19. Februar 2025 in München. Die Antifaschistin sitzt seit Mai 2024 in U-Haft. Ihr wird vorgeworfen\, mit anderen im sogenannten „Budapest-Komplex“ Beschuldigten an körperlichen Auseinandersetzungen mit Neonazis in Ungarn beteiligt gewesen zu sein.\nWir sind wütend\, wir sind solidarisch\, wir sind alle Antifa!\nKommt mit uns am 22.2.2025\, dem Samstag nach Prozessbeginn in München auf die Straße und zeigt euch solidarisch!
URL:https://auxpunks.uber.space/event/zugtreffpunkt-demo-free-hanna-free-all-antifas/
LOCATION:Augsburg Hauptbahnhof
CATEGORIES:Demos & Aktionen
END:VEVENT
END:VCALENDAR