BEGIN:VCALENDAR
VERSION:2.0
PRODID:-//auxpunks - ECPv6.15.11//NONSGML v1.0//EN
CALSCALE:GREGORIAN
METHOD:PUBLISH
X-WR-CALNAME:auxpunks
X-ORIGINAL-URL:https://auxpunks.uber.space
X-WR-CALDESC:Veranstaltungen für auxpunks
REFRESH-INTERVAL;VALUE=DURATION:PT1H
X-Robots-Tag:noindex
X-PUBLISHED-TTL:PT1H
BEGIN:VTIMEZONE
TZID:Europe/Berlin
BEGIN:DAYLIGHT
TZOFFSETFROM:+0100
TZOFFSETTO:+0200
TZNAME:CEST
DTSTART:20250330T010000
END:DAYLIGHT
BEGIN:STANDARD
TZOFFSETFROM:+0200
TZOFFSETTO:+0100
TZNAME:CET
DTSTART:20251026T010000
END:STANDARD
BEGIN:DAYLIGHT
TZOFFSETFROM:+0100
TZOFFSETTO:+0200
TZNAME:CEST
DTSTART:20260329T010000
END:DAYLIGHT
BEGIN:STANDARD
TZOFFSETFROM:+0200
TZOFFSETTO:+0100
TZNAME:CET
DTSTART:20261025T010000
END:STANDARD
BEGIN:DAYLIGHT
TZOFFSETFROM:+0100
TZOFFSETTO:+0200
TZNAME:CEST
DTSTART:20270328T010000
END:DAYLIGHT
BEGIN:STANDARD
TZOFFSETFROM:+0200
TZOFFSETTO:+0100
TZNAME:CET
DTSTART:20271031T010000
END:STANDARD
BEGIN:DAYLIGHT
TZOFFSETFROM:+0100
TZOFFSETTO:+0200
TZNAME:CEST
DTSTART:20280326T010000
END:DAYLIGHT
BEGIN:STANDARD
TZOFFSETFROM:+0200
TZOFFSETTO:+0100
TZNAME:CET
DTSTART:20281029T010000
END:STANDARD
BEGIN:DAYLIGHT
TZOFFSETFROM:+0100
TZOFFSETTO:+0200
TZNAME:CEST
DTSTART:20290325T010000
END:DAYLIGHT
BEGIN:STANDARD
TZOFFSETFROM:+0200
TZOFFSETTO:+0100
TZNAME:CET
DTSTART:20291028T010000
END:STANDARD
END:VTIMEZONE
BEGIN:VEVENT
DTSTART;TZID=Europe/Berlin:20260509T123000
DTEND;TZID=Europe/Berlin:20260509T173000
DTSTAMP:20260420T170531
CREATED:20260312T142219Z
LAST-MODIFIED:20260312T142221Z
UID:10016636-1778329800-1778347800@auxpunks.uber.space
SUMMARY:PRÜF-Demos für Prüfung des AfD-Verbots
DESCRIPTION:Jeden Monat. Immer am zweiten Samstag allen Landeshauptstädten:\nin München jeweils um 14:00 Uhr am Geschwister-Scholl-Platz \nEs gibt eine gemeinsame Anreise aus Augsburg mit dem RE9 um 12:38 Uhr
URL:https://auxpunks.uber.space/event/pruef-demos-fuer-pruefung-des-afd-verbots/2026-05-09/
LOCATION:Augsburg Hauptbahnhof
CATEGORIES:Demos & Aktionen
ATTACH;FMTTYPE=image/jpeg:https://auxpunks.uber.space/wp-content/uploads/2026/03/PruefDemosMuenchen2026Sharepic.jpeg
END:VEVENT
BEGIN:VEVENT
DTSTART;TZID=Europe/Berlin:20260613T123000
DTEND;TZID=Europe/Berlin:20260613T173000
DTSTAMP:20260420T170531
CREATED:20260312T142219Z
LAST-MODIFIED:20260312T142221Z
UID:10016637-1781353800-1781371800@auxpunks.uber.space
SUMMARY:PRÜF-Demos für Prüfung des AfD-Verbots
DESCRIPTION:Jeden Monat. Immer am zweiten Samstag allen Landeshauptstädten:\nin München jeweils um 14:00 Uhr am Geschwister-Scholl-Platz \nEs gibt eine gemeinsame Anreise aus Augsburg mit dem RE9 um 12:38 Uhr
URL:https://auxpunks.uber.space/event/pruef-demos-fuer-pruefung-des-afd-verbots/2026-06-13/
LOCATION:Augsburg Hauptbahnhof
CATEGORIES:Demos & Aktionen
ATTACH;FMTTYPE=image/jpeg:https://auxpunks.uber.space/wp-content/uploads/2026/03/PruefDemosMuenchen2026Sharepic.jpeg
END:VEVENT
BEGIN:VEVENT
DTSTART;TZID=Europe/Berlin:20260711T123000
DTEND;TZID=Europe/Berlin:20260711T173000
DTSTAMP:20260420T170531
CREATED:20260312T142219Z
LAST-MODIFIED:20260312T142221Z
UID:10016638-1783773000-1783791000@auxpunks.uber.space
SUMMARY:PRÜF-Demos für Prüfung des AfD-Verbots
DESCRIPTION:Jeden Monat. Immer am zweiten Samstag allen Landeshauptstädten:\nin München jeweils um 14:00 Uhr am Geschwister-Scholl-Platz \nEs gibt eine gemeinsame Anreise aus Augsburg mit dem RE9 um 12:38 Uhr
URL:https://auxpunks.uber.space/event/pruef-demos-fuer-pruefung-des-afd-verbots/2026-07-11/
LOCATION:Augsburg Hauptbahnhof
CATEGORIES:Demos & Aktionen
ATTACH;FMTTYPE=image/jpeg:https://auxpunks.uber.space/wp-content/uploads/2026/03/PruefDemosMuenchen2026Sharepic.jpeg
END:VEVENT
BEGIN:VEVENT
DTSTART;TZID=Europe/Berlin:20260808T123000
DTEND;TZID=Europe/Berlin:20260808T173000
DTSTAMP:20260420T170531
CREATED:20260312T142219Z
LAST-MODIFIED:20260312T142221Z
UID:10016639-1786192200-1786210200@auxpunks.uber.space
SUMMARY:PRÜF-Demos für Prüfung des AfD-Verbots
DESCRIPTION:Jeden Monat. Immer am zweiten Samstag allen Landeshauptstädten:\nin München jeweils um 14:00 Uhr am Geschwister-Scholl-Platz \nEs gibt eine gemeinsame Anreise aus Augsburg mit dem RE9 um 12:38 Uhr
URL:https://auxpunks.uber.space/event/pruef-demos-fuer-pruefung-des-afd-verbots/2026-08-08/
LOCATION:Augsburg Hauptbahnhof
CATEGORIES:Demos & Aktionen
ATTACH;FMTTYPE=image/jpeg:https://auxpunks.uber.space/wp-content/uploads/2026/03/PruefDemosMuenchen2026Sharepic.jpeg
END:VEVENT
BEGIN:VEVENT
DTSTART;TZID=Europe/Berlin:20260912T123000
DTEND;TZID=Europe/Berlin:20260912T173000
DTSTAMP:20260420T170531
CREATED:20260312T142219Z
LAST-MODIFIED:20260312T142221Z
UID:10016640-1789216200-1789234200@auxpunks.uber.space
SUMMARY:PRÜF-Demos für Prüfung des AfD-Verbots
DESCRIPTION:Jeden Monat. Immer am zweiten Samstag allen Landeshauptstädten:\nin München jeweils um 14:00 Uhr am Geschwister-Scholl-Platz \nEs gibt eine gemeinsame Anreise aus Augsburg mit dem RE9 um 12:38 Uhr
URL:https://auxpunks.uber.space/event/pruef-demos-fuer-pruefung-des-afd-verbots/2026-09-12/
LOCATION:Augsburg Hauptbahnhof
CATEGORIES:Demos & Aktionen
ATTACH;FMTTYPE=image/jpeg:https://auxpunks.uber.space/wp-content/uploads/2026/03/PruefDemosMuenchen2026Sharepic.jpeg
END:VEVENT
BEGIN:VEVENT
DTSTART;TZID=Europe/Berlin:20261010T123000
DTEND;TZID=Europe/Berlin:20261010T173000
DTSTAMP:20260420T170531
CREATED:20260312T142219Z
LAST-MODIFIED:20260312T142221Z
UID:10016641-1791635400-1791653400@auxpunks.uber.space
SUMMARY:PRÜF-Demos für Prüfung des AfD-Verbots
DESCRIPTION:Jeden Monat. Immer am zweiten Samstag allen Landeshauptstädten:\nin München jeweils um 14:00 Uhr am Geschwister-Scholl-Platz \nEs gibt eine gemeinsame Anreise aus Augsburg mit dem RE9 um 12:38 Uhr
URL:https://auxpunks.uber.space/event/pruef-demos-fuer-pruefung-des-afd-verbots/2026-10-10/
LOCATION:Augsburg Hauptbahnhof
CATEGORIES:Demos & Aktionen
ATTACH;FMTTYPE=image/jpeg:https://auxpunks.uber.space/wp-content/uploads/2026/03/PruefDemosMuenchen2026Sharepic.jpeg
END:VEVENT
BEGIN:VEVENT
DTSTART;TZID=Europe/Berlin:20261114T123000
DTEND;TZID=Europe/Berlin:20261114T173000
DTSTAMP:20260420T170531
CREATED:20260312T142219Z
LAST-MODIFIED:20260312T142221Z
UID:10016642-1794659400-1794677400@auxpunks.uber.space
SUMMARY:PRÜF-Demos für Prüfung des AfD-Verbots
DESCRIPTION:Jeden Monat. Immer am zweiten Samstag allen Landeshauptstädten:\nin München jeweils um 14:00 Uhr am Geschwister-Scholl-Platz \nEs gibt eine gemeinsame Anreise aus Augsburg mit dem RE9 um 12:38 Uhr
URL:https://auxpunks.uber.space/event/pruef-demos-fuer-pruefung-des-afd-verbots/2026-11-14/
LOCATION:Augsburg Hauptbahnhof
CATEGORIES:Demos & Aktionen
ATTACH;FMTTYPE=image/jpeg:https://auxpunks.uber.space/wp-content/uploads/2026/03/PruefDemosMuenchen2026Sharepic.jpeg
END:VEVENT
BEGIN:VEVENT
DTSTART;TZID=Europe/Berlin:20261212T123000
DTEND;TZID=Europe/Berlin:20261212T173000
DTSTAMP:20260420T170531
CREATED:20260312T142219Z
LAST-MODIFIED:20260312T142221Z
UID:10016643-1797078600-1797096600@auxpunks.uber.space
SUMMARY:PRÜF-Demos für Prüfung des AfD-Verbots
DESCRIPTION:Jeden Monat. Immer am zweiten Samstag allen Landeshauptstädten:\nin München jeweils um 14:00 Uhr am Geschwister-Scholl-Platz \nEs gibt eine gemeinsame Anreise aus Augsburg mit dem RE9 um 12:38 Uhr
URL:https://auxpunks.uber.space/event/pruef-demos-fuer-pruefung-des-afd-verbots/2026-12-12/
LOCATION:Augsburg Hauptbahnhof
CATEGORIES:Demos & Aktionen
ATTACH;FMTTYPE=image/jpeg:https://auxpunks.uber.space/wp-content/uploads/2026/03/PruefDemosMuenchen2026Sharepic.jpeg
END:VEVENT
BEGIN:VEVENT
DTSTART;TZID=Europe/Berlin:20270109T123000
DTEND;TZID=Europe/Berlin:20270109T173000
DTSTAMP:20260420T170531
CREATED:20260312T142219Z
LAST-MODIFIED:20260312T142221Z
UID:10016644-1799497800-1799515800@auxpunks.uber.space
SUMMARY:PRÜF-Demos für Prüfung des AfD-Verbots
DESCRIPTION:Jeden Monat. Immer am zweiten Samstag allen Landeshauptstädten:\nin München jeweils um 14:00 Uhr am Geschwister-Scholl-Platz \nEs gibt eine gemeinsame Anreise aus Augsburg mit dem RE9 um 12:38 Uhr
URL:https://auxpunks.uber.space/event/pruef-demos-fuer-pruefung-des-afd-verbots/2027-01-09/
LOCATION:Augsburg Hauptbahnhof
CATEGORIES:Demos & Aktionen
ATTACH;FMTTYPE=image/jpeg:https://auxpunks.uber.space/wp-content/uploads/2026/03/PruefDemosMuenchen2026Sharepic.jpeg
END:VEVENT
BEGIN:VEVENT
DTSTART;TZID=Europe/Berlin:20270213T123000
DTEND;TZID=Europe/Berlin:20270213T173000
DTSTAMP:20260420T170531
CREATED:20260312T142219Z
LAST-MODIFIED:20260312T142221Z
UID:10016645-1802521800-1802539800@auxpunks.uber.space
SUMMARY:PRÜF-Demos für Prüfung des AfD-Verbots
DESCRIPTION:Jeden Monat. Immer am zweiten Samstag allen Landeshauptstädten:\nin München jeweils um 14:00 Uhr am Geschwister-Scholl-Platz \nEs gibt eine gemeinsame Anreise aus Augsburg mit dem RE9 um 12:38 Uhr
URL:https://auxpunks.uber.space/event/pruef-demos-fuer-pruefung-des-afd-verbots/2027-02-13/
LOCATION:Augsburg Hauptbahnhof
CATEGORIES:Demos & Aktionen
ATTACH;FMTTYPE=image/jpeg:https://auxpunks.uber.space/wp-content/uploads/2026/03/PruefDemosMuenchen2026Sharepic.jpeg
END:VEVENT
BEGIN:VEVENT
DTSTART;TZID=Europe/Berlin:20270313T123000
DTEND;TZID=Europe/Berlin:20270313T173000
DTSTAMP:20260420T170531
CREATED:20260312T142219Z
LAST-MODIFIED:20260312T142221Z
UID:10016646-1804941000-1804959000@auxpunks.uber.space
SUMMARY:PRÜF-Demos für Prüfung des AfD-Verbots
DESCRIPTION:Jeden Monat. Immer am zweiten Samstag allen Landeshauptstädten:\nin München jeweils um 14:00 Uhr am Geschwister-Scholl-Platz \nEs gibt eine gemeinsame Anreise aus Augsburg mit dem RE9 um 12:38 Uhr
URL:https://auxpunks.uber.space/event/pruef-demos-fuer-pruefung-des-afd-verbots/2027-03-13/
LOCATION:Augsburg Hauptbahnhof
CATEGORIES:Demos & Aktionen
ATTACH;FMTTYPE=image/jpeg:https://auxpunks.uber.space/wp-content/uploads/2026/03/PruefDemosMuenchen2026Sharepic.jpeg
END:VEVENT
BEGIN:VEVENT
DTSTART;TZID=Europe/Berlin:20270410T123000
DTEND;TZID=Europe/Berlin:20270410T173000
DTSTAMP:20260420T170531
CREATED:20260312T142219Z
LAST-MODIFIED:20260312T142221Z
UID:10016647-1807360200-1807378200@auxpunks.uber.space
SUMMARY:PRÜF-Demos für Prüfung des AfD-Verbots
DESCRIPTION:Jeden Monat. Immer am zweiten Samstag allen Landeshauptstädten:\nin München jeweils um 14:00 Uhr am Geschwister-Scholl-Platz \nEs gibt eine gemeinsame Anreise aus Augsburg mit dem RE9 um 12:38 Uhr
URL:https://auxpunks.uber.space/event/pruef-demos-fuer-pruefung-des-afd-verbots/2027-04-10/
LOCATION:Augsburg Hauptbahnhof
CATEGORIES:Demos & Aktionen
ATTACH;FMTTYPE=image/jpeg:https://auxpunks.uber.space/wp-content/uploads/2026/03/PruefDemosMuenchen2026Sharepic.jpeg
END:VEVENT
BEGIN:VEVENT
DTSTART;TZID=Europe/Berlin:20270508T123000
DTEND;TZID=Europe/Berlin:20270508T173000
DTSTAMP:20260420T170531
CREATED:20260312T142219Z
LAST-MODIFIED:20260312T142221Z
UID:10016648-1809779400-1809797400@auxpunks.uber.space
SUMMARY:PRÜF-Demos für Prüfung des AfD-Verbots
DESCRIPTION:Jeden Monat. Immer am zweiten Samstag allen Landeshauptstädten:\nin München jeweils um 14:00 Uhr am Geschwister-Scholl-Platz \nEs gibt eine gemeinsame Anreise aus Augsburg mit dem RE9 um 12:38 Uhr
URL:https://auxpunks.uber.space/event/pruef-demos-fuer-pruefung-des-afd-verbots/2027-05-08/
LOCATION:Augsburg Hauptbahnhof
CATEGORIES:Demos & Aktionen
ATTACH;FMTTYPE=image/jpeg:https://auxpunks.uber.space/wp-content/uploads/2026/03/PruefDemosMuenchen2026Sharepic.jpeg
END:VEVENT
BEGIN:VEVENT
DTSTART;TZID=Europe/Berlin:20270612T123000
DTEND;TZID=Europe/Berlin:20270612T173000
DTSTAMP:20260420T170531
CREATED:20260312T142219Z
LAST-MODIFIED:20260312T142221Z
UID:10016649-1812803400-1812821400@auxpunks.uber.space
SUMMARY:PRÜF-Demos für Prüfung des AfD-Verbots
DESCRIPTION:Jeden Monat. Immer am zweiten Samstag allen Landeshauptstädten:\nin München jeweils um 14:00 Uhr am Geschwister-Scholl-Platz \nEs gibt eine gemeinsame Anreise aus Augsburg mit dem RE9 um 12:38 Uhr
URL:https://auxpunks.uber.space/event/pruef-demos-fuer-pruefung-des-afd-verbots/2027-06-12/
LOCATION:Augsburg Hauptbahnhof
CATEGORIES:Demos & Aktionen
ATTACH;FMTTYPE=image/jpeg:https://auxpunks.uber.space/wp-content/uploads/2026/03/PruefDemosMuenchen2026Sharepic.jpeg
END:VEVENT
BEGIN:VEVENT
DTSTART;TZID=Europe/Berlin:20270710T123000
DTEND;TZID=Europe/Berlin:20270710T173000
DTSTAMP:20260420T170531
CREATED:20260312T142219Z
LAST-MODIFIED:20260312T142221Z
UID:10016650-1815222600-1815240600@auxpunks.uber.space
SUMMARY:PRÜF-Demos für Prüfung des AfD-Verbots
DESCRIPTION:Jeden Monat. Immer am zweiten Samstag allen Landeshauptstädten:\nin München jeweils um 14:00 Uhr am Geschwister-Scholl-Platz \nEs gibt eine gemeinsame Anreise aus Augsburg mit dem RE9 um 12:38 Uhr
URL:https://auxpunks.uber.space/event/pruef-demos-fuer-pruefung-des-afd-verbots/2027-07-10/
LOCATION:Augsburg Hauptbahnhof
CATEGORIES:Demos & Aktionen
ATTACH;FMTTYPE=image/jpeg:https://auxpunks.uber.space/wp-content/uploads/2026/03/PruefDemosMuenchen2026Sharepic.jpeg
END:VEVENT
BEGIN:VEVENT
DTSTART;TZID=Europe/Berlin:20270814T123000
DTEND;TZID=Europe/Berlin:20270814T173000
DTSTAMP:20260420T170531
CREATED:20260312T142219Z
LAST-MODIFIED:20260312T142221Z
UID:10016651-1818246600-1818264600@auxpunks.uber.space
SUMMARY:PRÜF-Demos für Prüfung des AfD-Verbots
DESCRIPTION:Jeden Monat. Immer am zweiten Samstag allen Landeshauptstädten:\nin München jeweils um 14:00 Uhr am Geschwister-Scholl-Platz \nEs gibt eine gemeinsame Anreise aus Augsburg mit dem RE9 um 12:38 Uhr
URL:https://auxpunks.uber.space/event/pruef-demos-fuer-pruefung-des-afd-verbots/2027-08-14/
LOCATION:Augsburg Hauptbahnhof
CATEGORIES:Demos & Aktionen
ATTACH;FMTTYPE=image/jpeg:https://auxpunks.uber.space/wp-content/uploads/2026/03/PruefDemosMuenchen2026Sharepic.jpeg
END:VEVENT
BEGIN:VEVENT
DTSTART;TZID=Europe/Berlin:20270911T123000
DTEND;TZID=Europe/Berlin:20270911T173000
DTSTAMP:20260420T170531
CREATED:20260312T142219Z
LAST-MODIFIED:20260312T142221Z
UID:10016652-1820665800-1820683800@auxpunks.uber.space
SUMMARY:PRÜF-Demos für Prüfung des AfD-Verbots
DESCRIPTION:Jeden Monat. Immer am zweiten Samstag allen Landeshauptstädten:\nin München jeweils um 14:00 Uhr am Geschwister-Scholl-Platz \nEs gibt eine gemeinsame Anreise aus Augsburg mit dem RE9 um 12:38 Uhr
URL:https://auxpunks.uber.space/event/pruef-demos-fuer-pruefung-des-afd-verbots/2027-09-11/
LOCATION:Augsburg Hauptbahnhof
CATEGORIES:Demos & Aktionen
ATTACH;FMTTYPE=image/jpeg:https://auxpunks.uber.space/wp-content/uploads/2026/03/PruefDemosMuenchen2026Sharepic.jpeg
END:VEVENT
BEGIN:VEVENT
DTSTART;TZID=Europe/Berlin:20271009T123000
DTEND;TZID=Europe/Berlin:20271009T173000
DTSTAMP:20260420T170531
CREATED:20260312T142219Z
LAST-MODIFIED:20260312T142221Z
UID:10016653-1823085000-1823103000@auxpunks.uber.space
SUMMARY:PRÜF-Demos für Prüfung des AfD-Verbots
DESCRIPTION:Jeden Monat. Immer am zweiten Samstag allen Landeshauptstädten:\nin München jeweils um 14:00 Uhr am Geschwister-Scholl-Platz \nEs gibt eine gemeinsame Anreise aus Augsburg mit dem RE9 um 12:38 Uhr
URL:https://auxpunks.uber.space/event/pruef-demos-fuer-pruefung-des-afd-verbots/2027-10-09/
LOCATION:Augsburg Hauptbahnhof
CATEGORIES:Demos & Aktionen
ATTACH;FMTTYPE=image/jpeg:https://auxpunks.uber.space/wp-content/uploads/2026/03/PruefDemosMuenchen2026Sharepic.jpeg
END:VEVENT
BEGIN:VEVENT
DTSTART;TZID=Europe/Berlin:20271113T123000
DTEND;TZID=Europe/Berlin:20271113T173000
DTSTAMP:20260420T170531
CREATED:20260312T142219Z
LAST-MODIFIED:20260312T142221Z
UID:10016654-1826109000-1826127000@auxpunks.uber.space
SUMMARY:PRÜF-Demos für Prüfung des AfD-Verbots
DESCRIPTION:Jeden Monat. Immer am zweiten Samstag allen Landeshauptstädten:\nin München jeweils um 14:00 Uhr am Geschwister-Scholl-Platz \nEs gibt eine gemeinsame Anreise aus Augsburg mit dem RE9 um 12:38 Uhr
URL:https://auxpunks.uber.space/event/pruef-demos-fuer-pruefung-des-afd-verbots/2027-11-13/
LOCATION:Augsburg Hauptbahnhof
CATEGORIES:Demos & Aktionen
ATTACH;FMTTYPE=image/jpeg:https://auxpunks.uber.space/wp-content/uploads/2026/03/PruefDemosMuenchen2026Sharepic.jpeg
END:VEVENT
BEGIN:VEVENT
DTSTART;TZID=Europe/Berlin:20271211T123000
DTEND;TZID=Europe/Berlin:20271211T173000
DTSTAMP:20260420T170531
CREATED:20260312T142219Z
LAST-MODIFIED:20260312T142221Z
UID:10016655-1828528200-1828546200@auxpunks.uber.space
SUMMARY:PRÜF-Demos für Prüfung des AfD-Verbots
DESCRIPTION:Jeden Monat. Immer am zweiten Samstag allen Landeshauptstädten:\nin München jeweils um 14:00 Uhr am Geschwister-Scholl-Platz \nEs gibt eine gemeinsame Anreise aus Augsburg mit dem RE9 um 12:38 Uhr
URL:https://auxpunks.uber.space/event/pruef-demos-fuer-pruefung-des-afd-verbots/2027-12-11/
LOCATION:Augsburg Hauptbahnhof
CATEGORIES:Demos & Aktionen
ATTACH;FMTTYPE=image/jpeg:https://auxpunks.uber.space/wp-content/uploads/2026/03/PruefDemosMuenchen2026Sharepic.jpeg
END:VEVENT
BEGIN:VEVENT
DTSTART;TZID=Europe/Berlin:20280108T123000
DTEND;TZID=Europe/Berlin:20280108T173000
DTSTAMP:20260420T170531
CREATED:20260312T142219Z
LAST-MODIFIED:20260312T142221Z
UID:10016656-1830947400-1830965400@auxpunks.uber.space
SUMMARY:PRÜF-Demos für Prüfung des AfD-Verbots
DESCRIPTION:Jeden Monat. Immer am zweiten Samstag allen Landeshauptstädten:\nin München jeweils um 14:00 Uhr am Geschwister-Scholl-Platz \nEs gibt eine gemeinsame Anreise aus Augsburg mit dem RE9 um 12:38 Uhr
URL:https://auxpunks.uber.space/event/pruef-demos-fuer-pruefung-des-afd-verbots/2028-01-08/
LOCATION:Augsburg Hauptbahnhof
CATEGORIES:Demos & Aktionen
ATTACH;FMTTYPE=image/jpeg:https://auxpunks.uber.space/wp-content/uploads/2026/03/PruefDemosMuenchen2026Sharepic.jpeg
END:VEVENT
BEGIN:VEVENT
DTSTART;TZID=Europe/Berlin:20280212T123000
DTEND;TZID=Europe/Berlin:20280212T173000
DTSTAMP:20260420T170531
CREATED:20260312T142219Z
LAST-MODIFIED:20260312T142221Z
UID:10016657-1833971400-1833989400@auxpunks.uber.space
SUMMARY:PRÜF-Demos für Prüfung des AfD-Verbots
DESCRIPTION:Jeden Monat. Immer am zweiten Samstag allen Landeshauptstädten:\nin München jeweils um 14:00 Uhr am Geschwister-Scholl-Platz \nEs gibt eine gemeinsame Anreise aus Augsburg mit dem RE9 um 12:38 Uhr
URL:https://auxpunks.uber.space/event/pruef-demos-fuer-pruefung-des-afd-verbots/2028-02-12/
LOCATION:Augsburg Hauptbahnhof
CATEGORIES:Demos & Aktionen
ATTACH;FMTTYPE=image/jpeg:https://auxpunks.uber.space/wp-content/uploads/2026/03/PruefDemosMuenchen2026Sharepic.jpeg
END:VEVENT
BEGIN:VEVENT
DTSTART;TZID=Europe/Berlin:20280311T123000
DTEND;TZID=Europe/Berlin:20280311T173000
DTSTAMP:20260420T170531
CREATED:20260312T142219Z
LAST-MODIFIED:20260312T142221Z
UID:10016658-1836390600-1836408600@auxpunks.uber.space
SUMMARY:PRÜF-Demos für Prüfung des AfD-Verbots
DESCRIPTION:Jeden Monat. Immer am zweiten Samstag allen Landeshauptstädten:\nin München jeweils um 14:00 Uhr am Geschwister-Scholl-Platz \nEs gibt eine gemeinsame Anreise aus Augsburg mit dem RE9 um 12:38 Uhr
URL:https://auxpunks.uber.space/event/pruef-demos-fuer-pruefung-des-afd-verbots/2028-03-11/
LOCATION:Augsburg Hauptbahnhof
CATEGORIES:Demos & Aktionen
ATTACH;FMTTYPE=image/jpeg:https://auxpunks.uber.space/wp-content/uploads/2026/03/PruefDemosMuenchen2026Sharepic.jpeg
END:VEVENT
BEGIN:VEVENT
DTSTART;TZID=Europe/Berlin:20280408T123000
DTEND;TZID=Europe/Berlin:20280408T173000
DTSTAMP:20260420T170531
CREATED:20260312T142219Z
LAST-MODIFIED:20260312T142221Z
UID:10016659-1838809800-1838827800@auxpunks.uber.space
SUMMARY:PRÜF-Demos für Prüfung des AfD-Verbots
DESCRIPTION:Jeden Monat. Immer am zweiten Samstag allen Landeshauptstädten:\nin München jeweils um 14:00 Uhr am Geschwister-Scholl-Platz \nEs gibt eine gemeinsame Anreise aus Augsburg mit dem RE9 um 12:38 Uhr
URL:https://auxpunks.uber.space/event/pruef-demos-fuer-pruefung-des-afd-verbots/2028-04-08/
LOCATION:Augsburg Hauptbahnhof
CATEGORIES:Demos & Aktionen
ATTACH;FMTTYPE=image/jpeg:https://auxpunks.uber.space/wp-content/uploads/2026/03/PruefDemosMuenchen2026Sharepic.jpeg
END:VEVENT
BEGIN:VEVENT
DTSTART;TZID=Europe/Berlin:20280513T123000
DTEND;TZID=Europe/Berlin:20280513T173000
DTSTAMP:20260420T170531
CREATED:20260312T142219Z
LAST-MODIFIED:20260312T142221Z
UID:10016660-1841833800-1841851800@auxpunks.uber.space
SUMMARY:PRÜF-Demos für Prüfung des AfD-Verbots
DESCRIPTION:Jeden Monat. Immer am zweiten Samstag allen Landeshauptstädten:\nin München jeweils um 14:00 Uhr am Geschwister-Scholl-Platz \nEs gibt eine gemeinsame Anreise aus Augsburg mit dem RE9 um 12:38 Uhr
URL:https://auxpunks.uber.space/event/pruef-demos-fuer-pruefung-des-afd-verbots/2028-05-13/
LOCATION:Augsburg Hauptbahnhof
CATEGORIES:Demos & Aktionen
ATTACH;FMTTYPE=image/jpeg:https://auxpunks.uber.space/wp-content/uploads/2026/03/PruefDemosMuenchen2026Sharepic.jpeg
END:VEVENT
BEGIN:VEVENT
DTSTART;TZID=Europe/Berlin:20280610T123000
DTEND;TZID=Europe/Berlin:20280610T173000
DTSTAMP:20260420T170531
CREATED:20260312T142219Z
LAST-MODIFIED:20260312T142221Z
UID:10016661-1844253000-1844271000@auxpunks.uber.space
SUMMARY:PRÜF-Demos für Prüfung des AfD-Verbots
DESCRIPTION:Jeden Monat. Immer am zweiten Samstag allen Landeshauptstädten:\nin München jeweils um 14:00 Uhr am Geschwister-Scholl-Platz \nEs gibt eine gemeinsame Anreise aus Augsburg mit dem RE9 um 12:38 Uhr
URL:https://auxpunks.uber.space/event/pruef-demos-fuer-pruefung-des-afd-verbots/2028-06-10/
LOCATION:Augsburg Hauptbahnhof
CATEGORIES:Demos & Aktionen
ATTACH;FMTTYPE=image/jpeg:https://auxpunks.uber.space/wp-content/uploads/2026/03/PruefDemosMuenchen2026Sharepic.jpeg
END:VEVENT
BEGIN:VEVENT
DTSTART;TZID=Europe/Berlin:20280708T123000
DTEND;TZID=Europe/Berlin:20280708T173000
DTSTAMP:20260420T170531
CREATED:20260312T142219Z
LAST-MODIFIED:20260312T142221Z
UID:10016662-1846672200-1846690200@auxpunks.uber.space
SUMMARY:PRÜF-Demos für Prüfung des AfD-Verbots
DESCRIPTION:Jeden Monat. Immer am zweiten Samstag allen Landeshauptstädten:\nin München jeweils um 14:00 Uhr am Geschwister-Scholl-Platz \nEs gibt eine gemeinsame Anreise aus Augsburg mit dem RE9 um 12:38 Uhr
URL:https://auxpunks.uber.space/event/pruef-demos-fuer-pruefung-des-afd-verbots/2028-07-08/
LOCATION:Augsburg Hauptbahnhof
CATEGORIES:Demos & Aktionen
ATTACH;FMTTYPE=image/jpeg:https://auxpunks.uber.space/wp-content/uploads/2026/03/PruefDemosMuenchen2026Sharepic.jpeg
END:VEVENT
BEGIN:VEVENT
DTSTART;TZID=Europe/Berlin:20280812T123000
DTEND;TZID=Europe/Berlin:20280812T173000
DTSTAMP:20260420T170531
CREATED:20260312T142219Z
LAST-MODIFIED:20260312T142221Z
UID:10016663-1849696200-1849714200@auxpunks.uber.space
SUMMARY:PRÜF-Demos für Prüfung des AfD-Verbots
DESCRIPTION:Jeden Monat. Immer am zweiten Samstag allen Landeshauptstädten:\nin München jeweils um 14:00 Uhr am Geschwister-Scholl-Platz \nEs gibt eine gemeinsame Anreise aus Augsburg mit dem RE9 um 12:38 Uhr
URL:https://auxpunks.uber.space/event/pruef-demos-fuer-pruefung-des-afd-verbots/2028-08-12/
LOCATION:Augsburg Hauptbahnhof
CATEGORIES:Demos & Aktionen
ATTACH;FMTTYPE=image/jpeg:https://auxpunks.uber.space/wp-content/uploads/2026/03/PruefDemosMuenchen2026Sharepic.jpeg
END:VEVENT
BEGIN:VEVENT
DTSTART;TZID=Europe/Berlin:20280909T123000
DTEND;TZID=Europe/Berlin:20280909T173000
DTSTAMP:20260420T170531
CREATED:20260312T142219Z
LAST-MODIFIED:20260312T142221Z
UID:10016664-1852115400-1852133400@auxpunks.uber.space
SUMMARY:PRÜF-Demos für Prüfung des AfD-Verbots
DESCRIPTION:Jeden Monat. Immer am zweiten Samstag allen Landeshauptstädten:\nin München jeweils um 14:00 Uhr am Geschwister-Scholl-Platz \nEs gibt eine gemeinsame Anreise aus Augsburg mit dem RE9 um 12:38 Uhr
URL:https://auxpunks.uber.space/event/pruef-demos-fuer-pruefung-des-afd-verbots/2028-09-09/
LOCATION:Augsburg Hauptbahnhof
CATEGORIES:Demos & Aktionen
ATTACH;FMTTYPE=image/jpeg:https://auxpunks.uber.space/wp-content/uploads/2026/03/PruefDemosMuenchen2026Sharepic.jpeg
END:VEVENT
BEGIN:VEVENT
DTSTART;TZID=Europe/Berlin:20281014T123000
DTEND;TZID=Europe/Berlin:20281014T173000
DTSTAMP:20260420T170531
CREATED:20260312T142219Z
LAST-MODIFIED:20260312T142221Z
UID:10016665-1855139400-1855157400@auxpunks.uber.space
SUMMARY:PRÜF-Demos für Prüfung des AfD-Verbots
DESCRIPTION:Jeden Monat. Immer am zweiten Samstag allen Landeshauptstädten:\nin München jeweils um 14:00 Uhr am Geschwister-Scholl-Platz \nEs gibt eine gemeinsame Anreise aus Augsburg mit dem RE9 um 12:38 Uhr
URL:https://auxpunks.uber.space/event/pruef-demos-fuer-pruefung-des-afd-verbots/2028-10-14/
LOCATION:Augsburg Hauptbahnhof
CATEGORIES:Demos & Aktionen
ATTACH;FMTTYPE=image/jpeg:https://auxpunks.uber.space/wp-content/uploads/2026/03/PruefDemosMuenchen2026Sharepic.jpeg
END:VEVENT
END:VCALENDAR