BEGIN:VCALENDAR
VERSION:2.0
PRODID:-//auxpunks - ECPv6.15.11//NONSGML v1.0//EN
CALSCALE:GREGORIAN
METHOD:PUBLISH
X-WR-CALNAME:auxpunks
X-ORIGINAL-URL:https://auxpunks.uber.space
X-WR-CALDESC:Veranstaltungen für auxpunks
REFRESH-INTERVAL;VALUE=DURATION:PT1H
X-Robots-Tag:noindex
X-PUBLISHED-TTL:PT1H
BEGIN:VTIMEZONE
TZID:Europe/Berlin
BEGIN:DAYLIGHT
TZOFFSETFROM:+0100
TZOFFSETTO:+0200
TZNAME:CEST
DTSTART:20240331T010000
END:DAYLIGHT
BEGIN:STANDARD
TZOFFSETFROM:+0200
TZOFFSETTO:+0100
TZNAME:CET
DTSTART:20241027T010000
END:STANDARD
BEGIN:DAYLIGHT
TZOFFSETFROM:+0100
TZOFFSETTO:+0200
TZNAME:CEST
DTSTART:20250330T010000
END:DAYLIGHT
BEGIN:STANDARD
TZOFFSETFROM:+0200
TZOFFSETTO:+0100
TZNAME:CET
DTSTART:20251026T010000
END:STANDARD
BEGIN:DAYLIGHT
TZOFFSETFROM:+0100
TZOFFSETTO:+0200
TZNAME:CEST
DTSTART:20260329T010000
END:DAYLIGHT
BEGIN:STANDARD
TZOFFSETFROM:+0200
TZOFFSETTO:+0100
TZNAME:CET
DTSTART:20261025T010000
END:STANDARD
BEGIN:DAYLIGHT
TZOFFSETFROM:+0100
TZOFFSETTO:+0200
TZNAME:CEST
DTSTART:20270328T010000
END:DAYLIGHT
BEGIN:STANDARD
TZOFFSETFROM:+0200
TZOFFSETTO:+0100
TZNAME:CET
DTSTART:20271031T010000
END:STANDARD
END:VTIMEZONE
BEGIN:VEVENT
DTSTART;TZID=Europe/Berlin:20260411T150000
DTEND;TZID=Europe/Berlin:20260411T160000
DTSTAMP:20260420T181549
CREATED:20260409T053924Z
LAST-MODIFIED:20260409T054045Z
UID:10016715-1775919600-1775923200@auxpunks.uber.space
SUMMARY:DEMO: Es reicht! Schluss mit sexualisierter Gewalt offline und online
DESCRIPTION:KUNDGEBUNG AM RATHAUSPLATZ\n\nWir sind wütend! \nJeden Tag werden Frauen* und Mädchen Opfer von sexualisierter Gewalt.\nAuch in Augsburg. \nEs reicht. \nWir wollen nicht länger schweigen.\nWir wollen gemeinsam ein Zeichen setzen für Geschlechtergerechtigkeit. \n\nEin Bündnis engagierter FLINTAs lädt ein zur gemeinsamen solidarischen Kundgebung auf dem Rathausplatz. \n\nCis-Männer sind ausdrücklich erlaubt um zuzuhören\, zu begreifen und sich zu solidarisieren. \nFür eure Töchter\, Mütter\, Schwestern\, Partner*innen.
URL:https://auxpunks.uber.space/event/es-reicht-schluss-mit-sexualisierter-gewalt-offline-und-online/
LOCATION:Augsburger Rathausplatz
CATEGORIES:Demos & Aktionen
ATTACH;FMTTYPE=image/jpeg:https://auxpunks.uber.space/wp-content/uploads/2026/04/signal-2026-04-06-09-39-06-507.jpg
ORGANIZER;CN="Augsburg gegen rechts u.v.m.":MAILTO:anna.miessl@gmx.net
END:VEVENT
BEGIN:VEVENT
DTSTART;TZID=Europe/Berlin:20260206T150000
DTEND;TZID=Europe/Berlin:20260206T170000
DTSTAMP:20260420T181549
CREATED:20260203T170224Z
LAST-MODIFIED:20260203T192108Z
UID:10016331-1770390000-1770397200@auxpunks.uber.space
SUMMARY:CommemorAction Day
DESCRIPTION:CommemorActions sind Aktionen zum Gedenken an Menschen\, die auf ihrer Reise nach Europa auf See gestorben oder verschwunden sind.\n\nEntstanden aus der Zusammenarbeit zwischen den Freund*innen und Familien der im Mittelmeer Vermissten und Aktivist*innen\, die ihre Zeugnisse sammeln und ihre Forderungen wiedergeben\, wurden in den letzten Jahren in ganz Europa und Afrika CommemorActions organisiert.\n\nSie sind sowohl Gedenkveranstaltungen als auch Proteste\, bei denen sich politische Botschaften mit künstlerischen Darbietungen vermischen.\n\nVor allem aber verbinden sie die trauernden Angehörigen mit so vielen Menschen wie möglich und schaffen gemeinsame Plattformen\, um ihre Geschichten und Forderungen bekannt zu machen.\nUnsere Gedanken gelten ihren Angehörigen\, unsere Solidarität Allen\, die in der Hoffnung auf ein Leben in Sicherheit und Freiheit auch in Zukunft alles riskieren.\nGerechtigkeit für die Staatsverbrechen zu fordern\, ist das Mindeste\, was wir dem Andenken der Opfer der Schiffsunglücke und ihren Angehörigen schulden\, ebenso wie den Überlebenden\, die unvorstellbare Traumata erlitten haben.\n\nEs ist jedoch auch ein entscheidender Punkt im Kampf für den Schutz von Migrant*innen und ihren Rechten. In einer Zeit\, in der europäische Regierungen Diskriminierung\, Rassismus und Ausbeutung fördern\, erheben wir unsere Stimmen und fordern eine Welt der Gerechtigkeit und Solidarität.\n\n\n—
URL:https://auxpunks.uber.space/event/commemoraction-day-2/
LOCATION:Augsburger Rathausplatz
CATEGORIES:Demos & Aktionen,Theater, Austellungen & Lesungen
ATTACH;FMTTYPE=image/jpeg:https://auxpunks.uber.space/wp-content/uploads/2026/02/IMG_7147.jpeg
END:VEVENT
BEGIN:VEVENT
DTSTART;TZID=Europe/Berlin:20250222T173000
DTEND;TZID=Europe/Berlin:20250222T190000
DTSTAMP:20260420T181549
CREATED:20250218T145254Z
LAST-MODIFIED:20250218T145255Z
UID:10014463-1740245400-1740250800@auxpunks.uber.space
SUMMARY:Augsburg gegen Rechts
DESCRIPTION:Bürgidemo und Lichtermeer\, vermutlich trotzdem sinnvoll hinzugehen…
URL:https://auxpunks.uber.space/event/augsburg-gegen-rechts/
LOCATION:Augsburger Rathausplatz
CATEGORIES:Demos & Aktionen
END:VEVENT
BEGIN:VEVENT
DTSTART;TZID=Europe/Berlin:20250219T183000
DTEND;TZID=Europe/Berlin:20250219T203000
DTSTAMP:20260420T181549
CREATED:20250218T141922Z
LAST-MODIFIED:20250218T141922Z
UID:10014462-1739989800-1739997000@auxpunks.uber.space
SUMMARY:Say their names
DESCRIPTION:SAY THEIR NAMES\, IMMER UND LAUT.\nSeit fünf Jahren sagen wir ihre Namen. Seit fünf Jahren erinnern wir. Wir erinnern\nund wir fordern Gerechtigkeit\, Aufklärung und Konsequenzen.\n\nOHNE KONSEQUENZEN GIBT ES KEINE GERECHTIGKEIT.\nDer Notruf hat nicht funktioniert\, der Notausgang in der Arena-Bar war verschlossen\, es gab\nin den Ermittlungen eine Täter-Opfer-Umkehr. Im parlamentarischen Untersuchungsausschuss\nim Landtag ging es vor allem um Ausreden\, nicht um Aufklärung. Unsere Ermittlungen und die Untersuchungen von Forensic Architecture\, die in der Ausstellung „Three Doors“ zu sehen sind\, blieben bislang ohne Konsequenzen. Trotz unverzeihlichem Behördenversagen gibt es im Falle des Notausgangs und des Notrufdesasters bislang keine Ermittlungen und keine Aufarbeitung. Trotz vermehrter rassistischer Anschläge gibt es nicht weniger Waffen. Die versprochenen Waffenrechts-\nverschärfungen wurden nicht umgesetzt. Viel zu spät kam eine Entschuldigung des hessischen\nInnenministeriums\, aber nicht von dem damals verantwortlichen Innenminister Beuth. Die\nVerantwortlichen wurden befördert oder mit vollen Bezügen in den Ruhestand geschickt.\nEine Entschuldigung ohne Konsequenzen. Stattdessen tobt ein rassistischer Wahlkampf.\n\nAm Mittwoch\, den 19. Februar wird es auch in Augsburg eine Demonstration und anschließende Gedenkkundgebung geben.\n\nUm 18:30 Uhr beginnt die Demonstration am Rathausplatz.\nUm 19:30 Uhr beginnt die ruhige Gedenkkundgebung am Rathausplatz.\n\nFÜR DAS LEBEN\, GEGEN DIE ANGST.
URL:https://auxpunks.uber.space/event/say-their-names/
LOCATION:Augsburger Rathausplatz
CATEGORIES:Demos & Aktionen
ORGANIZER;CN="IBRA - Initiative zr Bek%C3%A4mpfung von Rassismus Augsburg":MAILTO:koordination@zam-ev.com
END:VEVENT
END:VCALENDAR