BEGIN:VCALENDAR
VERSION:2.0
PRODID:-//auxpunks - ECPv6.15.11//NONSGML v1.0//EN
CALSCALE:GREGORIAN
METHOD:PUBLISH
X-ORIGINAL-URL:https://auxpunks.uber.space
X-WR-CALDESC:Veranstaltungen für auxpunks
REFRESH-INTERVAL;VALUE=DURATION:PT1H
X-Robots-Tag:noindex
X-PUBLISHED-TTL:PT1H
BEGIN:VTIMEZONE
TZID:Europe/Berlin
BEGIN:DAYLIGHT
TZOFFSETFROM:+0100
TZOFFSETTO:+0200
TZNAME:CEST
DTSTART:20230326T010000
END:DAYLIGHT
BEGIN:STANDARD
TZOFFSETFROM:+0200
TZOFFSETTO:+0100
TZNAME:CET
DTSTART:20231029T010000
END:STANDARD
BEGIN:DAYLIGHT
TZOFFSETFROM:+0100
TZOFFSETTO:+0200
TZNAME:CEST
DTSTART:20240331T010000
END:DAYLIGHT
BEGIN:STANDARD
TZOFFSETFROM:+0200
TZOFFSETTO:+0100
TZNAME:CET
DTSTART:20241027T010000
END:STANDARD
BEGIN:DAYLIGHT
TZOFFSETFROM:+0100
TZOFFSETTO:+0200
TZNAME:CEST
DTSTART:20250330T010000
END:DAYLIGHT
BEGIN:STANDARD
TZOFFSETFROM:+0200
TZOFFSETTO:+0100
TZNAME:CET
DTSTART:20251026T010000
END:STANDARD
BEGIN:DAYLIGHT
TZOFFSETFROM:+0100
TZOFFSETTO:+0200
TZNAME:CEST
DTSTART:20260329T010000
END:DAYLIGHT
BEGIN:STANDARD
TZOFFSETFROM:+0200
TZOFFSETTO:+0100
TZNAME:CET
DTSTART:20261025T010000
END:STANDARD
BEGIN:DAYLIGHT
TZOFFSETFROM:+0100
TZOFFSETTO:+0200
TZNAME:CEST
DTSTART:20270328T010000
END:DAYLIGHT
BEGIN:STANDARD
TZOFFSETFROM:+0200
TZOFFSETTO:+0100
TZNAME:CET
DTSTART:20271031T010000
END:STANDARD
END:VTIMEZONE
BEGIN:VEVENT
DTSTART;TZID=Europe/Berlin:20260306T180000
DTEND;TZID=Europe/Berlin:20260306T210000
DTSTAMP:20260420T201850
CREATED:20260301T164045Z
LAST-MODIFIED:20260301T164046Z
UID:10016357-1772820000-1772830800@auxpunks.uber.space
SUMMARY:Late Night Show mit Ines!
DESCRIPTION:Ines Schwerdtner\, Parteivorsitzende der Linken und direkt gewählte Bundestagsabgeordnete kommt nach Augsburg! Bekannt durch ihre lange journalistische Tätigkeit und ihr politisches Wirken wird Ines gemeinsam mit Elisabeth Wiesholler\, OB-Kandidatin der Linken in Augsburg\, darüber sprechen\, für wen Politik eigentlich da ist.\n\nWährend die Armen immer ärmer werden\, machen sich die Reichen die Taschen voll! Der Bundestag sitzt Vetternwirtschaft wie die Maskenaffäre einfach aus\, während auf der anderen Seite Sozialleistungen massiv gekürzt werden sollen. Diese Ungleichheit zeigt\, dass Politik nicht für uns gemacht wird.\n\nWie können wir uns dagegen wehren? Wie machen wir Politik\, die für den Großteil der Menschen da ist? Wie sorgen wir für echte demokratische Teilhabe – bundesweit\, wie auf kommunaler Ebene? Diese und viele weitere Fragen diskutieren wir bei unserer Late Night Show! Und natürlich werden Ines & Elisabeth sich auch einigen spielerischen Herausforderungen stellen müssen – also seid dabei!\n\nVor Ort gibt es ganz praktische Hilfe:\n\nFür Probleme mit Vermieter\, Amt oder Chef ist unsere Sozialberatung Die Linke hilft vor Ort und unterstützt gerne! Bringt unbedingt eure Heizkostenabrechnung mit\, wir prüfen vor Ort ob euer Vermieter euch abzockt und stellen euch dabei die MietwucherApp der Linken vor.
URL:https://auxpunks.uber.space/event/late-night-show-mit-ines/
LOCATION:Augustanasaal\, Im Annahof 4 Augsburg
CATEGORIES:Highlights
ATTACH;FMTTYPE=image/png:https://auxpunks.uber.space/wp-content/uploads/2026/03/Ines-1.png
ORGANIZER;CN="die Linke Augsburg":MAILTO:kontakt@dielinke-augsburg.de
END:VEVENT
BEGIN:VEVENT
DTSTART;TZID=Europe/Berlin:20241007T190000
DTEND;TZID=Europe/Berlin:20241007T203000
DTSTAMP:20260420T201850
CREATED:20241007T104750Z
LAST-MODIFIED:20241007T104751Z
UID:10014272-1728327600-1728333000@auxpunks.uber.space
SUMMARY:Is­ra­el\, was nun?
DESCRIPTION:Is­ra­el\, was nun? \n\n\n\nVor­trag und Po­di­ums­ge­spräch mit Gi­se­la Dachs (Tel Aviv) \n\n\n\nAu­gust­a­na-Saal\, Augs­burg \n\n\n\n„Was nun\, Is­ra­el?“ Der Ti­tel der Ver­an­stal­tung zeigt be­reits\, wor­um es geht: Nach ei­nem Jahr und viel­fäl­ti­gen\, oft teil­wei­se dra­ma­ti­schen Er­eig­nis­sen im Na­hen Os­ten soll eine ers­te Zwi­schen­bi­lanz ge­zo­gen wer­den – und ein Aus­blick: Wie geht es wei­ter? Wo lie­gen die rea­lis­ti­schen Per­spek­ti­ven? Wer ist al­les dar­an be­tei­ligt? \n\n\n\nGi­se­la Dachs als ehe­ma­li­ge Kor­re­spon­den­tin meh­re­rer Zei­tun­gen\, dar­über DIE ZEIT und die NZZ\, wird pro­fi­liert auf die Fra­gen ein­ge­hen.
URL:https://auxpunks.uber.space/event/israel-was-nun/
LOCATION:Augustanasaal\, Im Annahof 4 Augsburg
CATEGORIES:Vorträge, Filme & Workshops
END:VEVENT
END:VCALENDAR