BEGIN:VCALENDAR
VERSION:2.0
PRODID:-//auxpunks - ECPv6.15.11//NONSGML v1.0//EN
CALSCALE:GREGORIAN
METHOD:PUBLISH
X-ORIGINAL-URL:https://auxpunks.uber.space
X-WR-CALDESC:Veranstaltungen für auxpunks
REFRESH-INTERVAL;VALUE=DURATION:PT1H
X-Robots-Tag:noindex
X-PUBLISHED-TTL:PT1H
BEGIN:VTIMEZONE
TZID:Europe/Berlin
BEGIN:DAYLIGHT
TZOFFSETFROM:+0100
TZOFFSETTO:+0200
TZNAME:CEST
DTSTART:20230326T010000
END:DAYLIGHT
BEGIN:STANDARD
TZOFFSETFROM:+0200
TZOFFSETTO:+0100
TZNAME:CET
DTSTART:20231029T010000
END:STANDARD
BEGIN:DAYLIGHT
TZOFFSETFROM:+0100
TZOFFSETTO:+0200
TZNAME:CEST
DTSTART:20240331T010000
END:DAYLIGHT
BEGIN:STANDARD
TZOFFSETFROM:+0200
TZOFFSETTO:+0100
TZNAME:CET
DTSTART:20241027T010000
END:STANDARD
BEGIN:DAYLIGHT
TZOFFSETFROM:+0100
TZOFFSETTO:+0200
TZNAME:CEST
DTSTART:20250330T010000
END:DAYLIGHT
BEGIN:STANDARD
TZOFFSETFROM:+0200
TZOFFSETTO:+0100
TZNAME:CET
DTSTART:20251026T010000
END:STANDARD
BEGIN:DAYLIGHT
TZOFFSETFROM:+0100
TZOFFSETTO:+0200
TZNAME:CEST
DTSTART:20260329T010000
END:DAYLIGHT
BEGIN:STANDARD
TZOFFSETFROM:+0200
TZOFFSETTO:+0100
TZNAME:CET
DTSTART:20261025T010000
END:STANDARD
END:VTIMEZONE
BEGIN:VEVENT
DTSTART;TZID=Europe/Berlin:20250203T190000
DTEND;TZID=Europe/Berlin:20250203T230000
DTSTAMP:20260421T081434
CREATED:20250120T090649Z
LAST-MODIFIED:20250120T090649Z
UID:10014426-1738609200-1738623600@auxpunks.uber.space
SUMMARY:Offener Thekenabend für alle! [Eintritt frei]
DESCRIPTION:Liebe Leute\, ab sofort starten wir für euch die offenen Thekenabende. Eintritt frei!\nWir möchten uns einmal im Monat (1. Montag im Monat) zusammenfinden und bei gemütlicher Atmosphäre einen Abend mit Freund*innen\nverbringen. Es gibt günstige\, kühle/warme Getränke entsprechend der Jahreszeit und ein leckeres Essen auf Spendenbasis. Wir möchten an diesem Abend die Community und den Austausch zwischen Verein und\nGästen stärken sowie unser Vereinsleben ein wenig vorstellen. Kommt dazu einfach vorbei!\nWas machen wir sonst als Verein? Was würde dich als Mitglied erwarten?\nWir lieben Musik\, Subkultur Gemeinschaft und arbeiten grundsätzlich ehrenamtlich. Bei uns läuft alles DIY und selbstverwaltet\, es gibt also immer was zu tun. Es ist auf jeden Fall was für dich\, wenn du:\n\n\n– erleben möchtest\, wie man Veranstaltungen plant und organisiert\n– sehen willst\, wie man einen Club instandhält und verwaltet\n– wissen möchtest\, wie wir unser online/offline-marketing betreiben und wie du mitmachen kannst\n– Spaß am Kochen für Bands hast\n– gerne Bier ausschenkst oder am Einlass unterstützt\n– dich für Licht- oder Tontechnik interessierst\n– oder einfach nur Lust auf Gemeinschaft hast.\n\n\nWenn da was dabei ist\, was dich interessieren würde\, komm gerne vorbei und lerne uns kennen: Am besten\nzu den offenen Thekenabenden jeden 1. Montag im Monat um 19.00 oder zum öffentlichen Orga-Plenum\njeden Dienstag um 18.30.\nWir freuen uns auf dich!
URL:https://auxpunks.uber.space/event/offener-thekenabend-fuer-alle-eintritt-frei/
LOCATION:Ballonfabrik
CATEGORIES:Konzerte & Feiern
END:VEVENT
BEGIN:VEVENT
DTSTART;TZID=Europe/Berlin:20241026T230000
DTEND;TZID=Europe/Berlin:20241027T050000
DTSTAMP:20260421T081434
CREATED:20241009T113429Z
LAST-MODIFIED:20241009T113432Z
UID:10014276-1729983600-1730005200@auxpunks.uber.space
SUMMARY:Dubylonfabrik
DESCRIPTION:DUBYLONFABRIK Vol. 9 mit Plug Dub ls MC Dressla & Catitah Steppah | hosted by DubylonCrew\n\nDub | Reggae | Steppas\n\nDiesmal mit dem Leipziger Soundsystem Plug Dub ls. MC Dressla (Frankfurt a. M.) & Catitah Steppah aus Dachau.\n\nLINE-UP\n\n– Plug Dub (Leipzig)\n– MC Dressla – Jahtari | Presto (Frankfurt a. M.)\n– Catitah Steppah (Dachau)\n– DubylonCrew\n\nDatum: 26.10.2024\nStart: 23 Uhr\nOrt: Ballonfabrik Augsburg \nAustr. 27 | 86153 Augsburg\n– (Buslinie 35) Ausstieg Dieselbrücke \n– (Straßenbahnlinie 2) Ausstieg Bärenwirt\n\nAK: 11 EUR
URL:https://auxpunks.uber.space/event/dubylonfabrik/
LOCATION:Ballonfabrik
CATEGORIES:Konzerte & Feiern
END:VEVENT
BEGIN:VEVENT
DTSTART;TZID=Europe/Berlin:20241003T180000
DTEND;TZID=Europe/Berlin:20241003T233000
DTSTAMP:20260421T081434
CREATED:20240926T151948Z
LAST-MODIFIED:20240926T151948Z
UID:10014258-1727978400-1727998200@auxpunks.uber.space
SUMMARY:Love Music Hate Nazis
DESCRIPTION:Die Antihelden laden ein – mit einem absolut geilen Line-Up!\nDen Abend widmen wir allen\, die sich gegen den Rechtsruck stellen und \nladen dazu ein\, mit uns zu feiern\, Gleichgesinnte kennenzulernen und euch vor Ort zu vernetzen!
URL:https://auxpunks.uber.space/event/love-music-hate-nazis/
LOCATION:Ballonfabrik
CATEGORIES:Demos & Aktionen,Konzerte & Feiern
END:VEVENT
END:VCALENDAR