BEGIN:VCALENDAR
VERSION:2.0
PRODID:-//auxpunks - ECPv6.15.11//NONSGML v1.0//EN
CALSCALE:GREGORIAN
METHOD:PUBLISH
X-ORIGINAL-URL:https://auxpunks.uber.space
X-WR-CALDESC:Veranstaltungen für auxpunks
REFRESH-INTERVAL;VALUE=DURATION:PT1H
X-Robots-Tag:noindex
X-PUBLISHED-TTL:PT1H
BEGIN:VTIMEZONE
TZID:Europe/Berlin
BEGIN:DAYLIGHT
TZOFFSETFROM:+0100
TZOFFSETTO:+0200
TZNAME:CEST
DTSTART:20250330T010000
END:DAYLIGHT
BEGIN:STANDARD
TZOFFSETFROM:+0200
TZOFFSETTO:+0100
TZNAME:CET
DTSTART:20251026T010000
END:STANDARD
BEGIN:DAYLIGHT
TZOFFSETFROM:+0100
TZOFFSETTO:+0200
TZNAME:CEST
DTSTART:20260329T010000
END:DAYLIGHT
BEGIN:STANDARD
TZOFFSETFROM:+0200
TZOFFSETTO:+0100
TZNAME:CET
DTSTART:20261025T010000
END:STANDARD
BEGIN:DAYLIGHT
TZOFFSETFROM:+0100
TZOFFSETTO:+0200
TZNAME:CEST
DTSTART:20270328T010000
END:DAYLIGHT
BEGIN:STANDARD
TZOFFSETFROM:+0200
TZOFFSETTO:+0100
TZNAME:CET
DTSTART:20271031T010000
END:STANDARD
END:VTIMEZONE
BEGIN:VEVENT
DTSTART;TZID=Europe/Berlin:20260217T191500
DTEND;TZID=Europe/Berlin:20260217T210000
DTSTAMP:20260421T003754
CREATED:20260203T115313Z
LAST-MODIFIED:20260203T115313Z
UID:10016330-1771355700-1771362000@auxpunks.uber.space
SUMMARY:Bildung am Arsch - Podiumstalk
DESCRIPTION:Die bildungspolitische Sprecherin der Linken Nicole Gohlke (MdB)\, Linke-OB-Kandidatin Elisabeth Wiesholler\, Linke-Stadtratskandidatin Theresa Hoffmann und Prof. Dr. phil. Janine Linßer\, Studiengangsleiterin für Soziale Arbeit an der Hochschule Augsburg\, sprechen darüber\, was aktuell in Deutschlands Schullandschaft schiefläuft und stehen euch Rede und Antwort.\n   Neben der Diskussion gibt es verschiedene Spiele und Quizzes – lasst euch überraschen!
URL:https://auxpunks.uber.space/event/bildung-am-arsch-podiumstalk/
LOCATION:Beim Weissen Lamm\, Ludwigstr. 23\, Augsburg\, 86152
CATEGORIES:Vorträge, Filme & Workshops
ATTACH;FMTTYPE=image/jpeg:https://auxpunks.uber.space/wp-content/uploads/2026/02/Bildung-am-Arsch-Flyer.jpg
ORGANIZER;CN="Linksjugend [%C2%B4solid] Augsburg":MAILTO:linksjugend-augsburg@riseup.net
END:VEVENT
END:VCALENDAR