BEGIN:VCALENDAR
VERSION:2.0
PRODID:-//auxpunks - ECPv6.15.11//NONSGML v1.0//EN
CALSCALE:GREGORIAN
METHOD:PUBLISH
X-ORIGINAL-URL:https://auxpunks.uber.space
X-WR-CALDESC:Veranstaltungen für auxpunks
REFRESH-INTERVAL;VALUE=DURATION:PT1H
X-Robots-Tag:noindex
X-PUBLISHED-TTL:PT1H
BEGIN:VTIMEZONE
TZID:Europe/Berlin
BEGIN:DAYLIGHT
TZOFFSETFROM:+0100
TZOFFSETTO:+0200
TZNAME:CEST
DTSTART:20230326T010000
END:DAYLIGHT
BEGIN:STANDARD
TZOFFSETFROM:+0200
TZOFFSETTO:+0100
TZNAME:CET
DTSTART:20231029T010000
END:STANDARD
BEGIN:DAYLIGHT
TZOFFSETFROM:+0100
TZOFFSETTO:+0200
TZNAME:CEST
DTSTART:20240331T010000
END:DAYLIGHT
BEGIN:STANDARD
TZOFFSETFROM:+0200
TZOFFSETTO:+0100
TZNAME:CET
DTSTART:20241027T010000
END:STANDARD
BEGIN:DAYLIGHT
TZOFFSETFROM:+0100
TZOFFSETTO:+0200
TZNAME:CEST
DTSTART:20250330T010000
END:DAYLIGHT
BEGIN:STANDARD
TZOFFSETFROM:+0200
TZOFFSETTO:+0100
TZNAME:CET
DTSTART:20251026T010000
END:STANDARD
BEGIN:DAYLIGHT
TZOFFSETFROM:+0100
TZOFFSETTO:+0200
TZNAME:CEST
DTSTART:20260329T010000
END:DAYLIGHT
BEGIN:STANDARD
TZOFFSETFROM:+0200
TZOFFSETTO:+0100
TZNAME:CET
DTSTART:20261025T010000
END:STANDARD
END:VTIMEZONE
BEGIN:VEVENT
DTSTART;TZID=Europe/Berlin:20250503T193000
DTEND;TZID=Europe/Berlin:20250503T230000
DTSTAMP:20260421T000307
CREATED:20250417T123238Z
LAST-MODIFIED:20250417T123238Z
UID:10014547-1746300600-1746313200@auxpunks.uber.space
SUMMARY:Konzert: S.G.A.T.V. (CH) + tba.
DESCRIPTION:„Sick guitars and terrors vision“could have been the title of a late 70’s sience-fiction movie where the Ramones would have been the heroes. Joey as leader of a new cult that predicts the end of the world\, shooting lasers through his dark sunglasses. Except that in realityS.G.A.T.V. is a pure post synth egg punk solo project made by Severin Beerli from Frauenfeld / Switzerland that started in 2020\, writing raw and epic punk and black metal influenced songs in his room. Now it evolved into a group of 6 people who get on stage to unite in a ecstatic picture of playing some true\, powerful and hyper rhythmic songs.“I hope they eat their money and die!“\n\n\nEP – Tegoslucham Youtube Channel: https://www.youtube.com/watch?v=5bahrkW-aB0\nMusicvideo for Ghost: https://www.youtube.com/watch?v=lOlOoYpqhko&t=39s.de\n  \nLinks:\nBandcamp: https://sgatv.bandcamp.com/\nInstagram: https://www.instagram.com/s.g.a.t.v.666/?hl=
URL:https://auxpunks.uber.space/event/konzert-s-g-a-t-v-ch-tba/
LOCATION:City Club Augsburg
CATEGORIES:Konzerte & Feiern
END:VEVENT
BEGIN:VEVENT
DTSTART;TZID=Europe/Berlin:20250327T193000
DTEND;TZID=Europe/Berlin:20250327T220000
DTSTAMP:20260421T000307
CREATED:20250325T105013Z
LAST-MODIFIED:20250325T105014Z
UID:10014527-1743103800-1743112800@auxpunks.uber.space
SUMMARY:Queerfeministischer Filmabend "Fierce - A Porn Revolution"
DESCRIPTION:Am 27.3. präsentieren das mehr*kollektiv und das Queerfeministische Bündnis den ersten gemeinsamen queerfeministischen Filmabend\, yay!\n\nProgramm: \n19.30 Uhr: Audio-Sound-Collage von Emilia Prebeck über queer feminist porn icon Annie Sprinkle (Englisch)\n20.00 Uhr: Dokumentarfilm „Fierce – A Porn Revolution“ (96 min\, ab 16 Jahren\, Französisch mit deutschen Untertiteln)\nMöglichkeit zum Austausch im Anschluss für diejenigen\, die möchten\n\nIhr könnt um 19.30 Uhr oder um 20 Uhr kommen\, Eintritt auf Spendenbasis\n\nDarum geht´s im Film: \n»To experience pleasure\, you have to feel safe«\nDie Erfahrung von echter Lust ist nur in einem Safe Space möglich. Ein Raum\, der Sicherheit und Freiheit gibt\, um das auszuleben\, was wirklich gefällt. In der Pornoindustrie kaum vorstellbar – doch ein junges Schweizer FLINTA* Kollektiv will genau das: Sexfilme\, die authentische Lust zeigen und ethisch vertretbar sind. In Abgrenzung zum Mainstream produzieren sie experimentelle Filme\, die Sex und Körper neu definieren.
URL:https://auxpunks.uber.space/event/queerfeministischer-filmabend-fierce-a-porn-revolution/
LOCATION:City Club Augsburg
CATEGORIES:Vorträge, Filme & Workshops
ORGANIZER;CN="mehr*kollektiv":MAILTO:hallo@mehr-kollektiv.de
END:VEVENT
BEGIN:VEVENT
DTSTART;TZID=Europe/Berlin:20250322T150000
DTEND;TZID=Europe/Berlin:20250322T235959
DTSTAMP:20260421T000307
CREATED:20250301T142212Z
LAST-MODIFIED:20250317T120751Z
UID:10014484-1742655600-1742687999@auxpunks.uber.space
SUMMARY:What the Fugger?!
DESCRIPTION:Veranstaltung zu „500 Jahre Bauernaufstände“⚔️✊🏼 \n2025 jährt sich zum fünfhundertsten Mal die Ausrufung der 12 Artikel von Memmingen und damit der Bauernaufstand von 1525. \nHeute – stärker denn je – stehen wir vor der Aufgabe\, konkrete Alternativen zum kapitalistischen System aufzubauen und zu verteidigen. Ein Bezug zu unserer eigenen widerständigen Geschichte kann uns helfen\, nicht nur von den Kämpfen der Vergangenheit zu lernen\, sondern sie auch als ungebrochenen Widerstand gegen dieses System zu verstehen. \nDeshalb laden wir euch ein\, mit uns am 22.3. eine Reise in die Geschichte und Gegenwart der 500jährigen Rebellion gegen den Kapitalismus zu machen. \nMit einer Stadtführung wollen wir historische Orte und ihre Geschichte Augsburgs kennen lernen und mit anderen Augen betrachten. Danach gibt es einen inhaltlich passenden Vortrag im City Club und später laden wir euch zu einer antikapitalistischen Messe mit Pastor Panik\, begleitet vom Augsburger Corner Chor ein.Der musikalische Teil des Abends soll mit der Band Handstand besoffen nochmal richtig Schwung in die historische Reise bringen\, denn was wäre ein gutes Leben ohne gemeinsames Feiern?Das gesammelte Geld dieses Abends spenden wir an die Zapatistas\, zum Aufbau und Ausstattung neuer OP Säle im lakandonischen Urwald. \nKommt zahlreich und nehmt eure friends mit. \n  \nTIMETABLE \n15-17 Stadtführung „What the Fugger?“15-20 Infostände und Kuchen18-20 Vortrag „500 Jahre Bauernkrieg und die Rolle von Fugger und Co.“20-21 Messe der Aufständischen mit Pastorin Pöbel & Pastor Panik21:30-22 Jolle (Folk-punk)22-23 Handstandbesoffen (punk)
URL:https://auxpunks.uber.space/event/what-the-fugger/
LOCATION:City Club Augsburg
CATEGORIES:Highlights,Konzerte & Feiern,Theater, Austellungen & Lesungen,Vorträge, Filme & Workshops
END:VEVENT
BEGIN:VEVENT
DTSTART;TZID=Europe/Berlin:20250302T150000
DTEND;TZID=Europe/Berlin:20250302T220000
DTSTAMP:20260421T000307
CREATED:20250225T083021Z
LAST-MODIFIED:20250225T083022Z
UID:10014476-1740927600-1740952800@auxpunks.uber.space
SUMMARY:Bezahlkarten-Gutschein Tausch
DESCRIPTION:Jetzt auch im City Club unten im Café! Jeden Donnerstag und Sonntag! Du bist gegen rechtspopulistische Symbolpolitik und willst ihr mit deiner praktischen Solidarität etwas entgegensetzen?`Das geht ganz einfach: Du kommst in unsere Wechselstube und tauscht dein Bargeld gegen einen Gutschein. Den Gutschein hat eine Person mit ihrer Bezahlkarte gekauft und dafür von uns Bargeld erhalten. Weitere Infos: Instagram: fluechtlingsrat.augsburg https://augsburgerfluechtlingsrat.blogspot.com/2024/12/tauschaktion-bezahlkarte-payment-card.html
URL:https://auxpunks.uber.space/event/bezahlkarten-gutschein-tausch-3/
LOCATION:City Club Augsburg
CATEGORIES:Demos & Aktionen
END:VEVENT
BEGIN:VEVENT
DTSTART;TZID=Europe/Berlin:20250227T180000
DTEND;TZID=Europe/Berlin:20250227T230000
DTSTAMP:20260421T000307
CREATED:20250223T131044Z
LAST-MODIFIED:20250223T131046Z
UID:10014474-1740679200-1740697200@auxpunks.uber.space
SUMMARY:Bezahlkarten-Gutschein Tausch
DESCRIPTION:Jetzt auch im City Club unten im Café! Jeden Donnerstag und Sonntag! \n\nDu bist gegen rechtspopulistische Symbolpolitik und willst ihr mit deiner praktischen Solidarität etwas entgegensetzen?`Das geht ganz einfach: Du kommst in unsere Wechselstube und tauscht dein Bargeld gegen einen Gutschein. Den Gutschein hat eine Person mit ihrer Bezahlkarte gekauft und dafür von uns Bargeld erhalten.\nWeitere Infos:\nInstagram: fluechtlingsrat.augsburg\nhttps://augsburgerfluechtlingsrat.blogspot.com/2024/12/tauschaktion-bezahlkarte-payment-card.html
URL:https://auxpunks.uber.space/event/bezahlkarten-gutschein-tausch/
LOCATION:City Club Augsburg
CATEGORIES:Demos & Aktionen
END:VEVENT
BEGIN:VEVENT
DTSTART;TZID=Europe/Berlin:20241215T140000
DTEND;TZID=Europe/Berlin:20241215T200000
DTSTAMP:20260421T000307
CREATED:20241205T210438Z
LAST-MODIFIED:20241205T210438Z
UID:10014377-1734271200-1734292800@auxpunks.uber.space
SUMMARY:Wintermarkt
DESCRIPTION:Mitte Dezember öffnet der City Club seine Pforten für den etwas anderen Wintermarkt. Die Organisator*innen des Punkrock Markets haben sich mit dem Krätzwerk e.V zusammen getan und laden euch zu einem tollen Nachmittag voller Kunst\, Musik und Leckereien ein. Ihr findet sicherlich tolle Geschenke für euch selbst oder eure Liebsten und könnt einen punkrockigen Nachmittag ohne Weihnachtsstress genießen.
URL:https://auxpunks.uber.space/event/wintermarkt/
LOCATION:City Club Augsburg
END:VEVENT
BEGIN:VEVENT
DTSTART;TZID=Europe/Berlin:20241215T140000
DTEND;TZID=Europe/Berlin:20241215T200000
DTSTAMP:20260421T000307
CREATED:20241115T092658Z
LAST-MODIFIED:20241115T092658Z
UID:10014346-1734271200-1734292800@auxpunks.uber.space
SUMMARY:Punkrock Wintermarkt
DESCRIPTION:„Yuhuuuu am 15.12. findet von 14:00-20:00 unser Wintermarkt statt. Wir freuen uns so sehr\, dass wir gemeinsam mit dem Kraetzwerk e.V. im City Club den Wintermarkt mit Kunst und Musik veranstalten dürfen.“ ~ Punkrockmarket_aux via Instagram
URL:https://auxpunks.uber.space/event/punkrock-wintermarkt/
LOCATION:City Club Augsburg
CATEGORIES:Konzerte & Feiern
END:VEVENT
BEGIN:VEVENT
DTSTART;TZID=Europe/Berlin:20241214T190000
DTEND;TZID=Europe/Berlin:20241214T220000
DTSTAMP:20260421T000307
CREATED:20241210T105207Z
LAST-MODIFIED:20241210T105208Z
UID:10014389-1734202800-1734213600@auxpunks.uber.space
SUMMARY:Tuntastisch? Schamlos schäbig\, Cherie!
DESCRIPTION:Das Queerfeministische Bündnis und das Queerreferat des AStAs präsentieren durch finanzielle Unterstützung des fzs eine Show\, die wird schamlos schäbig\, Chérie!  \nHolt euren schlimmsten Fummel raus\, tragt euer make-up besonders ranzig auf und schangelt mit uns im City Club. Schangelige Tunten werden am 14.12. ab 19:00 Uhr die Bühne queeren. Einlass ist ab 18.30\nDie Tunten die kommen sind schamlos; Die Nummern werden schäbig; Wir wollen\, dass du kommst\, Chérie! \nEintritt frei\, Spenden erwünscht. (Spendenempfehlungen: 0€ absolut okay\, 5€ mausig\, 10€ übergalaktisch gigamausig). \n\nBei der Show wird Alkohol konsumiert\, es wird sexuelle Inhalte geben und blinkende Lichter können vorkommen. Fühlst du dich damit nicht wohl\, komm lieber zu einem unserer anderen Events!\nDas Event findet mit einer Maskenpflicht statt\, bitte bringe eine FFP2-Maske mit und trage sie während der Show. (Be)Trinken ist natürlich erlaubt!
URL:https://auxpunks.uber.space/event/tuntastisch-schamlos-schaebig-cherie/
LOCATION:City Club Augsburg
ORGANIZER;CN="Queerfeministisches B%C3%BCndnis Augsburg":MAILTO:queerfem_buendnis@tutamail.com
END:VEVENT
BEGIN:VEVENT
DTSTART;TZID=Europe/Berlin:20241123T200000
DTEND;TZID=Europe/Berlin:20241124T020000
DTSTAMP:20260421T000307
CREATED:20241121T125333Z
LAST-MODIFIED:20241121T125333Z
UID:10014359-1732392000-1732413600@auxpunks.uber.space
SUMMARY:Flinta*-only-Rave
DESCRIPTION:Am 23.11.2024 ist der City Club nur für Flinta*-Personen\, also für Frauen\, lesbische\, inter\, nicht-binäre\, trans und agender Personen geöffnet. Solidarische Menschen können jedoch im City Café feiern. Die Veranstaltung ist eine Aktion zum internationalen Tag gegen Gewalt an Frauen\, der jährlich am 25. November stattfindet.\n\nDer City Club setzt zusammen mit den Aktivist*innen des Queerfeministischen Bündnisses und dem Frauenzentrum ein Zeichen für die Situation von Menschen\, die sexualisierten Übergriffen ausgesetzt sind. Cis Männer\, also Menschen\, die als Männer geboren sind und sich mit diesem Geschlecht identifizieren\, bleibt der Zugang zum Obergeschoss verwährt\, um auf die unterschiedlichen Erfahrungen von Flinta*s und cis Männern im Nachtleben aufmerksam zu machen. Den Aktivist*innen ist bewusst\, dass Übergriffe auch Männer treffen bzw. grenzüberschreitendes Verhalten nicht nur von männlichen Personen ausgeht. Im Vergleich machen\, aber nur wenige Männer Erfahrungen sexualisierter Gewalt. Da Grenzverletzungen auch in einem Safe Space vorkommen können\, wird auf dem Rave das Awareness-Team des City Clubs präsent sein.\n\nPROLLS ROYCE live Konzert (Augsburg)\n„nachdem die bitches ihren ersten auftritt im cc hatten ist es nur fair dass ihr letzter gig vor der pause ebenfalls dort stattfindet. versteckt den voddi\, eure väter und alles was euch teuer ist\, die prolls kommen am flinta*rave reingeroyced – daher diesmal nur die Prolly mitglieder ohne glied“\n\n\nQ-Nani b2b MSKI (Frankfurt)\nMski und q nani joinen forces für ein qutes b2b und bringen euch feinsten Hardgroove\, Trance\, Techno und mehr.\nhttps://soundcloud.com/qnani | https://soundcloud.com/mskiuno\n\nFemme Fatale (CC)\nFEMME FATALE macht die Tanzfläche wieder sicher!\nMit dem DJ Projekt einer queren trans* Person sollen flinta* artists sichtbar gemacht werden und alle fett ihren booty abshaken! Mit feministischer Rap/Trap Action wird stundenlang geschwitzt\, getanzt und sich empowert. Guckt vorbei und fühlt euch wohl!\n\n\nVila Leyla (Radio 80K)\nLeyla ist eine Münchner DJ und Radiomoderatorin bei Radio80000\, wo sie nicht nur moderiert\, sondern auch verschiedene Projekte organisiert und kuratiert. Leyla hat sich einen Namen in der lokalen Musikszene gemacht. Ihre musikalische Bandbreite reicht von eklektischen Techno-Beats über messerscharfe Breaks bis hin zu atmosphärischen\, geheimnisvollen Soundscapes. Mit ihrem unverwechselbaren Stil sorgt sie immer wieder für einzigartige Musikerlebnisse.\n\n\nAktion gegen Gewalt an Flinta*-Personen\nDer Rave setzt den Fokus auf sexualisierte Gewalt und patriarchale Strukturen in der Clubkultur. Dazu gehört auch\, dass Künstler*innen oft seltener gebucht werden bzw. Flinta*-Personen seltener als Veranstalter*innen\, Soundtechniker*innen usw. auftreten. Die männlich geprägte Kulturszene funktioniert wie die gesamte Gesellschaft: Männer stellen häufiger Männer ein. Männliche Veranstalter entscheiden sich eher für ein männliches Booking.\n\nAm internationalen Tag gegen Gewalt an Frauen geht es auch um diese Form von Ungleichheit. Am 25. November machen feministische Gruppen weltweit darauf aufmerksam\, dass psychische und körperliche Gewalt laut WHO „das größte Gesundheitsrisiko für Frauen“ darstellen. Unreflektierte Machtgefälle und Misogynie gehören zu den Ursachen für Gewalt an weiblich gelesenen Personen\, also Menschen\, die von anderen dem weiblichen Geschlecht zugeordnet werden. Den Veranstalter*innen ist dieser Aspekt besonders wichtig\, denn nicht nur Frauen sind von sexualisierter Gewalt betroffen\, sondern auch nichtbinäre\, trans oder inter Personen. Diese Menschen erfahren oft Diskriminierung von vermeintlichen Feminist*innen\, die ihre Existenz leugnen und sich transphob äußern.\n\nhttps://www.frauenzentrum-augsburg.de/\nhttps://frauenstreikaux.blackblogs.org/\nhttps://unwomen.de/orange-the-world/
URL:https://auxpunks.uber.space/event/flinta-only-rave/
LOCATION:City Club Augsburg
CATEGORIES:Konzerte & Feiern
END:VEVENT
BEGIN:VEVENT
DTSTART;TZID=Europe/Berlin:20240927T200000
DTEND;TZID=Europe/Berlin:20240927T233000
DTSTAMP:20260421T000307
CREATED:20240819T072814Z
LAST-MODIFIED:20240819T072815Z
UID:10014207-1727467200-1727479800@auxpunks.uber.space
SUMMARY:Live: Cosey Mueller + Ambulanz
DESCRIPTION:Sicher ist einigen noch das fulminante\, bis unter die Decke ausverkaufte Konzert letztes Jahr in bester Erinnerung. Die Stimmung stand auf Nachschlag – so sei es: She’s back!!! \n\nCOSEY MUELLER \n\nhttps://coseymueller.bandcamp.com/album/irrational-habits\n\n„Emerging from the depths of Berlin’s underground scene\, Cosey\nMueller is a self made musician who explores electronic sounds in\nthe most intuitive way\, never forgetting her love for rock n\nroll. After releasing her debut album \,Interior Escapes\, in 2021\nshe is back with a new release ‚Irrational Habits‘ in 2023. Her\nmusic is characterised by repetitive synth melodies\, explosive\nbeats\, expressive vocals and a playful use of language. It makes\nyou travel to another time\, not making sure if that time ever\nexisted. A pulsating\, shimmering and danceable live experience is\nguaranteed.“\n\nUnd die Queen of Coolness hat Neuigkeiten mit im Gepäck: \nAm 26.08. erscheint die neue Single\, für 03.10. ist das neue Album angekündigt.\n\nMit von der Partie sind AMBULANZ\, Post-Punk aus Leipzig:\n„Ambulanz ! Surprise ! Means ambulance! The shortlived giggle of sniffing glue erased by the smell of rubber. Yes! Rubber like in a padded cell. Part of the band was raised in villages of the eastgerman Twin Peaks county equivalent – the woods of Thuringia. Speaking of a padded cell – that is coming up tough as it gets if you ask me. Like the Simpsons intro they ease you into their small – town – punk saga with jingle – ish melodies just to rip you up again like the bad speed that is the main economic force in these parts of the woods! Their setup is drums – guitar – synth – bass – 2 vocals and it rules!“ (Fuzzgun)
URL:https://auxpunks.uber.space/event/live-cosey-mueller-ambulanz/
LOCATION:City Club Augsburg
CATEGORIES:Konzerte & Feiern
END:VEVENT
BEGIN:VEVENT
DTSTART;TZID=Europe/Berlin:20240629T200000
DTEND;TZID=Europe/Berlin:20240629T230000
DTSTAMP:20260421T000307
CREATED:20240611T082457Z
LAST-MODIFIED:20240611T082458Z
UID:10014144-1719691200-1719702000@auxpunks.uber.space
SUMMARY:29.06.24: DEAD FINKS (Garage/Post-punk\, Berlin) + DÄÄCHT (Garage-Punk\, Regensburg)
DESCRIPTION:„Dead Finks is the musical output of New Zealand born duo Joseph Thomas and Erin Violet. Its current and longest-running incarnation is a 4-piece band based in Berlin\, featuring Ivan Krasnov on guitar and Nick Jongen on drums\, playing post-punk music in the tradition of Wire\, Sonic Youth and Parquet Courts. They have toured Europe twice\, once with Protomartyr and once with Dry Cleaning\, and have an album out now on Urge Records (Poison Ruïn\, Gee Tee).“ (Bandinfo)\n\nDie zur Zeit in Berlin lebenden Dead Finks sind unterwegs mit ihrem brandneuen Album \,Eve of Ascension‘:\n\nhttps://deadfinkera.bandcamp.com/album/eve-of-ascension\n\nVideo der Hitsingle \,(My Human) Extinction‘ (2021):\n\n\n\n\nMit von der Partie ist die Garage-Punk Combo Däächt aus Regensburg; ja genau die Ecke\, die sich in letzter Zeit vor allem durch die Aktivitäten des der Band nahestehenden Void-Fest-Kollektivs einen Namen als beachtlicher Hotspot der DIY-Musiszene (über die bayrischen Landesgrenzen hinaus) gemacht hat. Über ihre LP \,Lipstic Love‘ urteilte visions.de folgendermaßen: \n\n„Clement Hoffers Stimme scheppert und kratzt über die abgewetzten Gitarrenriffs und öffnet damit die Tür für zahlreiche 60s-Rock-Referenzen. Würde man The Sonics das Saxofon wegnehmen\, wäre der Schritt zu „Lipstick Love“ nicht weit. Die Genregrenzen sind eng abgesteckt\, etwaige Ausflüge beschränken sich auf verwandten Surf Rock à la Best Coast und Home Alone\, einen Indiehit mit catchy Handclaps. „Hypochondria“ beginnt dagegen ungemütlich mit schleimigem Husten\, auf den ganz Deutschland vorsichtshalber erstmal die gehamsterten Desinfektionsspray-Reserven sprüht. Ansteckend sind das markante Bassspiel von Benedikt „Benedäächt“ Bartl und der eigenwillige Humor\, über den sich die Band identifiziert.“\n\nhttps://daacht.bandcamp.com/album/lipstick-love\n\nVideo zu Titeltrack:
URL:https://auxpunks.uber.space/event/29-06-24-dead-finks-garage-post-punk-berlin-daeaecht-garage-punk-regensburg/
LOCATION:City Club Augsburg
CATEGORIES:Konzerte & Feiern
END:VEVENT
BEGIN:VEVENT
DTSTART;TZID=Europe/Berlin:20240621T190000
DTEND;TZID=Europe/Berlin:20240621T230000
DTSTAMP:20260421T000307
CREATED:20240611T082608Z
LAST-MODIFIED:20240611T082609Z
UID:10014143-1718996400-1719010800@auxpunks.uber.space
SUMMARY:Pigeon (Postpunk. Berlin) + Neon Lies (Synthwave\, Zagreb) + Autodelete (Postpunk\, München)
DESCRIPTION:Achtung: Post-Punk Pole Position! Die Berliner*innen von PIGEON surfen ohne Zweifel\nauf der ersten der derzeitig anbrandenden Post-Punk-Retrowellen. Vergleiche liest man\nnicht ganz unzutreffend u.a. mit (späten) WIRE\, THE FALL\, KILLING JOKE und PiL\,\nmittlerweile ist das Trio aber selbst zur festen Vergleichsgröße der Post-Punk-Szene\ngeworden. Zu recht\, stellt man nach den ersten Sekunden ihrer Live-Performances fest:\nHier sitzt einfach alles!\nDie zahlreichen anderen phantastischen Musikprojekte der drei Mitbetreiber*innen des\nrenommierten DIY-Labels Mangel Records aufzuzählen\, würde zuweit führen. Nur soviel\nsei verraten (Spoiler-Alert!!!): Mit LIIEK werden sie Augsburg am 08.08.\, mit KLAPPER am\n05.09. beehren. Absolutes Highlight!\n\nhttps://pigeon4.bandcamp.com/album/deny-all-knowledge-of-complicity\n\nhttps://mangelrecords.bandcamp.com/\n\nZur Krönung des Konzertabends: NEON LIES aus Zagreb. Unglaublich tanzbarer\, dreamy\nSynthwave auf internationalem Top-Niveau:\n„The energy of the minimal beat of a drum machine\, the icy kiss of the keyboard\, a simple\nand hermetic melody\, the detached but at the same time romantic and confused vocal\, the\nirrepressible desire to dance and forget for a while the misery of modern life\, the infinite\ncapacity to create personal hymns\, the invitation to inhabit the night and lose yourself in it\,\nwith or without love and to join other lonely people in the repetitive movement of your feet\,\nyour body and your head. To be outside yourself for a while. That’s \,Loveless\nAdventures‘ by NEON LIES.“ (Maximumrocknroll\, 2022)\nUnterwegs mit dem neuen Album \,Demons‘:\n\nhttps://neonlies.bandcamp.com/album/demons\n\n\nIm Recall: Die großartigen AUTODELETE aus München gastieren noch einmal im\nCC\, nachdem sie bereits vor BEIGE BANQUET nach Strich und Faden begeistert haben!\nWir wollen mehr:\n\nhttps://autodelete.bandcamp.com/album/your-surgery-horn-aus-salz
URL:https://auxpunks.uber.space/event/pigeon-postpunk-berlin-neon-lies-synthwave-zagreb-autodelete-postpunk-muenchen/
LOCATION:City Club Augsburg
CATEGORIES:Konzerte & Feiern
END:VEVENT
END:VCALENDAR