BEGIN:VCALENDAR
VERSION:2.0
PRODID:-//auxpunks - ECPv6.15.11//NONSGML v1.0//EN
CALSCALE:GREGORIAN
METHOD:PUBLISH
X-ORIGINAL-URL:https://auxpunks.uber.space
X-WR-CALDESC:Veranstaltungen für auxpunks
REFRESH-INTERVAL;VALUE=DURATION:PT1H
X-Robots-Tag:noindex
X-PUBLISHED-TTL:PT1H
BEGIN:VTIMEZONE
TZID:Europe/Berlin
BEGIN:DAYLIGHT
TZOFFSETFROM:+0100
TZOFFSETTO:+0200
TZNAME:CEST
DTSTART:20250330T010000
END:DAYLIGHT
BEGIN:STANDARD
TZOFFSETFROM:+0200
TZOFFSETTO:+0100
TZNAME:CET
DTSTART:20251026T010000
END:STANDARD
BEGIN:DAYLIGHT
TZOFFSETFROM:+0100
TZOFFSETTO:+0200
TZNAME:CEST
DTSTART:20260329T010000
END:DAYLIGHT
BEGIN:STANDARD
TZOFFSETFROM:+0200
TZOFFSETTO:+0100
TZNAME:CET
DTSTART:20261025T010000
END:STANDARD
BEGIN:DAYLIGHT
TZOFFSETFROM:+0100
TZOFFSETTO:+0200
TZNAME:CEST
DTSTART:20270328T010000
END:DAYLIGHT
BEGIN:STANDARD
TZOFFSETFROM:+0200
TZOFFSETTO:+0100
TZNAME:CET
DTSTART:20271031T010000
END:STANDARD
END:VTIMEZONE
BEGIN:VEVENT
DTSTART;TZID=Europe/Berlin:20260301T193000
DTEND;TZID=Europe/Berlin:20260301T210000
DTSTAMP:20260421T003754
CREATED:20260223T111923Z
LAST-MODIFIED:20260223T111925Z
UID:10016354-1772393400-1772398800@auxpunks.uber.space
SUMMARY:Kein Platz der AfD - Keine Bühne für Faschist*innen
DESCRIPTION:Am 1. März veranstaltet die Augsburger Allgemeine eine Podiumsdiskussion zur Kommunalwahl. ABER: Auch die rechtsextreme AfD is eingeladen. Wir sagen ganz klar: kein Platz für Faschist*innen\, keine Bühne für Rechtsextremist*innen! \n\n\n\nSonntag\, 01.03.2026\, 19h45\, Curt-Frenzel Straße 4
URL:https://auxpunks.uber.space/event/kein-platz-der-afd-keine-buehne-fuer-faschistinnen/
LOCATION:Curt-Frenzel Straße 4\, Curt-Frenzel Straße 4\, Augsburg\, 86152\, Germany
ATTACH;FMTTYPE=image/png:https://auxpunks.uber.space/wp-content/uploads/2026/02/260301_AfDPodium.png
END:VEVENT
END:VCALENDAR