BEGIN:VCALENDAR
VERSION:2.0
PRODID:-//auxpunks - ECPv6.15.11//NONSGML v1.0//EN
CALSCALE:GREGORIAN
METHOD:PUBLISH
X-ORIGINAL-URL:https://auxpunks.uber.space
X-WR-CALDESC:Veranstaltungen für auxpunks
REFRESH-INTERVAL;VALUE=DURATION:PT1H
X-Robots-Tag:noindex
X-PUBLISHED-TTL:PT1H
BEGIN:VTIMEZONE
TZID:Europe/Berlin
BEGIN:DAYLIGHT
TZOFFSETFROM:+0100
TZOFFSETTO:+0200
TZNAME:CEST
DTSTART:20240331T010000
END:DAYLIGHT
BEGIN:STANDARD
TZOFFSETFROM:+0200
TZOFFSETTO:+0100
TZNAME:CET
DTSTART:20241027T010000
END:STANDARD
BEGIN:DAYLIGHT
TZOFFSETFROM:+0100
TZOFFSETTO:+0200
TZNAME:CEST
DTSTART:20250330T010000
END:DAYLIGHT
BEGIN:STANDARD
TZOFFSETFROM:+0200
TZOFFSETTO:+0100
TZNAME:CET
DTSTART:20251026T010000
END:STANDARD
BEGIN:DAYLIGHT
TZOFFSETFROM:+0100
TZOFFSETTO:+0200
TZNAME:CEST
DTSTART:20260329T010000
END:DAYLIGHT
BEGIN:STANDARD
TZOFFSETFROM:+0200
TZOFFSETTO:+0100
TZNAME:CET
DTSTART:20261025T010000
END:STANDARD
BEGIN:DAYLIGHT
TZOFFSETFROM:+0100
TZOFFSETTO:+0200
TZNAME:CEST
DTSTART:20270328T010000
END:DAYLIGHT
BEGIN:STANDARD
TZOFFSETFROM:+0200
TZOFFSETTO:+0100
TZNAME:CET
DTSTART:20271031T010000
END:STANDARD
END:VTIMEZONE
BEGIN:VEVENT
DTSTART;TZID=Europe/Berlin:20260319T183000
DTEND;TZID=Europe/Berlin:20260319T230000
DTSTAMP:20260423T152332
CREATED:20260311T145138Z
LAST-MODIFIED:20260311T145140Z
UID:10016631-1773945000-1773961200@auxpunks.uber.space
SUMMARY:⁨Rote Hilfe Vortrag zum Tag der politischen Gefangenen
DESCRIPTION:⁨Rote Hilfe Vortrag zum Tag der politischen Gefangenen📅 19.03.2026 | 🕡 18:30 Uhr📍 Ganze Bäckerei \n\n\n\nIm September 2025 wurde Hannah S. vom Oberlandesgericht München zu fünf Jahren Haft verurteilt. Im Februar dieses Jahres wurde Maja T. von der ungarischen Klassenjustiz zu acht Jahren Haft verurteilt. \n\n\n\nWir wollen uns damit beschäftigen\, welche Schlüsse wir aus dem konkreten Vorgehen von Polizei und Staatsschutz im sogenannten „Budapest-Komplex“ für unsere weitere politische Arbeit ziehen können. \n\n\n\nAls Gäste haben wir zwei Personen aus dem Solikreis für Hannah aus Nürnberg eingeladen\, die teilweise auch den Prozess von Maja in Budapest beobachtet haben.
URL:https://auxpunks.uber.space/event/%e2%81%a8rote-hilfe-vortrag-zum-tag-der-politischen-gefangenen/
LOCATION:Die Ganze Bäckerei; Frauentorstraße 34\, 86152 Augsburg
CATEGORIES:Konzerte & Feiern,Vorträge, Filme & Workshops
ATTACH;FMTTYPE=image/jpeg:https://auxpunks.uber.space/wp-content/uploads/2026/03/signal-2026-03-11-152147_002.jpeg
END:VEVENT
BEGIN:VEVENT
DTSTART;TZID=Europe/Berlin:20251023T180000
DTEND;TZID=Europe/Berlin:20251023T234500
DTSTAMP:20260423T152332
CREATED:20251016T162331Z
LAST-MODIFIED:20251016T162534Z
UID:10015908-1761242400-1761263100@auxpunks.uber.space
SUMMARY:Auftakt Thekenabend der Linken Einführungswochen
DESCRIPTION:Herzlich Willkommen zum Auftakt-Thekenabend der Linken Einführungswochen in der Ganzen Bäckerei \n\n\n\nIn unserem linken Infoladen (Frauentorstr. 34) wollen wir euch einladen zu kühlen Getränken\, leckerem Essen und netten Gesprächen. Ihr könnt mit Menschen von verschiedenen Orgas ins Gespräch kommen oder einfach eine Limo trinken und eine Runde Kickern.  \n\n\n\nEs wird an dem Abend auch Kartentausch geben. Bringt also Bargeld mit und holt euch Gutscheine\, um euch damit solidarisch gegen die rassistische Bezahlkartenpraxis oder Bundesregierung zu stellen.  \n\n\n\nWir freuen uns auf euch!
URL:https://auxpunks.uber.space/event/auftakt-thekenabend-der-linken-einfuehrungswochen/
LOCATION:Die Ganze Bäckerei; Frauentorstraße 34\, 86152 Augsburg
CATEGORIES:Highlights,Linke Einführungswochen 2025
ATTACH;FMTTYPE=image/jpeg:https://auxpunks.uber.space/wp-content/uploads/2025/10/signal-2025-10-16-180102_002.jpeg
END:VEVENT
BEGIN:VEVENT
DTSTART;TZID=Europe/Berlin:20250703T200000
DTEND;TZID=Europe/Berlin:20250703T230000
DTSTAMP:20260423T152332
CREATED:20250629T140935Z
LAST-MODIFIED:20250629T141136Z
UID:10015463-1751572800-1751583600@auxpunks.uber.space
SUMMARY:Konsumfreier und -kritischer Thekenabend
DESCRIPTION:Anarchie und Alkohol? \nBetrunken\, dicht\, zu\, berauscht\, blau\, breit\, voll\, besoffen\, knülle.\n– ist das jetzt dieser Anarchismus? \nIch sehe das Grinsen auf deinem Gesicht: Sind diese Anarchist*innen so verspannt\, dass sie über den einzig spaßigen Aspekt des Anarchismus urteilen – das Bier nach dem Krawall\, dem Alkohol in der Kneipe wo all diese leeren Versprechungen verbreitet werden? Was machen die überhaupt um Spaß zu haben – ein schlechtes Bild werfen auf den bisschen Spaß\, den wir haben? Können wir nicht einen Moment entspannen und eine gute Zeit haben?  \nKlar\, können wir\, aber geht das etwa nur mit Konsum? \nUnd was wäre eigentlich\, wenn die ganze Energie die beim Trinken draufgeht\, in den Widerstand\, in etwas Bauen und Erschaffen gesteckt wird. Versuche all das Geld\, dass Anarchist*innen deiner Gemeinschaft zur Umsatzsteigerung von Spirituosenhersteller*innen versoffen haben\, all die Zeit die ins Besaufen und wieder Auskatern geflossen ist zusammen zu zählen und stell dir vor\, wie viele Musikinstrumente oder Repressionsmaßnahmen oder Küfas oder kollektive Projekte damit hätten bezahlt und gestemmt werden können.  \nAnarchie und Alkohol?\nEin konsumfreier und -kritischer Thekenabend der Autonomen Bande Auxburg\n3. Juli\n20 Uhr\nin der Ganzen Bäckerei
URL:https://auxpunks.uber.space/event/konsumfreier-und-kritischer-thekenabend/
LOCATION:Die Ganze Bäckerei; Frauentorstraße 34\, 86152 Augsburg
CATEGORIES:Konzerte & Feiern
END:VEVENT
END:VCALENDAR